BEGIN:VCALENDAR
VERSION:2.0
PRODID:-//Network.Vegas - ECPv6.15.20//NONSGML v1.0//EN
CALSCALE:GREGORIAN
METHOD:PUBLISH
X-WR-CALNAME:Network.Vegas
X-ORIGINAL-URL:https://network.vegas
X-WR-CALDESC:Events for Network.Vegas
REFRESH-INTERVAL;VALUE=DURATION:PT1H
X-Robots-Tag:noindex
X-PUBLISHED-TTL:PT1H
BEGIN:VTIMEZONE
TZID:America/Los_Angeles
BEGIN:DAYLIGHT
TZOFFSETFROM:-0800
TZOFFSETTO:-0700
TZNAME:PDT
DTSTART:20230312T100000
END:DAYLIGHT
BEGIN:STANDARD
TZOFFSETFROM:-0700
TZOFFSETTO:-0800
TZNAME:PST
DTSTART:20231105T090000
END:STANDARD
BEGIN:DAYLIGHT
TZOFFSETFROM:-0800
TZOFFSETTO:-0700
TZNAME:PDT
DTSTART:20240310T100000
END:DAYLIGHT
BEGIN:STANDARD
TZOFFSETFROM:-0700
TZOFFSETTO:-0800
TZNAME:PST
DTSTART:20241103T090000
END:STANDARD
BEGIN:DAYLIGHT
TZOFFSETFROM:-0800
TZOFFSETTO:-0700
TZNAME:PDT
DTSTART:20250309T100000
END:DAYLIGHT
BEGIN:STANDARD
TZOFFSETFROM:-0700
TZOFFSETTO:-0800
TZNAME:PST
DTSTART:20251102T090000
END:STANDARD
BEGIN:DAYLIGHT
TZOFFSETFROM:-0800
TZOFFSETTO:-0700
TZNAME:PDT
DTSTART:20260308T100000
END:DAYLIGHT
BEGIN:STANDARD
TZOFFSETFROM:-0700
TZOFFSETTO:-0800
TZNAME:PST
DTSTART:20261101T090000
END:STANDARD
BEGIN:DAYLIGHT
TZOFFSETFROM:-0800
TZOFFSETTO:-0700
TZNAME:PDT
DTSTART:20270314T100000
END:DAYLIGHT
BEGIN:STANDARD
TZOFFSETFROM:-0700
TZOFFSETTO:-0800
TZNAME:PST
DTSTART:20271107T090000
END:STANDARD
END:VTIMEZONE
BEGIN:VEVENT
DTSTART;TZID=America/Los_Angeles:20260207T130000
DTEND;TZID=America/Los_Angeles:20260207T160000
DTSTAMP:20260420T064216
CREATED:20260129T230018Z
LAST-MODIFIED:20260129T230018Z
UID:51798-1770469200-1770480000@network.vegas
SUMMARY:End Polio Now Pickleball Event
DESCRIPTION:Often\, we are asked to give to causes that feel important—but distant. Ending polio is different. For the first time in history\, we are on the brink of eradicating a disease from the face of the earth\, and Rotary has led the charge every step of the way.  Now is the moment to finish what we started! \nYou are invited to join us for an exciting and meaningful End Polio Now Pickleball Event at Chicken N Pickle\, where community\, connection\, and purpose come together for one powerful goal: a polio-free world. \nWhether you play pickleball or simply come to cheer and connect\, your participation helps move us closer to a history-making impact. Together\, we can help ensure that polio is eradicated—forever. \nThis event is open to the public. We hope to see you on the court!
URL:https://network.vegas/calendar/end-polio-now-pickleball-event/
LOCATION:Chicken N Pickle Henderson\, 3381 St. Rose Parkway\, Henderson\, NV\, 89052\, United States
CATEGORIES:Community
ATTACH;FMTTYPE=image/png:https://network.vegas/wp-content/uploads/2026/01/Pickleball-Polio-Flyer-D1Omet.png
END:VEVENT
BEGIN:VEVENT
DTSTART;TZID=America/Los_Angeles:20260129T121500
DTEND;TZID=America/Los_Angeles:20260129T133000
DTSTAMP:20260420T064216
CREATED:20260108T204908Z
LAST-MODIFIED:20260129T230018Z
UID:51177-1769688900-1769693400@network.vegas
SUMMARY:Contestants\, 4 Way Speech – Club level
DESCRIPTION:
URL:https://network.vegas/calendar/contestants-4-way-speech-club-level/
CATEGORIES:Community
END:VEVENT
BEGIN:VEVENT
DTSTART;TZID=America/Los_Angeles:20260122T121500
DTEND;TZID=America/Los_Angeles:20260122T133000
DTSTAMP:20260420T064216
CREATED:20260108T204908Z
LAST-MODIFIED:20260108T204908Z
UID:51179-1769084100-1769088600@network.vegas
SUMMARY:Ciara Byrne\, GoP Financial Literacy
DESCRIPTION:
URL:https://network.vegas/calendar/ciara-byrne-gop-financial-literacy/
LOCATION:Lawry’s The Prime Rib\, 4043 Howard Hughes Pkwy\, Las Vegas\, NE\, 89169\, United States
CATEGORIES:Community
END:VEVENT
BEGIN:VEVENT
DTSTART;TZID=America/Los_Angeles:20260115T121500
DTEND;TZID=America/Los_Angeles:20260115T133000
DTSTAMP:20260420T064216
CREATED:20260108T204908Z
LAST-MODIFIED:20260108T204908Z
UID:51178-1768479300-1768483800@network.vegas
SUMMARY:Sherry Morrow\, Nevada State Medical Association
DESCRIPTION:
URL:https://network.vegas/calendar/sherry-morrow-nevada-state-medical-association/
LOCATION:Lawry’s The Prime Rib\, 4043 Howard Hughes Pkwy\, Las Vegas\, NE\, 89169\, United States
CATEGORIES:Community
END:VEVENT
BEGIN:VEVENT
DTSTART;TZID=America/Los_Angeles:20260108T121500
DTEND;TZID=America/Los_Angeles:20260108T133000
DTSTAMP:20260420T064216
CREATED:20251209T204910Z
LAST-MODIFIED:20260108T204908Z
UID:50783-1767874500-1767879000@network.vegas
SUMMARY:Diana Bennett\, Rebels-EmpowHer – Founder
DESCRIPTION:
URL:https://network.vegas/calendar/diana-bennett-rebels-empowher-founder/
LOCATION:Lawry’s The Prime Rib\, 4043 Howard Hughes Pkwy\, Las Vegas\, NE\, 89169\, United States
CATEGORIES:Community
END:VEVENT
BEGIN:VEVENT
DTSTART;TZID=America/Los_Angeles:20251218T121500
DTEND;TZID=America/Los_Angeles:20251218T133000
DTSTAMP:20260420T064216
CREATED:20251209T204910Z
LAST-MODIFIED:20251209T204910Z
UID:50782-1766060100-1766064600@network.vegas
SUMMARY:Winston Fisher\, Area 15 – CEO
DESCRIPTION:
URL:https://network.vegas/calendar/winston-fisher-area-15-ceo/
LOCATION:Lawry’s The Prime Rib\, 4043 Howard Hughes Pkwy\, Las Vegas\, NE\, 89169\, United States
CATEGORIES:Community
END:VEVENT
BEGIN:VEVENT
DTSTART;TZID=America/Los_Angeles:20251211T121500
DTEND;TZID=America/Los_Angeles:20251211T133000
DTSTAMP:20260420T064216
CREATED:20251209T204910Z
LAST-MODIFIED:20251209T204910Z
UID:50781-1765455300-1765459800@network.vegas
SUMMARY:Robbie Brown\, LV Search & Rescue; Deputy Commander Community Outreach
DESCRIPTION:
URL:https://network.vegas/calendar/robbie-brown-lv-search-rescue-deputy-commander-community-outreach/
LOCATION:Lawry’s The Prime Rib\, 4043 Howard Hughes Pkwy\, Las Vegas\, NE\, 89169\, United States
CATEGORIES:Community
END:VEVENT
BEGIN:VEVENT
DTSTART;TZID=America/Los_Angeles:20251126T121500
DTEND;TZID=America/Los_Angeles:20251126T133000
DTSTAMP:20260420T064216
CREATED:20251109T204909Z
LAST-MODIFIED:20251109T204909Z
UID:50337-1764159300-1764163800@network.vegas
SUMMARY:Jhone Ebert\, Joint with Kiwanis Club – Superintendent Clark County Schools
DESCRIPTION:
URL:https://network.vegas/calendar/jhone-ebert-joint-with-kiwanis-club-superintendent-clark-county-schools/
LOCATION:Lawry’s The Prime Rib\, 4043 Howard Hughes Pkwy\, Las Vegas\, NE\, 89169\, United States
CATEGORIES:Community
END:VEVENT
BEGIN:VEVENT
DTSTART;TZID=America/Los_Angeles:20251113T121500
DTEND;TZID=America/Los_Angeles:20251113T133000
DTSTAMP:20260420T064216
CREATED:20251109T204909Z
LAST-MODIFIED:20251109T204909Z
UID:50336-1763036100-1763040600@network.vegas
SUMMARY:Tim Keener\, President – Las Vegas Events – NFR
DESCRIPTION:Tim Keener brings more than three decades of experience in the development\, operations\, and management of major sports and special events. \nA graduate of West Virginia University with degrees in Business Administration and Sports Administration\, Tim began his career in Charlotte\, working with Raycom Sports\, GNI Sport\, and ESPN Regional Television. At ESPN\, he oversaw event operations and budgeting for collegiate basketball\, football\, and golf events\, including the Las Vegas Showdown where he first collaborated with UNLV and the Las Vegas Convention and Visitors Authority. \nIn 2003\, Tim joined Las Vegas Events\, where for over 20 years he has managed event operations\, ticketing\, sponsorship fulfillment\, and game-day execution for many of the city’s signature events. His portfolio includes the Wrangler National Finals Rodeo\, Cowboy Channel Cowboy Christmas\, FEI World Cup Finals\, SCORE Off-Road Racing\, USA Basketball exhibitions\, and NCAA Championships. \nTim has directed six FEI World Cup Finals\, coordinated all aspects of America’s Party Fireworks Show\, and oversees the NCAA Championship bid process\, including the upcoming 2026 NCAA Frozen Four. \nIn 2023\, Tim was named President of Las Vegas Events\, where he continues to lead the organization’s mission to strengthen Las Vegas’ position as the world’s premier destination for special events.
URL:https://network.vegas/calendar/tim-keener-president-las-vegas-events-nfr/
LOCATION:Lawry’s The Prime Rib\, 4043 Howard Hughes Pkwy\, Las Vegas\, NE\, 89169\, United States
CATEGORIES:Community
END:VEVENT
BEGIN:VEVENT
DTSTART;TZID=America/Los_Angeles:20251030T120000
DTEND;TZID=America/Los_Angeles:20251030T120000
DTSTAMP:20260420T064216
CREATED:20251010T204912Z
LAST-MODIFIED:20251010T204912Z
UID:49492-1761825600-1761825600@network.vegas
SUMMARY:Dr. Jeffrey Cummings/Dr. Kate Zhong\, Alzheimer Ambassadors
DESCRIPTION:
URL:https://network.vegas/calendar/dr-jeffrey-cummings-dr-kate-zhong-alzheimer-ambassadors/
LOCATION:Lawry’s The Prime Rib\, 4043 Howard Hughes Pkwy\, Las Vegas\, NE\, 89169\, United States
CATEGORIES:Community
END:VEVENT
BEGIN:VEVENT
DTSTART;TZID=America/Los_Angeles:20251023T120000
DTEND;TZID=America/Los_Angeles:20251023T120000
DTSTAMP:20260420T064216
CREATED:20251010T204912Z
LAST-MODIFIED:20251010T204912Z
UID:49491-1761220800-1761220800@network.vegas
SUMMARY:Jared Smith\, Economic Development & Tourism Director for the City of Henderson
DESCRIPTION:
URL:https://network.vegas/calendar/jared-smith-economic-development-tourism-director-for-the-city-of-henderson/
LOCATION:Lawry’s The Prime Rib\, 4043 Howard Hughes Pkwy\, Las Vegas\, NE\, 89169\, United States
CATEGORIES:Community
END:VEVENT
BEGIN:VEVENT
DTSTART;TZID=America/Los_Angeles:20251021T073000
DTEND;TZID=America/Los_Angeles:20251021T073000
DTSTAMP:20260420T064216
CREATED:20251010T204912Z
LAST-MODIFIED:20251010T204912Z
UID:49488-1761031800-1761031800@network.vegas
SUMMARY:Beckley – Breakfast/Snack Time with Books
DESCRIPTION:For inquiries\, contact Shawn Noorda at admin@lasvegasrotary.com
URL:https://network.vegas/calendar/beckley-breakfast-snack-time-with-books/
CATEGORIES:Community
END:VEVENT
BEGIN:VEVENT
DTSTART;TZID=America/Los_Angeles:20251018T080000
DTEND;TZID=America/Los_Angeles:20251018T150000
DTSTAMP:20260420T064216
CREATED:20251010T204911Z
LAST-MODIFIED:20251010T204911Z
UID:49486-1760774400-1760799600@network.vegas
SUMMARY:Rotary Park Clean-up
DESCRIPTION:For inquiries\, contact Shawn Noorda at admin@lasvegasrotary.com
URL:https://network.vegas/calendar/rotary-park-clean-up/
CATEGORIES:Community
END:VEVENT
BEGIN:VEVENT
DTSTART;TZID=America/Los_Angeles:20251018T080000
DTEND;TZID=America/Los_Angeles:20251018T080000
DTSTAMP:20260420T064216
CREATED:20251010T204911Z
LAST-MODIFIED:20251010T204911Z
UID:49487-1760774400-1760774400@network.vegas
SUMMARY:One Drop Walk for Water
DESCRIPTION:For inquiries\, contact Shawn Noorda at admin@lasvegasrotary.com
URL:https://network.vegas/calendar/one-drop-walk-for-water/
CATEGORIES:Community
END:VEVENT
BEGIN:VEVENT
DTSTART;TZID=America/Los_Angeles:20251016T120000
DTEND;TZID=America/Los_Angeles:20251016T120000
DTSTAMP:20260420T064216
CREATED:20251010T204911Z
LAST-MODIFIED:20251010T204911Z
UID:49485-1760616000-1760616000@network.vegas
SUMMARY:Peter Zierhut\, VP of Outside Operations at HAAS Automation
DESCRIPTION:
URL:https://network.vegas/calendar/peter-zierhut-vp-of-outside-operations-at-haas-automation/
LOCATION:Lawry’s The Prime Rib\, 4043 Howard Hughes Pkwy\, Las Vegas\, NE\, 89169\, United States
CATEGORIES:Community
END:VEVENT
BEGIN:VEVENT
DTSTART;TZID=America/Los_Angeles:20251016T070000
DTEND;TZID=America/Los_Angeles:20251016T070000
DTSTAMP:20260420T064216
CREATED:20251010T204911Z
LAST-MODIFIED:20251010T204911Z
UID:49484-1760598000-1760598000@network.vegas
SUMMARY:Green Our Planet: Fall Giant Student’s Farmers Market
DESCRIPTION:For inquiries\, contact Shawn Noorda at admin@lasvegasrotary.com
URL:https://network.vegas/calendar/green-our-planet-fall-giant-students-farmers-market/
CATEGORIES:Community
END:VEVENT
BEGIN:VEVENT
DTSTART;TZID=America/Los_Angeles:20240608T000000
DTEND;TZID=America/Los_Angeles:20240608T000000
DTSTAMP:20260420T064216
CREATED:20240606T220406Z
LAST-MODIFIED:20240606T220406Z
UID:38129-1717804800-1717804800@network.vegas
SUMMARY:Beach Clean up for World Ocean Day 7:30 am
DESCRIPTION:
URL:https://network.vegas/calendar/beach-clean-up-for-world-ocean-day-730-am/
CATEGORIES:Community
END:VEVENT
BEGIN:VEVENT
DTSTART;TZID=America/Los_Angeles:20240607T000000
DTEND;TZID=America/Los_Angeles:20240607T000000
DTSTAMP:20260420T064216
CREATED:20240606T220406Z
LAST-MODIFIED:20240606T220406Z
UID:38128-1717718400-1717718400@network.vegas
SUMMARY:VIP Tour.  Advanced Engineering Building at UNLV 2:00 pm
DESCRIPTION:
URL:https://network.vegas/calendar/vip-tour-advanced-engineering-building-at-unlv-200-pm/
CATEGORIES:Community
END:VEVENT
BEGIN:VEVENT
DTSTART;TZID=America/Los_Angeles:20240516T120000
DTEND;TZID=America/Los_Angeles:20240516T140000
DTSTAMP:20260420T064216
CREATED:20240507T220416Z
LAST-MODIFIED:20240507T220416Z
UID:37703-1715860800-1715868000@network.vegas
SUMMARY:Dean Nancy Usher\, UNLV Fine Arts
DESCRIPTION:
URL:https://network.vegas/calendar/dean-nancy-usher-unlv-fine-arts/
LOCATION:Lawry’s The Prime Rib\, 4043 Howard Hughes Pkwy\, Las Vegas\, NE\, 89169\, United States
CATEGORIES:Community
END:VEVENT
BEGIN:VEVENT
DTSTART;TZID=America/Los_Angeles:20240512T000000
DTEND;TZID=America/Los_Angeles:20240512T150000
DTSTAMP:20260420T064216
CREATED:20240507T220415Z
LAST-MODIFIED:20240507T220415Z
UID:37702-1715472000-1715526000@network.vegas
SUMMARY:NV High School Musical Awards\, Smith Center 3:00 pm
DESCRIPTION:
URL:https://network.vegas/calendar/nv-high-school-musical-awards-smith-center-300-pm/
CATEGORIES:Community
END:VEVENT
BEGIN:VEVENT
DTSTART;TZID=America/Los_Angeles:20240509T120000
DTEND;TZID=America/Los_Angeles:20240509T140000
DTSTAMP:20260420T064216
CREATED:20240507T220412Z
LAST-MODIFIED:20240507T220412Z
UID:37701-1715256000-1715263200@network.vegas
SUMMARY:Amy Mewborn\, Ted Talk
DESCRIPTION:
URL:https://network.vegas/calendar/amy-mewborn-ted-talk/
LOCATION:Lawry’s The Prime Rib\, 4043 Howard Hughes Pkwy\, Las Vegas\, NE\, 89169\, United States
CATEGORIES:Community
END:VEVENT
END:VCALENDAR