BEGIN:VCALENDAR
VERSION:2.0
PRODID:-//Network.Vegas - ECPv6.15.20//NONSGML v1.0//EN
CALSCALE:GREGORIAN
METHOD:PUBLISH
X-WR-CALNAME:Network.Vegas
X-ORIGINAL-URL:https://network.vegas
X-WR-CALDESC:Events for Network.Vegas
REFRESH-INTERVAL;VALUE=DURATION:PT1H
X-Robots-Tag:noindex
X-PUBLISHED-TTL:PT1H
BEGIN:VTIMEZONE
TZID:America/Los_Angeles
BEGIN:DAYLIGHT
TZOFFSETFROM:-0800
TZOFFSETTO:-0700
TZNAME:PDT
DTSTART:20250309T100000
END:DAYLIGHT
BEGIN:STANDARD
TZOFFSETFROM:-0700
TZOFFSETTO:-0800
TZNAME:PST
DTSTART:20251102T090000
END:STANDARD
BEGIN:DAYLIGHT
TZOFFSETFROM:-0800
TZOFFSETTO:-0700
TZNAME:PDT
DTSTART:20260308T100000
END:DAYLIGHT
BEGIN:STANDARD
TZOFFSETFROM:-0700
TZOFFSETTO:-0800
TZNAME:PST
DTSTART:20261101T090000
END:STANDARD
BEGIN:DAYLIGHT
TZOFFSETFROM:-0800
TZOFFSETTO:-0700
TZNAME:PDT
DTSTART:20270314T100000
END:DAYLIGHT
BEGIN:STANDARD
TZOFFSETFROM:-0700
TZOFFSETTO:-0800
TZNAME:PST
DTSTART:20271107T090000
END:STANDARD
END:VTIMEZONE
BEGIN:VEVENT
DTSTART;TZID=America/Los_Angeles:20260421T113000
DTEND;TZID=America/Los_Angeles:20260421T130000
DTSTAMP:20260421T160621
CREATED:20260406T172011Z
LAST-MODIFIED:20260406T172115Z
UID:53121-1776771000-1776776400@network.vegas
SUMMARY:IREM April 2026 Luncheon
DESCRIPTION:$500 Luncheon Sponsorship includes: 2 attendee registrations; logo on email blast\, website\, and luncheon photos for this event; bring your Company promotional items for the tables; allowed a few minutes to speak about your services to the attendees  
URL:https://network.vegas/calendar/irem-april-2026-luncheon/
LOCATION:Fogo de Chao\, 360 E Flamingo Rd\, Las Vegas\, Las Vegas\, Nevada\, 89121\, United States
CATEGORIES:Featured,Networking
ATTACH;FMTTYPE=image/png:https://network.vegas/wp-content/uploads/2026/04/image-7.png
END:VEVENT
BEGIN:VEVENT
DTSTART;TZID=America/Los_Angeles:20260317T113000
DTEND;TZID=America/Los_Angeles:20260317T130000
DTSTAMP:20260421T160621
CREATED:20260314T120822Z
LAST-MODIFIED:20260314T120830Z
UID:52578-1773747000-1773752400@network.vegas
SUMMARY:IREM March 2026 Luncheon
DESCRIPTION:
URL:https://network.vegas/calendar/irem-march-2026-luncheon/
LOCATION:Fogo de Chao\, 360 E Flamingo Rd\, Las Vegas\, Las Vegas\, Nevada\, 89121\, United States
CATEGORIES:Featured,Networking
ATTACH;FMTTYPE=image/png:https://network.vegas/wp-content/uploads/2026/03/image-7.png
END:VEVENT
BEGIN:VEVENT
DTSTART;TZID=America/Los_Angeles:20260121T080000
DTEND;TZID=America/Los_Angeles:20260121T110000
DTSTAMP:20260421T160621
CREATED:20251211T080711Z
LAST-MODIFIED:20251211T080712Z
UID:50808-1768982400-1768993200@network.vegas
SUMMARY:IREM | BOMA 2026 Forecast
DESCRIPTION:The IREM | BOMA 2026 Forecast is an upcoming industry event scheduled for Wednesday\, January 21\, 2026\, at The Orleans Hotel & Casino in Las Vegas. Running from 8:00 AM to 11:00 AM\, this meeting invites real estate and construction professionals to gather for networking and an informative presentation on market outlooks for the year ahead. The session is designed to provide property managers and industry partners with critical data and trends to assist in their strategic planning. Registration is open for those interested in connecting with peers and gaining a comprehensive view of the 2026 landscape.
URL:https://network.vegas/calendar/irem-boma-2026-forecast-2/
LOCATION:The Orleans Hotel & Casino – Mardi Gras Ballroom\, 4500 W Tropicana Avenue\, Las Vegas\, NV\, 89103\, United States
CATEGORIES:Featured,Networking
ATTACH;FMTTYPE=image/png:https://network.vegas/wp-content/uploads/2025/12/image-4.png
GEO:36.1027192;-115.201984
X-APPLE-STRUCTURED-LOCATION;VALUE=URI;X-ADDRESS=The Orleans Hotel & Casino – Mardi Gras Ballroom 4500 W Tropicana Avenue Las Vegas NV 89103 United States;X-APPLE-RADIUS=500;X-TITLE=4500 W Tropicana Avenue:geo:-115.201984,36.1027192
END:VEVENT
END:VCALENDAR