BEGIN:VCALENDAR
VERSION:2.0
PRODID:-//Network.Vegas - ECPv6.15.20//NONSGML v1.0//EN
CALSCALE:GREGORIAN
METHOD:PUBLISH
X-WR-CALNAME:Network.Vegas
X-ORIGINAL-URL:https://network.vegas
X-WR-CALDESC:Events for Network.Vegas
REFRESH-INTERVAL;VALUE=DURATION:PT1H
X-Robots-Tag:noindex
X-PUBLISHED-TTL:PT1H
BEGIN:VTIMEZONE
TZID:America/Los_Angeles
BEGIN:DAYLIGHT
TZOFFSETFROM:-0800
TZOFFSETTO:-0700
TZNAME:PDT
DTSTART:20230312T100000
END:DAYLIGHT
BEGIN:STANDARD
TZOFFSETFROM:-0700
TZOFFSETTO:-0800
TZNAME:PST
DTSTART:20231105T090000
END:STANDARD
BEGIN:DAYLIGHT
TZOFFSETFROM:-0800
TZOFFSETTO:-0700
TZNAME:PDT
DTSTART:20240310T100000
END:DAYLIGHT
BEGIN:STANDARD
TZOFFSETFROM:-0700
TZOFFSETTO:-0800
TZNAME:PST
DTSTART:20241103T090000
END:STANDARD
BEGIN:DAYLIGHT
TZOFFSETFROM:-0800
TZOFFSETTO:-0700
TZNAME:PDT
DTSTART:20250309T100000
END:DAYLIGHT
BEGIN:STANDARD
TZOFFSETFROM:-0700
TZOFFSETTO:-0800
TZNAME:PST
DTSTART:20251102T090000
END:STANDARD
END:VTIMEZONE
BEGIN:VEVENT
DTSTART;TZID=America/Los_Angeles:20240724T163000
DTEND;TZID=America/Los_Angeles:20240724T190000
DTSTAMP:20260420T042409
CREATED:20240714T134948Z
LAST-MODIFIED:20240714T134953Z
UID:38606-1721838600-1721847600@network.vegas
SUMMARY:CHRISTMAS IN JULY
DESCRIPTION:
URL:https://network.vegas/calendar/christmas-in-july/
LOCATION:Rockstar Bar at The Las Vegas Golf Center\, 6730 Las Vegas Blvd S Las Vegas\, NV 89119\, Las Vegas
CATEGORIES:Professional Association,Real Estate & Construction
ATTACH;FMTTYPE=image/png:https://network.vegas/wp-content/uploads/2021/07/IREM-Banner.png
END:VEVENT
BEGIN:VEVENT
DTSTART;TZID=America/Los_Angeles:20240716T113000
DTEND;TZID=America/Los_Angeles:20240716T130000
DTSTAMP:20260420T042409
CREATED:20240714T135219Z
LAST-MODIFIED:20240714T135223Z
UID:38608-1721129400-1721134800@network.vegas
SUMMARY:IREM July 2024 Luncheon
DESCRIPTION:
URL:https://network.vegas/calendar/irem-july-2024-luncheon/
LOCATION:Fogo de Chao\, 360 E Flamingo Rd\, Las Vegas\, Las Vegas\, Nevada\, 89121\, United States
CATEGORIES:Networking,Professional Association,Real Estate & Construction
ATTACH;FMTTYPE=image/png:https://network.vegas/wp-content/uploads/2021/07/IREM-Banner.png
END:VEVENT
BEGIN:VEVENT
DTSTART;TZID=America/Los_Angeles:20240618T113000
DTEND;TZID=America/Los_Angeles:20240618T130000
DTSTAMP:20260420T042409
CREATED:20240614T225058Z
LAST-MODIFIED:20240614T225101Z
UID:38240-1718710200-1718715600@network.vegas
SUMMARY:IREM June 2024 Luncheon
DESCRIPTION:
URL:https://network.vegas/calendar/irem-june-2024-luncheon/
LOCATION:Fogo de Chao\, 360 E Flamingo Rd\, Las Vegas\, Las Vegas\, Nevada\, 89121\, United States
CATEGORIES:Networking,Professional Association
ATTACH;FMTTYPE=image/png:https://network.vegas/wp-content/uploads/2021/07/IREM-Banner.png
END:VEVENT
BEGIN:VEVENT
DTSTART;TZID=America/Los_Angeles:20240521T113000
DTEND;TZID=America/Los_Angeles:20240521T130000
DTSTAMP:20260420T042409
CREATED:20240517T170203Z
LAST-MODIFIED:20240517T170210Z
UID:37912-1716291000-1716296400@network.vegas
SUMMARY:IREM May 2024 Luncheon
DESCRIPTION:
URL:https://network.vegas/calendar/irem-may-2024-luncheon/
LOCATION:Fogo de Chao\, 360 E Flamingo Rd\, Las Vegas\, Las Vegas\, Nevada\, 89121\, United States
CATEGORIES:Networking,Professional Association
ATTACH;FMTTYPE=image/png:https://network.vegas/wp-content/uploads/2021/07/IREM-Banner.png
END:VEVENT
BEGIN:VEVENT
DTSTART;TZID=America/Los_Angeles:20240503T060000
DTEND;TZID=America/Los_Angeles:20240503T150000
DTSTAMP:20260420T042409
CREATED:20240420T105047Z
LAST-MODIFIED:20240420T105050Z
UID:36530-1714716000-1714748400@network.vegas
SUMMARY:IREM 2024 Golf Tournament
DESCRIPTION:We are so excited for you to join us at IREM’s 5th Annual Mark Anderson Memorial Golf Tournament on Friday\, May 3\, 2024.  Please continue to visit our website for new updates and information.
URL:https://network.vegas/calendar/irem-2024-golf-tournament/
LOCATION:Angel Park Golf Course\, 100 S. Rampart Blvd Las Vegas\, NV 89145\, Las Vegas
CATEGORIES:Professional Association
ATTACH;FMTTYPE=image/png:https://network.vegas/wp-content/uploads/2021/07/IREM-Banner.png
END:VEVENT
BEGIN:VEVENT
DTSTART;TZID=America/Los_Angeles:20240416T113000
DTEND;TZID=America/Los_Angeles:20240416T130000
DTSTAMP:20260420T042409
CREATED:20240406T075018Z
LAST-MODIFIED:20240406T075021Z
UID:36111-1713267000-1713272400@network.vegas
SUMMARY:IREM April 2024 Luncheon
DESCRIPTION:
URL:https://network.vegas/calendar/irem-april-2024-luncheon/
LOCATION:Fogo de Chao\, 360 E Flamingo Rd\, Las Vegas\, Las Vegas\, Nevada\, 89121\, United States
CATEGORIES:Professional Association,Real Estate & Construction
ATTACH;FMTTYPE=image/png:https://network.vegas/wp-content/uploads/2021/07/IREM-Banner.png
END:VEVENT
BEGIN:VEVENT
DTSTART;TZID=America/Los_Angeles:20240413T080000
DTEND;TZID=America/Los_Angeles:20240413T120000
DTSTAMP:20260420T042409
CREATED:20240406T075122Z
LAST-MODIFIED:20240406T075126Z
UID:36114-1712995200-1713009600@network.vegas
SUMMARY:IREM RMHC 5K Run
DESCRIPTION:
URL:https://network.vegas/calendar/irem-rmhc-5k-run/
LOCATION:Floyd Lamb Park\, 9200 Tule Springs Rd\, Las Vegas\, Nevada\, 89131
CATEGORIES:Fundraiser/ Benefit,Professional Association
ATTACH;FMTTYPE=image/png:https://network.vegas/wp-content/uploads/2021/07/IREM-Banner.png
END:VEVENT
BEGIN:VEVENT
DTSTART;TZID=America/Los_Angeles:20240321T163000
DTEND;TZID=America/Los_Angeles:20240321T190000
DTSTAMP:20260420T042409
CREATED:20240308T120616Z
LAST-MODIFIED:20240308T120620Z
UID:35525-1711038600-1711047600@network.vegas
SUMMARY:IREM Professionals Networking Mixer
DESCRIPTION:
URL:https://network.vegas/calendar/irem-professionals-networking-mixer-2/
LOCATION:Taigate Social\, 2411 W Sahara Las Vegas\, NV 89102\, Las Vegas
CATEGORIES:Professional Association
ATTACH;FMTTYPE=image/png:https://network.vegas/wp-content/uploads/2021/07/IREM-Banner.png
END:VEVENT
END:VCALENDAR