BEGIN:VCALENDAR
VERSION:2.0
PRODID:-//Network.Vegas - ECPv6.15.20//NONSGML v1.0//EN
CALSCALE:GREGORIAN
METHOD:PUBLISH
X-WR-CALNAME:Network.Vegas
X-ORIGINAL-URL:https://network.vegas
X-WR-CALDESC:Events for Network.Vegas
REFRESH-INTERVAL;VALUE=DURATION:PT1H
X-Robots-Tag:noindex
X-PUBLISHED-TTL:PT1H
BEGIN:VTIMEZONE
TZID:America/Los_Angeles
BEGIN:DAYLIGHT
TZOFFSETFROM:-0800
TZOFFSETTO:-0700
TZNAME:PDT
DTSTART:20240310T100000
END:DAYLIGHT
BEGIN:STANDARD
TZOFFSETFROM:-0700
TZOFFSETTO:-0800
TZNAME:PST
DTSTART:20241103T090000
END:STANDARD
BEGIN:DAYLIGHT
TZOFFSETFROM:-0800
TZOFFSETTO:-0700
TZNAME:PDT
DTSTART:20250309T100000
END:DAYLIGHT
BEGIN:STANDARD
TZOFFSETFROM:-0700
TZOFFSETTO:-0800
TZNAME:PST
DTSTART:20251102T090000
END:STANDARD
BEGIN:DAYLIGHT
TZOFFSETFROM:-0800
TZOFFSETTO:-0700
TZNAME:PDT
DTSTART:20260308T100000
END:DAYLIGHT
BEGIN:STANDARD
TZOFFSETFROM:-0700
TZOFFSETTO:-0800
TZNAME:PST
DTSTART:20261101T090000
END:STANDARD
END:VTIMEZONE
BEGIN:VEVENT
DTSTART;TZID=America/Los_Angeles:20251007T000000
DTEND;TZID=America/Los_Angeles:20251009T235959
DTSTAMP:20260422T131328
CREATED:20251003T225224Z
LAST-MODIFIED:20251003T225224Z
UID:49315-1759795200-1760054399@network.vegas
SUMMARY:IMEX
DESCRIPTION:@ 			\n			\n							 \n\n\nThe heartbeat of the global business events industry. \nThe largest trade show for the business events industry\nIMEX America is a premier trade show for the global meetings\, events\, and incentive travel industry. This event brings together thousands of event professionals\, exhibitors\, and speakers from around the world for three days of business\, networking\, and professional development. Attendees can discover the latest trends and innovations in the industry\, connect with suppliers and venues\, and gain valuable insights from expert-led education sessions. Whether you’re a meeting planner\, an exhibitor\, or an event professional\, IMEX America offers a unique opportunity to grow your business and expand your network. \n\n\n\n\n\n\n						\n	\n	\n\n						\n							Add to calendar						\n						\n	\n\n					\n\n\n\n									\n										Google Calendar									\n								\n\n									\n										iCalendar									\n								\n\n									\n										Outlook 365									\n								\n\n									\n										Outlook Live
URL:https://network.vegas/calendar/imex/
LOCATION:Mandalay Bay Convention Center\, 3950 South Las Vegas Boulevard
CATEGORIES:Featured
ATTACH;FMTTYPE=image/png:https://network.vegas/wp-content/uploads/2025/10/image-4-RSe5ml.png
END:VEVENT
END:VCALENDAR