BEGIN:VCALENDAR
VERSION:2.0
PRODID:-//Network.Vegas - ECPv6.15.20//NONSGML v1.0//EN
CALSCALE:GREGORIAN
METHOD:PUBLISH
X-WR-CALNAME:Network.Vegas
X-ORIGINAL-URL:https://network.vegas
X-WR-CALDESC:Events for Network.Vegas
REFRESH-INTERVAL;VALUE=DURATION:PT1H
X-Robots-Tag:noindex
X-PUBLISHED-TTL:PT1H
BEGIN:VTIMEZONE
TZID:America/Los_Angeles
BEGIN:DAYLIGHT
TZOFFSETFROM:-0800
TZOFFSETTO:-0700
TZNAME:PDT
DTSTART:20240310T100000
END:DAYLIGHT
BEGIN:STANDARD
TZOFFSETFROM:-0700
TZOFFSETTO:-0800
TZNAME:PST
DTSTART:20241103T090000
END:STANDARD
BEGIN:DAYLIGHT
TZOFFSETFROM:-0800
TZOFFSETTO:-0700
TZNAME:PDT
DTSTART:20250309T100000
END:DAYLIGHT
BEGIN:STANDARD
TZOFFSETFROM:-0700
TZOFFSETTO:-0800
TZNAME:PST
DTSTART:20251102T090000
END:STANDARD
BEGIN:DAYLIGHT
TZOFFSETFROM:-0800
TZOFFSETTO:-0700
TZNAME:PDT
DTSTART:20260308T100000
END:DAYLIGHT
BEGIN:STANDARD
TZOFFSETFROM:-0700
TZOFFSETTO:-0800
TZNAME:PST
DTSTART:20261101T090000
END:STANDARD
END:VTIMEZONE
BEGIN:VEVENT
DTSTART;TZID=America/Los_Angeles:20251120T123000
DTEND;TZID=America/Los_Angeles:20251120T160000
DTSTAMP:20260422T011756
CREATED:20251007T102031Z
LAST-MODIFIED:20251103T203057Z
UID:49357-1763641800-1763654400@network.vegas
SUMMARY:F1® Business Summit
DESCRIPTION:Fueling Transformation Across Sports\,Entertainment and CultureLas Vegas Grand Prix\, Liberty Media and F1 will host investors\, partners\, and industry leaders to explore the nexus of sports\, entertainment and culture. Multiple engaging panel discussions will examine how sports have transcended their traditional boundaries and are driving some of the most relevant pop culture moments around the world to engage fans far beyond games and events.
URL:https://network.vegas/calendar/f1-business-summit/
LOCATION:Wynn Las Vegas\, 3131 Las Vegas Boulevard South\, Las Vegas\, NV\, 89109\, United States
CATEGORIES:Featured,Las Vegas Business,Networking
ATTACH;FMTTYPE=image/png:https://network.vegas/wp-content/uploads/2025/10/image-26-scaled.png
END:VEVENT
END:VCALENDAR