BEGIN:VCALENDAR
VERSION:2.0
PRODID:-//Network.Vegas - ECPv6.15.20//NONSGML v1.0//EN
CALSCALE:GREGORIAN
METHOD:PUBLISH
X-ORIGINAL-URL:https://network.vegas
X-WR-CALDESC:Events for Network.Vegas
REFRESH-INTERVAL;VALUE=DURATION:PT1H
X-Robots-Tag:noindex
X-PUBLISHED-TTL:PT1H
BEGIN:VTIMEZONE
TZID:America/Los_Angeles
BEGIN:DAYLIGHT
TZOFFSETFROM:-0800
TZOFFSETTO:-0700
TZNAME:PDT
DTSTART:20240310T100000
END:DAYLIGHT
BEGIN:STANDARD
TZOFFSETFROM:-0700
TZOFFSETTO:-0800
TZNAME:PST
DTSTART:20241103T090000
END:STANDARD
BEGIN:DAYLIGHT
TZOFFSETFROM:-0800
TZOFFSETTO:-0700
TZNAME:PDT
DTSTART:20250309T100000
END:DAYLIGHT
BEGIN:STANDARD
TZOFFSETFROM:-0700
TZOFFSETTO:-0800
TZNAME:PST
DTSTART:20251102T090000
END:STANDARD
BEGIN:DAYLIGHT
TZOFFSETFROM:-0800
TZOFFSETTO:-0700
TZNAME:PDT
DTSTART:20260308T100000
END:DAYLIGHT
BEGIN:STANDARD
TZOFFSETFROM:-0700
TZOFFSETTO:-0800
TZNAME:PST
DTSTART:20261101T090000
END:STANDARD
END:VTIMEZONE
BEGIN:VEVENT
DTSTART;TZID=America/Los_Angeles:20250930T180000
DTEND;TZID=America/Los_Angeles:20250930T200000
DTSTAMP:20260424T051646
CREATED:20250822T133056Z
LAST-MODIFIED:20250822T133057Z
UID:48428-1759255200-1759262400@network.vegas
SUMMARY:Prost to Possibilities: EDPA Las Vegas OktoberFest!
DESCRIPTION:The “Prost to Possibilities: EDPA Las Vegas OktoberFest!” is set to take place on Tuesday\, September 30\, 2025\, from 6:00 PM to 8:00 PM PDT\, at Able Baker Brewing in Las Vegas (zip code 89104). This celebratory evening promises a warm and convivial gathering—featuring excellent brews and vibrant community vibes—for members and friends of the EDPA Las Vegas Chapter to reconnect\, unwind\, and toast to shared opportunities in the experiential design and events industry.edpa.com+8tickettailor.com+8app.tickettailor.com+8
URL:https://network.vegas/calendar/prost-to-possibilities-edpa-las-vegas-oktoberfest/
CATEGORIES:Networking
ATTACH;FMTTYPE=image/png:https://network.vegas/wp-content/uploads/2025/08/image-7.png
END:VEVENT
BEGIN:VEVENT
DTSTART;TZID=America/Los_Angeles:20250827T180000
DTEND;TZID=America/Los_Angeles:20250828T160000
DTSTAMP:20260424T051646
CREATED:20250822T114241Z
LAST-MODIFIED:20250822T114242Z
UID:48420-1756317600-1756396800@network.vegas
SUMMARY:The EDPA Las Vegas Chapter
DESCRIPTION:The EDPA Vegas × IFES Present: The Las Vegas 2025 Masterclass is scheduled for August 27–28\, 2025\, from 6:00 PM PDT on the first day through 4:00 PM PDT on the second. Hosted at the UNLV Blackfire Innovation Center (8400 W Sunset Rd\, Suite 400\, Las Vegas)\, this two-day international masterclass offers a forward-looking exploration into global trends within the experiential and event industry. It presents a unique opportunity for professionals to deepen their expertise\, network with peers\, and engage with cutting-edge developments shaping the field.edpalv.com+9edpalv.com+9ms-my.facebook.com+9
URL:https://network.vegas/calendar/the-edpa-las-vegas-chapter/
LOCATION:UNVL Black Fire Inovation\, 8400 W. Sunset Rd. Las Vegas\, NV 89113 United States\, Las Vegas
CATEGORIES:Networking
ATTACH;FMTTYPE=image/png:https://network.vegas/wp-content/uploads/2025/08/image-6.png
END:VEVENT
END:VCALENDAR