BEGIN:VCALENDAR
VERSION:2.0
PRODID:-//Network.Vegas - ECPv6.15.20//NONSGML v1.0//EN
CALSCALE:GREGORIAN
METHOD:PUBLISH
X-WR-CALNAME:Network.Vegas
X-ORIGINAL-URL:https://network.vegas
X-WR-CALDESC:Events for Network.Vegas
REFRESH-INTERVAL;VALUE=DURATION:PT1H
X-Robots-Tag:noindex
X-PUBLISHED-TTL:PT1H
BEGIN:VTIMEZONE
TZID:America/Los_Angeles
BEGIN:DAYLIGHT
TZOFFSETFROM:-0800
TZOFFSETTO:-0700
TZNAME:PDT
DTSTART:20230312T100000
END:DAYLIGHT
BEGIN:STANDARD
TZOFFSETFROM:-0700
TZOFFSETTO:-0800
TZNAME:PST
DTSTART:20231105T090000
END:STANDARD
BEGIN:DAYLIGHT
TZOFFSETFROM:-0800
TZOFFSETTO:-0700
TZNAME:PDT
DTSTART:20240310T100000
END:DAYLIGHT
BEGIN:STANDARD
TZOFFSETFROM:-0700
TZOFFSETTO:-0800
TZNAME:PST
DTSTART:20241103T090000
END:STANDARD
BEGIN:DAYLIGHT
TZOFFSETFROM:-0800
TZOFFSETTO:-0700
TZNAME:PDT
DTSTART:20250309T100000
END:DAYLIGHT
BEGIN:STANDARD
TZOFFSETFROM:-0700
TZOFFSETTO:-0800
TZNAME:PST
DTSTART:20251102T090000
END:STANDARD
BEGIN:DAYLIGHT
TZOFFSETFROM:-0800
TZOFFSETTO:-0700
TZNAME:PDT
DTSTART:20260308T100000
END:DAYLIGHT
BEGIN:STANDARD
TZOFFSETFROM:-0700
TZOFFSETTO:-0800
TZNAME:PST
DTSTART:20261101T090000
END:STANDARD
END:VTIMEZONE
BEGIN:VEVENT
DTSTART;TZID=America/Los_Angeles:20250115T173000
DTEND;TZID=America/Los_Angeles:20250115T203000
DTSTAMP:20260424T011032
CREATED:20241219T180735Z
LAST-MODIFIED:20250102T182008Z
UID:43042-1736962200-1736973000@network.vegas
SUMMARY:Harnessing Blockchain & Automation to Revolutionize Social Media Marketing
DESCRIPTION:Learn how to use blockchain and automation to completely change the game in social media marketing at our upcoming event!\n\n\nWelcome to the event that will change the game in social media marketing! Join us at the Red Rock Country Club for a day of learning and networking at our event Harnessing Blockchain & Automation to Revolutionize Social Media Marketing. Discover how these cutting-edge technologies are reshaping the industry and learn from top experts in the field. Don’t miss out on this opportunity to stay ahead of the curve! \n \nSpeaker Biography: \nMr. Trenton Samuel is a seasoned digital marketing strategist with over a decade of experience in helping businesses scale through data-driven strategies and customer engagement. As the founder of StayMobileStaySocial (SMSS)\, he has successfully integrated blockchain technology into social media management platforms\, creating unique opportunities for businesses to engage with customers and grow their digital presence. Trenton’s work has empowered countless businesses to harness the power of automation\, data analytics\, and gamification in their marketing efforts. \n \nTitle of Topic: \n“Harnessing Blockchain and Automation to Revolutionize Social Media Marketing” \n \nRelevance of Topic: \nThis topic is crucial for businesses today because it addresses the growing demand for integrating blockchain technology and automation into social media marketing. With the rise of decentralized platforms and increasing user concerns around data privacy\, businesses need to stay ahead of the curve. This talk will highlight how blockchain can enhance transparency and trust in marketing efforts\, while automation tools (like those provided by SMSS) save time and improve engagement rates. It will also cover how businesses can utilize tokenization to incentivize their audience and boost retention\, driving long-term success. \n \nWhat will the audience learn from this topic? \n• Understanding Blockchain’s Role in Marketing: Attendees will learn how blockchain can redefine trust and transparency in marketing\, addressing consumer privacy concerns and enhancing brand credibility. \n• Leveraging Automation for Efficiency: We’ll dive into strategies for automating social media to increase consistency\, engagement\, and reach\, while freeing up time for higher-level business strategies. \n• Unlocking Revenue with Token Rewards: Entrepreneurs will discover how tokenized rewards can incentivize customer engagement\, improve loyalty\, and drive repeat business. \n \nHow will this topic support entrepreneurs generate more revenues from their businesses? \nBy implementing blockchain technology and automation in their marketing strategy\, entrepreneurs can build trust with their audience\, streamline operations\, and reduce marketing costs. Additionally\, incorporating token-based rewards keeps customers engaged and incentivizes referrals\, leading to a more engaged customer base and an increase in revenue-generating opportunities. \n \nFree Gift: \n100\,000 SMSS cryptocurrency and 14-day free trial the SMSS marketing platform for each guest that purchases a ticket and attends the event. \n \nWhat is The AzAverze Club? \nThe AzAverze Club a new\, live education and networking club. \nObjective: \n\nThe objective of The AzAverze Club is to provide new local entrepreneurs an opportunity to showcase their innovative technologies and services that could help other entrepreneurs save time and enhance revenues.\n\n\nEvery month\, The AzAverze Club will invite an up-and-coming entrepreneur from the local Las Vegas area to provide an educational session related to key aspects of their innovative technologies or services and why it is important.\n\nEntrepreneurs: \n\nThis will be an opportunity for that entrepreneur to further enhance awareness of their novel technologies or services and educate attendees on why it is important.\n\nAttendees: \n\nThis will be an opportunity for attendees to learn about emerging novel technologies or services from within the Las Vegas entrepreneurial ecosystem.\n\nEntrepreneur & Attendees: \n\nThis will be a fabulous opportunity for a small group of like-minded individuals to break bread\, create new connections or strengthen existing connections\, in a small luxury setting.\n\n \nWhat is AzAverze? \nAzAverze is the only all-in-one social media platform designed specifically for new professional services entrepreneurs​. Our platform is built to save businesses time\, boost revenues\, and enhance entrepreneurial skills. AzAverze achieves this by offering integrated accounting\, project management\, CRM\, document management\, secure customer financial account and identity verification\, video and webinar marketing and​ e-commerce services.
URL:https://network.vegas/calendar/harnessing-blockchain-automation-to-revolutionize-social-media-marketing/
LOCATION:Red Rock Country Club\, 2250 Red Springs Drive\, Las Vegas\, NV\, 89135\, United States
CATEGORIES:Technology
ATTACH;FMTTYPE=image/jpeg:https://network.vegas/wp-content/uploads/2024/12/2a21e911cf5c86e103236bafade0bd96.jpg
END:VEVENT
BEGIN:VEVENT
DTSTART;TZID=America/Los_Angeles:20241106T173000
DTEND;TZID=America/Los_Angeles:20241106T203000
DTSTAMP:20260424T011032
CREATED:20241007T203627Z
LAST-MODIFIED:20241007T203627Z
UID:41458-1730914200-1730925000@network.vegas
SUMMARY:The Azaverze Club
DESCRIPTION:Join us at The AzAverze Club! Guest speaker Kirsten Larsen on “Building Bridges.” Tickets: $55 includes dinner and beverages.
URL:https://network.vegas/calendar/the-azaverze-club/
LOCATION:Red Rock Country Club\, 2250 Red Springs Drive\, Las Vegas\, NV\, 89135\, United States
CATEGORIES:Networking
ATTACH;FMTTYPE=image/jpeg:https://network.vegas/wp-content/uploads/2024/10/d51a2b493db42ef1157bdd3a26c7cb1d.jpg
END:VEVENT
END:VCALENDAR