BEGIN:VCALENDAR
VERSION:2.0
PRODID:-//Network.Vegas - ECPv6.15.20//NONSGML v1.0//EN
CALSCALE:GREGORIAN
METHOD:PUBLISH
X-WR-CALNAME:Network.Vegas
X-ORIGINAL-URL:https://network.vegas
X-WR-CALDESC:Events for Network.Vegas
REFRESH-INTERVAL;VALUE=DURATION:PT1H
X-Robots-Tag:noindex
X-PUBLISHED-TTL:PT1H
BEGIN:VTIMEZONE
TZID:America/Los_Angeles
BEGIN:DAYLIGHT
TZOFFSETFROM:-0800
TZOFFSETTO:-0700
TZNAME:PDT
DTSTART:20240310T100000
END:DAYLIGHT
BEGIN:STANDARD
TZOFFSETFROM:-0700
TZOFFSETTO:-0800
TZNAME:PST
DTSTART:20241103T090000
END:STANDARD
BEGIN:DAYLIGHT
TZOFFSETFROM:-0800
TZOFFSETTO:-0700
TZNAME:PDT
DTSTART:20250309T100000
END:DAYLIGHT
BEGIN:STANDARD
TZOFFSETFROM:-0700
TZOFFSETTO:-0800
TZNAME:PST
DTSTART:20251102T090000
END:STANDARD
BEGIN:DAYLIGHT
TZOFFSETFROM:-0800
TZOFFSETTO:-0700
TZNAME:PDT
DTSTART:20260308T100000
END:DAYLIGHT
BEGIN:STANDARD
TZOFFSETFROM:-0700
TZOFFSETTO:-0800
TZNAME:PST
DTSTART:20261101T090000
END:STANDARD
END:VTIMEZONE
BEGIN:VEVENT
DTSTART;TZID=America/Los_Angeles:20251105T090000
DTEND;TZID=America/Los_Angeles:20251107T170000
DTSTAMP:20260422T060442
CREATED:20251015T061624Z
LAST-MODIFIED:20251029T164615Z
UID:49647-1762333200-1762534800@network.vegas
SUMMARY:DigiMarCon World 2025 - Digital Marketing\, Media & Advertising Conference
DESCRIPTION:DigiMarCon World 2025 – Digital Marketing\, Media and  Advertising Conference & Exhibition – November 5 – 7\, 2025 – Las Vegas\, NVDigiMarCon World 2025 is your chance to …– Hear from some of the most audacious and thought provoking speakers in the digital marketing\, media and advertising industry. – Gain insight into emerging strategies\, the latest innovative technologies\, and best practices to move your business to the next level. – Network with thought leaders\, collaborate with your peers and build your professionals network. The 4th annual DigiMarCon World\, the Premier Digital Marketing\, Media and Advertising Conference & Exhibition returns November 5th to 7th\, 2025 to the Luxor Hotel & Casino in Las Vegas\, Nevada. Join your peers in-person or online for 2 days jam packed with digital marketing best practices\, latest trends\, practical solutions\, strategy and networking\, also check out the next generation of technology & innovation; Internet\, Mobile\, AdTech\, MarTech & SaaS Technology. Immerse yourself in topics like digital strategy\, programmatic advertising\, web experience management\, usability / design\, mobile marketing & retargeting\, customer engagement\, user acquisition\, social media marketing\, targeting & optimization\, video marketing\, data science & big data\, web analytics & A/B testing\, email marketing\, content marketing\, conversion rate optimization\, search engine optimization\, paid search marketing\, geo-targeting\, predictive analysis & attribution\, growth hacking\, conversion rate optimization\, growth marketing tools\, marketing & sales automation\, sustainable growth strategies\, product marketing & UX / UI and much\, much more! At DigiMarCon World 2025\, you will receive all the elements you need to achieve digital marketing success! Conventional thought will be challenged\, new ways of thinking will emerge\, and you will leave with your head\, notebooks and professional toolkit full of action items and ideas to lead and supercharge your agency / team / account to even greater success. Be a part of DigiMarCon World 2025 and discover how to thrive and succeed as a marketer in a rapidly evolving digital world. Top keynotes\, case studies\, strategy sessions\, networking and more! See why people keep coming back year after year! Register and secure your seat today. For more details visit https://digimarconworld.com Speakers / SessionsCome for three high-impact days of DigiMarCon World 2025\, from November 5th to 7th\, 2025. Meet the “who’s who” in the Digital Marketing Community\, gain new insights and share ideas with fellow web business pros. Whether you’re just getting started or you’re a digital marketing expert\, DigiMarCon World 2025 will give you the latest strategies and information to increase your own knowledge and grow your business through digital marketing. Click Here to view details about Speakers. Click Here to view details about Sessions. Past Featured SpeakersMaster ClassesDigiMarCon World 2025 is offering five limited-attendance Master Classes on Friday\, November 7th at different times allowing attendees to attend them all. All Master Classes are included in the VIP and All Access Pass. Master Classes provide the practices\, applications\, and hands-on exposure you need to become (and remain!) a top performer in your field. Whether you are a consultant\, site designer\, website owner\, or in-house marketing professional\, this is an opportunity to experience firsthand the latest developments in digital marketing. Regardless of your experience level\, you will leave these intensive master classes with skills to improve your online business results. Click Here to view details about Master Classes. Event ZonesHere’s a peek at what you will see at DigiMarCon: Auditorium – The Auditorium is a live stage with round-table seating of speaker presentations. Presentations feature Keynotes. Industry Panels and Master Classes given by Expert Speakers in the digital marketing industry\, providing attendees with digital marketing best practices\, latest trends\, practical solutions and strategy.Exhibition Hall – The Exhibition Hall showcases the next generation of technology & innovation; Internet\, Mobile\, AdTech\, MarTech and SaaS. The Exhibition Hall includes ample break tables for networking with your peers. Training Theater – The Training Theater has a mix of a selection of live streamed sessions from DigiMarCon Digital Marketing\, Media and Advertising Conference throughout the event program and a Lunch and Learn presentation during the Networking Luncheon.Podcast Studio – The Podcast Studio is an interactive space where visitors are able to sit in and view live intermittent interviews between a host and selected exhibitors\, speakers and. Dining Hall  – The Dining Hall is where food and beverage catering is provided. Use these scheduled networking breaks to get to know the people you connect with via social networks—up close and personal.Photo Booth – Get your photo taken at the Photo Booth and real-time share on your Social Media Channels. The Photo Booth is a fun interactive experience in the Exhibition Hall that makes your visit more memorable. PassesCheck out your pass options below. For the best onsite experience a 3-Day in-person All Access pass is recommended. – ————————————————————————————————- Main Conference Pass is a 2-Day in-person pass that includes: November 5 – 6\, 2025: All General Sessions\, Exhibition Hall Access\, Welcome Refreshments\, Networking Luncheon\, Afternoon Refreshments\, Farewell Cocktail ReceptionOn Demand: Online access to video presentations and slide decks (1-year access)– ————————————————————————————————- All Access Pass is a 3-Day in-person pass that includes: November 5 – 6\, 2025: All General Sessions\, Exhibition Hall Access\, Welcome Refreshments\, Networking Luncheon\, Afternoon Refreshments\, Cocktail ReceptionsNovember 7\, 2025: All Master Classes\, Exhibition Hall Access\, Welcome Refreshments\, Networking Luncheon\, Afternoon Refreshments\, Farewell Cocktail ReceptionOn Demand: Online access to video presentations and slide decks (1-year access)– ————————————————————————————————- VIP Pass is a 3-Day in-person pass that includes: VIP Experience: VIP Status\, VIP Priority Registration Check-In\, VIP Reserved SeatingNovember 5 – 6\, 2025: All General Sessions (VIP Reserved Seating)\, Exhibition Hall Access\, Welcome Refreshments\, Networking Luncheon\, Afternoon Refreshments\, Cocktail ReceptionsNovember 7\, 2025: All Master Classes (VIP Reserved Seating)\, Exhibition Hall Access\, Welcome Refreshments\, Networking Luncheon\, Afternoon Refreshments\, Farewell Cocktail ReceptionOn Demand: Online access to video presentations and slide decks (1-year access)– ————————————————————————————————- Virtual Pass is an online pass that includes: Live Stream: Live Stream of All General Sessions and Master ClassesOn Demand: Online access to video presentations and slide decks (1-year access)Click Here to view details about Passes. Register NowWill you be at DigiMarCon World 2025? REGISTER NOW as space is limited. Don’t Miss the Digital Marketing Event of the Year! DigiMarCon World 2025 Conference will sell out\, so register early! For complete details about DigiMarCon World 2025 visit https://digimarconworld.com If you have any inquiry about DigiMarCon World 2025 \, contact our Customer Service team by Email at info@digimarcon.com or Phone +1 (800) 805-5385 (Toll Free).
URL:https://network.vegas/calendar/digimarcon-world-2025-digital-marketing-media-advertising-conference/
LOCATION:Luxor Hotel & Casino\, 3900 South Las Vegas Boulevard\, Las Vegas\, NV\, 89119\, United States
CATEGORIES:Featured
ATTACH;FMTTYPE=image/jpeg:https://network.vegas/wp-content/uploads/2025/10/7b6bb74e21f58aea1e22129baacc443f.jpg
END:VEVENT
END:VCALENDAR