BEGIN:VCALENDAR
VERSION:2.0
PRODID:-//Network.Vegas - ECPv6.15.20//NONSGML v1.0//EN
CALSCALE:GREGORIAN
METHOD:PUBLISH
X-ORIGINAL-URL:https://network.vegas
X-WR-CALDESC:Events for Network.Vegas
REFRESH-INTERVAL;VALUE=DURATION:PT1H
X-Robots-Tag:noindex
X-PUBLISHED-TTL:PT1H
BEGIN:VTIMEZONE
TZID:America/Los_Angeles
BEGIN:DAYLIGHT
TZOFFSETFROM:-0800
TZOFFSETTO:-0700
TZNAME:PDT
DTSTART:20250309T100000
END:DAYLIGHT
BEGIN:STANDARD
TZOFFSETFROM:-0700
TZOFFSETTO:-0800
TZNAME:PST
DTSTART:20251102T090000
END:STANDARD
BEGIN:DAYLIGHT
TZOFFSETFROM:-0800
TZOFFSETTO:-0700
TZNAME:PDT
DTSTART:20260308T100000
END:DAYLIGHT
BEGIN:STANDARD
TZOFFSETFROM:-0700
TZOFFSETTO:-0800
TZNAME:PST
DTSTART:20261101T090000
END:STANDARD
BEGIN:DAYLIGHT
TZOFFSETFROM:-0800
TZOFFSETTO:-0700
TZNAME:PDT
DTSTART:20270314T100000
END:DAYLIGHT
BEGIN:STANDARD
TZOFFSETFROM:-0700
TZOFFSETTO:-0800
TZNAME:PST
DTSTART:20271107T090000
END:STANDARD
END:VTIMEZONE
BEGIN:VEVENT
DTSTART;TZID=America/Los_Angeles:20260106T000000
DTEND;TZID=America/Los_Angeles:20260109T235959
DTSTAMP:20260419T082823
CREATED:20251212T224504Z
LAST-MODIFIED:20251212T224504Z
UID:50921-1767657600-1768003199@network.vegas
SUMMARY:CES 2026
DESCRIPTION:@ 			\n			\n							 \n\n\nThe world’s most powerful tech event is your place to experience the innovations transforming how we live. \nThis is where global brands get business done\, meet new partners and where the industry’s sharpest minds take the stage to unveil their latest releases and boldest breakthroughs. Get a real feel for the latest solutions to the world’s biggest challenges with immersive activations and demos. Engage with the greatest minds and most impactful brands of our time.  \n\n\n\nConsumer Technology Association\n \nView Organizer Website \n \n\n\n\n\n\n						\n	\n	\n\n						\n							Add to calendar						\n						\n	\n\n					\n\n\n\n									\n										Google Calendar									\n								\n\n									\n										iCalendar									\n								\n\n									\n										Outlook 365									\n								\n\n									\n										Outlook Live
URL:https://network.vegas/calendar/ces-2026/
CATEGORIES:Featured,Technology
ATTACH;FMTTYPE=image/png:https://network.vegas/wp-content/uploads/2025/12/image-11-FVPUFv.png
END:VEVENT
END:VCALENDAR