BEGIN:VCALENDAR
VERSION:2.0
PRODID:-//Network.Vegas - ECPv6.15.20//NONSGML v1.0//EN
CALSCALE:GREGORIAN
METHOD:PUBLISH
X-ORIGINAL-URL:https://network.vegas
X-WR-CALDESC:Events for Network.Vegas
REFRESH-INTERVAL;VALUE=DURATION:PT1H
X-Robots-Tag:noindex
X-PUBLISHED-TTL:PT1H
BEGIN:VTIMEZONE
TZID:America/Los_Angeles
BEGIN:DAYLIGHT
TZOFFSETFROM:-0800
TZOFFSETTO:-0700
TZNAME:PDT
DTSTART:20230312T100000
END:DAYLIGHT
BEGIN:STANDARD
TZOFFSETFROM:-0700
TZOFFSETTO:-0800
TZNAME:PST
DTSTART:20231105T090000
END:STANDARD
BEGIN:DAYLIGHT
TZOFFSETFROM:-0800
TZOFFSETTO:-0700
TZNAME:PDT
DTSTART:20240310T100000
END:DAYLIGHT
BEGIN:STANDARD
TZOFFSETFROM:-0700
TZOFFSETTO:-0800
TZNAME:PST
DTSTART:20241103T090000
END:STANDARD
BEGIN:DAYLIGHT
TZOFFSETFROM:-0800
TZOFFSETTO:-0700
TZNAME:PDT
DTSTART:20250309T100000
END:DAYLIGHT
BEGIN:STANDARD
TZOFFSETFROM:-0700
TZOFFSETTO:-0800
TZNAME:PST
DTSTART:20251102T090000
END:STANDARD
END:VTIMEZONE
BEGIN:VEVENT
DTSTART;TZID=America/Los_Angeles:20240903T080000
DTEND;TZID=America/Los_Angeles:20240905T170000
DTSTAMP:20260421T060315
CREATED:20240812T000735Z
LAST-MODIFIED:20240812T000735Z
UID:39159-1725350400-1725555600@network.vegas
SUMMARY:Commercial UAV Expo
DESCRIPTION:@ 			\n			\n							 \n\n\n\n\nCommercial UAV Expo\, presented by Commercial UAV News\, is the leading international trade show and conference focusing on the integration and operation of commercial UAS in select vertical markets.  \n206 exhibitors and 3\,449 drone professionals met in person in 2023 to learn\, connect\, and drive the industry forward.   \nCommercial drone professionals are eagerly anticipating Commercial UAV Expo 2024\, where they can look forward to critical\, timely education delivered by industry leaders; opportunities to network and engage with peers; and the best opportunity of the year to see and learn about the newest technology in the space. \nUse code SAVE100 for a $100 discount and/or FREE expo admission with LOTS of new benefits included. 3\,750+ attendees from 75 nations.  www.expouav.com \n\n				Tickets\n	\n\n\nCommercial UAV Expo\n \nView Organizer Website \n \n\n\n\n\n\n\n						\n  \n  \n\n						\n							Add to calendar						\n						\n					\n\n\n\n									\n										Google Calendar									\n								\n\n									\n										iCalendar									\n								\n\n									\n										Outlook 365									\n								\n\n									\n										Outlook Live
URL:https://network.vegas/calendar/commercial-uav-expo-3/
LOCATION:CAESARS FORUM\, 3911 South Koval Lane\, Las Vegas\, NV\, 89109\, United States
CATEGORIES:Convention,Featured,Technology
ATTACH;FMTTYPE=image/png:https://network.vegas/wp-content/uploads/2024/08/image-tB8HNi.tmp_.png
END:VEVENT
END:VCALENDAR