BEGIN:VCALENDAR
VERSION:2.0
PRODID:-//Network.Vegas - ECPv6.15.20//NONSGML v1.0//EN
CALSCALE:GREGORIAN
METHOD:PUBLISH
X-ORIGINAL-URL:https://network.vegas
X-WR-CALDESC:Events for Network.Vegas
REFRESH-INTERVAL;VALUE=DURATION:PT1H
X-Robots-Tag:noindex
X-PUBLISHED-TTL:PT1H
BEGIN:VTIMEZONE
TZID:America/Los_Angeles
BEGIN:DAYLIGHT
TZOFFSETFROM:-0800
TZOFFSETTO:-0700
TZNAME:PDT
DTSTART:20230312T100000
END:DAYLIGHT
BEGIN:STANDARD
TZOFFSETFROM:-0700
TZOFFSETTO:-0800
TZNAME:PST
DTSTART:20231105T090000
END:STANDARD
BEGIN:DAYLIGHT
TZOFFSETFROM:-0800
TZOFFSETTO:-0700
TZNAME:PDT
DTSTART:20240310T100000
END:DAYLIGHT
BEGIN:STANDARD
TZOFFSETFROM:-0700
TZOFFSETTO:-0800
TZNAME:PST
DTSTART:20241103T090000
END:STANDARD
BEGIN:DAYLIGHT
TZOFFSETFROM:-0800
TZOFFSETTO:-0700
TZNAME:PDT
DTSTART:20250309T100000
END:DAYLIGHT
BEGIN:STANDARD
TZOFFSETFROM:-0700
TZOFFSETTO:-0800
TZNAME:PST
DTSTART:20251102T090000
END:STANDARD
BEGIN:DAYLIGHT
TZOFFSETFROM:-0800
TZOFFSETTO:-0700
TZNAME:PDT
DTSTART:20260308T100000
END:DAYLIGHT
BEGIN:STANDARD
TZOFFSETFROM:-0700
TZOFFSETTO:-0800
TZNAME:PST
DTSTART:20261101T090000
END:STANDARD
END:VTIMEZONE
BEGIN:VEVENT
DTSTART;TZID=America/Los_Angeles:20250430T120000
DTEND;TZID=America/Los_Angeles:20250430T120000
DTSTAMP:20260421T164046
CREATED:20250407T055300Z
LAST-MODIFIED:20250407T055300Z
UID:45237-1746014400-1746014400@network.vegas
SUMMARY:Washoe County Bar Association & Clark County Bar Association Present
DESCRIPTION:
URL:https://network.vegas/calendar/washoe-county-bar-association-clark-county-bar-association-present/
CATEGORIES:Education,Financial & Government,Legal,Networking
ATTACH;FMTTYPE=image/jpeg:https://network.vegas/wp-content/uploads/2025/03/Cross-Court-2025-B39qQ8.tmp_.jpg
END:VEVENT
BEGIN:VEVENT
DTSTART;TZID=America/Los_Angeles:20250329T100000
DTEND;TZID=America/Los_Angeles:20250329T100000
DTSTAMP:20260421T164046
CREATED:20250304T031520Z
LAST-MODIFIED:20250304T031520Z
UID:44649-1743242400-1743242400@network.vegas
SUMMARY:Walk with the Heart of a Child
DESCRIPTION:The CCBA’s Community Service Committee invites all CCBA members to join in the fun at the 22nd Annual Walk with the Heart of Child at Craig Ranch Regional Park on Saturday\, March 29\, 2025. Help us to reach our goal of raising $2\,500 for the Children’s Heart Foundation.
URL:https://network.vegas/calendar/walk-with-the-heart-of-a-child/
LOCATION:Craig Ranch Regional Park\, 628 West Craig Road North Las Vegas\, NV 89032 United States\, Las Vegas
CATEGORIES:Education,Financial & Government,Legal,Networking
ATTACH;FMTTYPE=image/jpeg:https://network.vegas/wp-content/uploads/2025/03/2025-3-29-CHF-Charity-Walk-Promo-1080-1080-web-kC8IcQ.tmp_.jpg
END:VEVENT
BEGIN:VEVENT
DTSTART;TZID=America/Los_Angeles:20250327T120000
DTEND;TZID=America/Los_Angeles:20250327T120000
DTSTAMP:20260421T164046
CREATED:20250304T031511Z
LAST-MODIFIED:20250304T031722Z
UID:44648-1743076800-1743076800@network.vegas
SUMMARY:Neurodiversity and the Juvenile Justice System
DESCRIPTION:Learn about the unique challenges for neuro-diverse youth involved in the juvenile justice system. This program will include updated content to provide information on neurodiversity to include Fetal Alcohol Syndrome and neuro abstinence syndrome. We discuss the impact of FAS\, NAS and ASD in the dependency and delinquency system.
URL:https://network.vegas/calendar/neurodiversity-and-the-juvenile-justice-system/
CATEGORIES:Education,Financial & Government,Legal,Networking
END:VEVENT
BEGIN:VEVENT
DTSTART;TZID=America/Los_Angeles:20250320T120000
DTEND;TZID=America/Los_Angeles:20250320T120000
DTSTAMP:20260421T164046
CREATED:20250304T031510Z
LAST-MODIFIED:20250304T031722Z
UID:44646-1742472000-1742472000@network.vegas
SUMMARY:Abe Lincoln\, Esq.: Lessons from the Trial Lawyer Who Became President
DESCRIPTION:Abraham Lincoln is often celebrated as a transformational president\, but before he led the nation\, he spent 25 years as a practicing trial lawyer\, handling thousands of cases and honing persuasive advocacy\, strategic litigation\, and professional ethics. This CLE webinar explores Lincoln’s education and legal career and the practical lessons modern attorneys can apply today.
URL:https://network.vegas/calendar/abe-lincoln-esq-lessons-from-the-trial-lawyer-who-became-president/
CATEGORIES:Education,Financial & Government,Legal,Networking
END:VEVENT
BEGIN:VEVENT
DTSTART;TZID=America/Los_Angeles:20250313T113000
DTEND;TZID=America/Los_Angeles:20250313T113000
DTSTAMP:20260421T164046
CREATED:20250304T031509Z
LAST-MODIFIED:20250304T031721Z
UID:44645-1741865400-1741865400@network.vegas
SUMMARY:40 Year Club Induction Ceremony & Luncheon
DESCRIPTION:Join in the fun as will celebrate CCBA members admitted to practice law in Nevada for 40\, 45\, 50\, 55\, and 60 years. This year\, we will induct members who were admitted in 1985 and honor members admitted in 1980\, 1975\, 1970\, and 1965. RSVP to the CCBA required by March 6\, 2025. See list of inductees and honorees and RSVP form at https://clarkcountybar.org/40-year-club-luncheon/. Sponsors: Forensic Solutions Bank of Nevada First Legal Wolf\, Rifkin\, Shapiro\, Schulman & Rabkin\, LLP Master of Ceremonies: Daniel Polsenberg of Womble Bond Dickinson LLP When: Thursday\, March 13\, 2025. Check-in & Networking: 11:30 a.m.\, Luncheon and festivities: 12 to 1:30 p.m. Where: Panevino Italian Grille\, 246 Via Antonia Ave.\, Las Vegas\, NV 89119 Pricing: FREE per 40-Year Club Inductee (2025) (Free) $80 per CCBA Member\, Honoree\, Guest of Inductee or Honoree ($80) $95 per Non-member ($95) Entrée options: Chicken Marsala Grilled Scottish Salmon Penne Vodka (vegan/vegetarian) Space will be limited. All members of Nevada’s legal community are welcome to attend; however space will be limited to those who RSVP to the Clark County Bar Association by the published deadline (originally March 6\, 2025. Note: this popular annual event tends to sell out before the published deadline. UPDATE 2/26/2025: This event is sold out\, and online registration is closed. For more information and to get on the wait list\, send an email to Donna at the CCBA office.
URL:https://network.vegas/calendar/40-year-club-induction-ceremony-luncheon/
CATEGORIES:Education,Financial & Government,Legal,Networking
ATTACH;FMTTYPE=image/jpeg:https://network.vegas/wp-content/uploads/2025/03/2025-40-Year-Club-Luncheon-Square-web-a-W2dKDv.tmp_.jpg
END:VEVENT
BEGIN:VEVENT
DTSTART;TZID=America/Los_Angeles:20250220T190000
DTEND;TZID=America/Los_Angeles:20250220T220000
DTSTAMP:20260421T164046
CREATED:20250111T204129Z
LAST-MODIFIED:20250111T213653Z
UID:43355-1740078000-1740088800@network.vegas
SUMMARY:Roaring Since the 20s
DESCRIPTION:
URL:https://network.vegas/calendar/roaring-since-the-20s-2/
LOCATION:The Mob Museum\, 300 Stewart Ave\, Las Vegas\, NV 89101\, United States\, Las Vegas
ATTACH;FMTTYPE=image/png:https://network.vegas/wp-content/uploads/2025/01/2025-CCBA-Anniversary-Party-Promo-1080-1080-NEW-1024x1024-XAhciL.tmp_.png
END:VEVENT
BEGIN:VEVENT
DTSTART;TZID=America/Los_Angeles:20250130T113000
DTEND;TZID=America/Los_Angeles:20250130T113000
DTSTAMP:20260421T164046
CREATED:20241106T231026Z
LAST-MODIFIED:20241106T231026Z
UID:42557-1738236600-1738236600@network.vegas
SUMMARY:Clark County Bar Luncheon Featuring Nevada Supreme Court Update
DESCRIPTION:1/2 Tavern Club Sandwich and Cup of Minestrone Soup Pomodoro Crust – Flatbread/pizza: pomodoro sauce\, mozzarella cheese\, olive oil\, parsley gremolata. (vegetarian) Rotini Pasta Primavera (vegan
URL:https://network.vegas/calendar/clark-county-bar-luncheon-featuring-nevada-supreme-court-update/
END:VEVENT
BEGIN:VEVENT
DTSTART;TZID=America/Los_Angeles:20250123T120000
DTEND;TZID=America/Los_Angeles:20250123T120000
DTSTAMP:20260421T164046
CREATED:20241106T231025Z
LAST-MODIFIED:20241106T231025Z
UID:42556-1737633600-1737633600@network.vegas
SUMMARY:Energy Healing: The Best Kept Secret to Legal Wellbeing & Performance!
DESCRIPTION:Attendees will learn about energy healing – what it is\, how it works\, what it feels like and what wellbeing and performance benefits it provides. Attendees will also experience an energy healing session. The session portion begins with a guided meditation to help attendees feel more grounded and relaxed\, followed by a series of energies designed to release tension\, anxiety\, and mental chatter\, improve mental and emotional states\, and feel a sense of deep relaxation.
URL:https://network.vegas/calendar/energy-healing-the-best-kept-secret-to-legal-wellbeing-performance/
END:VEVENT
BEGIN:VEVENT
DTSTART;TZID=America/Los_Angeles:20250111T110000
DTEND;TZID=America/Los_Angeles:20250111T130000
DTSTAMP:20260421T164046
CREATED:20250111T204149Z
LAST-MODIFIED:20250111T204149Z
UID:43368-1736593200-1736600400@network.vegas
SUMMARY:CCBA Luncheon Featuring NV Supreme Court Update
DESCRIPTION:
URL:https://network.vegas/calendar/ccba-luncheon-featuring-nv-supreme-court-update/
END:VEVENT
BEGIN:VEVENT
DTSTART;TZID=America/Los_Angeles:20250105T183500
DTEND;TZID=America/Los_Angeles:20250105T183500
DTSTAMP:20260421T164046
CREATED:20250407T055301Z
LAST-MODIFIED:20250407T055301Z
UID:45240-1736102100-1736102100@network.vegas
SUMMARY:CCBA Baseball Group Night
DESCRIPTION:Join the Clark County Bar Association for a group outing to the Las Vegas Ballpark! Family and friends are welcome to attend with a CCBA member. We’re gathering on Thursday\, May 1st for an action-packed evening as the Aviators take on the Tacoma Rainiers. Come early for pregame festivities and drink specials in the Plaza starting at 5 p.m. Whether you’re a die-hard baseball fan or just looking for a fun night out\, this event is a home run!
URL:https://network.vegas/calendar/ccba-baseball-group-night/
CATEGORIES:Education,Financial & Government,Legal,Networking
END:VEVENT
BEGIN:VEVENT
DTSTART;TZID=America/Los_Angeles:20250105T093000
DTEND;TZID=America/Los_Angeles:20250105T093000
DTSTAMP:20260421T164046
CREATED:20250304T031522Z
LAST-MODIFIED:20250407T055301Z
UID:44652-1736069400-1736069400@network.vegas
SUMMARY:Law Day Activity at U.S. Air Force Base
DESCRIPTION:
URL:https://network.vegas/calendar/law-day-activity-at-u-s-air-force-base/
CATEGORIES:Education,Financial & Government,Legal,Networking
END:VEVENT
BEGIN:VEVENT
DTSTART;TZID=America/Los_Angeles:20241220T120000
DTEND;TZID=America/Los_Angeles:20241220T120000
DTSTAMP:20260421T164046
CREATED:20241106T231025Z
LAST-MODIFIED:20241106T231025Z
UID:42555-1734696000-1734696000@network.vegas
SUMMARY:Civil Bench-Bar Meeting
DESCRIPTION:
URL:https://network.vegas/calendar/civil-bench-bar-meeting/
END:VEVENT
BEGIN:VEVENT
DTSTART;TZID=America/Los_Angeles:20241213T113000
DTEND;TZID=America/Los_Angeles:20241213T113000
DTSTAMP:20260421T164046
CREATED:20241106T231024Z
LAST-MODIFIED:20241106T231024Z
UID:42553-1734089400-1734089400@network.vegas
SUMMARY:24th Annual Pro Bono Awards Luncheon
DESCRIPTION:Please join us for one of the legal community’s most anticipated events as we honor the extraordinary efforts of our pro bono attorneys. Thanks to their generous donations of time and expertise\, we are able to protect thousands of Southern Nevada’s most vulnerable residents. Your continued support makes it possible for Legal Aid Center to provide equal access to justice for all.
URL:https://network.vegas/calendar/24th-annual-pro-bono-awards-luncheon/
ATTACH;FMTTYPE=image/jpeg:https://network.vegas/wp-content/uploads/2024/11/PB_Luncheon_website-RuIedb.tmp_.jpg
END:VEVENT
BEGIN:VEVENT
DTSTART;TZID=America/Los_Angeles:20241205T173000
DTEND;TZID=America/Los_Angeles:20241205T173000
DTSTAMP:20260421T164046
CREATED:20241106T231024Z
LAST-MODIFIED:20241106T231024Z
UID:42552-1733419800-1733419800@network.vegas
SUMMARY:CCBA Holiday Mixer Featuring Ugly Sweater Contest
DESCRIPTION:CCBA’s 9th Annual Holiday Mixer is hosted by the CCBA’s New Lawyers Committee and DICE. Complimentary beverage and appetizers for CCBA members while supplies last!
URL:https://network.vegas/calendar/ccba-holiday-mixer-featuring-ugly-sweater-contest/
END:VEVENT
BEGIN:VEVENT
DTSTART;TZID=America/Los_Angeles:20241204T120000
DTEND;TZID=America/Los_Angeles:20241204T120000
DTSTAMP:20260421T164046
CREATED:20241018T204945Z
LAST-MODIFIED:20241018T204945Z
UID:42089-1733313600-1733313600@network.vegas
SUMMARY:CCBA’s Annual Meeting & Volunteer Appreciation Luncheon
DESCRIPTION:ACTIVE CCBA Committee members who have attended the majority of the CCBA’s committee meetings this year will be invited to attend this event at no charge. Special offer may not be available to all committee members. Qualifying CCBA committee members will need to confirm with Stephanie or Donna at the CCBA office.
URL:https://network.vegas/calendar/ccbas-annual-meeting-volunteer-appreciation-luncheon-2/
LOCATION:Fogo de Chão Brazilian Steakhouse\, 623 Spectrum Center Drive\, Irvine\, CA\, 92618\, United States
END:VEVENT
BEGIN:VEVENT
DTSTART;TZID=America/Los_Angeles:20241009T120000
DTEND;TZID=America/Los_Angeles:20241009T120000
DTSTAMP:20260421T164046
CREATED:20241018T192609Z
LAST-MODIFIED:20241018T203502Z
UID:41904-1728475200-1728475200@network.vegas
SUMMARY:Clark County Bar Luncheon
DESCRIPTION:Featuring: “Legal Aid Center of Southern Nevada: Reflections on 35 years of service and vision for the future” presented by guest speaker Barbara Buckley\, Executive Director of Legal Aid Center of Southern Nevada
URL:https://network.vegas/calendar/clark-county-bar-luncheon-2/
CATEGORIES:Education,Financial & Government,Legal,Networking
END:VEVENT
BEGIN:VEVENT
DTSTART;TZID=America/Los_Angeles:20240919T120000
DTEND;TZID=America/Los_Angeles:20240919T131500
DTSTAMP:20260421T164046
CREATED:20240805T184342Z
LAST-MODIFIED:20240912T134943Z
UID:38949-1726747200-1726751700@network.vegas
SUMMARY:“Working Towards a More Diverse Legal Profession”
DESCRIPTION:Regardless of how fair-minded we believe ourselves to be\, most people have some degree of implicit bias – unconscious thought patterns and associations that can influence our attitudes towards others and how we make decisions. This program explores these thought patterns\, how they impact the workplace\, and strategies for identifying and minimizing their impact.
URL:https://network.vegas/calendar/working-towards-a-more-diverse-legal-profession/
CATEGORIES:Networking,Professional Association
END:VEVENT
BEGIN:VEVENT
DTSTART;TZID=America/Los_Angeles:20240912T113000
DTEND;TZID=America/Los_Angeles:20240912T124400
DTSTAMP:20260421T164046
CREATED:20240805T184339Z
LAST-MODIFIED:20240909T014537Z
UID:38948-1726140600-1726145040@network.vegas
SUMMARY:“A Bird’s-Eye View of Military Pensions”
DESCRIPTION:This presentation will feature a quick overview of topics related to military pensions including: Military retirement benefits\, Frozen Benefit Rule of National Defense Authorization Act (NDAA) 2017\, Military Disability\, and Blended Retirement System Effective 2018. This event is designed to provide an opportunity for CCBA members and USAF attorneys and legal office personnel to learn about a variety of legal issues that service members may face in their personal lives in southern Nevada.
URL:https://network.vegas/calendar/a-birds-eye-view-of-military-pensions/
CATEGORIES:Education,Legal, Financial & Government,Military & Veterans
END:VEVENT
BEGIN:VEVENT
DTSTART;TZID=America/Los_Angeles:20240911T113000
DTEND;TZID=America/Los_Angeles:20240911T131500
DTSTAMP:20260421T164046
CREATED:20240805T184352Z
LAST-MODIFIED:20240821T213609Z
UID:38957-1726054200-1726060500@network.vegas
SUMMARY:Clark County Bar Election Overview
DESCRIPTION:
URL:https://network.vegas/calendar/september-bar-luncheon/
LOCATION:Fogo de Chão Brazilian Steakhouse\, 623 Spectrum Center Drive\, Irvine\, CA\, 92618\, United States
CATEGORIES:Featured,Legal, Financial & Government,Networking,Professional Association
ATTACH;FMTTYPE=image/jpeg:https://network.vegas/wp-content/uploads/2024/08/2024-9-11-Bar-Luncheon-Promo-1000-563-web.jpg
END:VEVENT
BEGIN:VEVENT
DTSTART;TZID=America/Los_Angeles:20240910T120000
DTEND;TZID=America/Los_Angeles:20240910T131500
DTSTAMP:20260421T164046
CREATED:20240805T184338Z
LAST-MODIFIED:20240821T213259Z
UID:38947-1725969600-1725974100@network.vegas
SUMMARY:8th Judicial District Court Civil Bench-Bar Meeting
DESCRIPTION:
URL:https://network.vegas/calendar/8th-judicial-district-court-civil-bench-bar-meeting/
CATEGORIES:Legal, Financial & Government
END:VEVENT
BEGIN:VEVENT
DTSTART;TZID=America/Los_Angeles:20240906T150000
DTEND;TZID=America/Los_Angeles:20240906T170000
DTSTAMP:20260421T164046
CREATED:20240805T184343Z
LAST-MODIFIED:20240805T184343Z
UID:38950-1725634800-1725642000@network.vegas
SUMMARY:Annual Attorney Memorial Service
DESCRIPTION:The annual attorney memorial services are produced by the Clark County Law Foundation in conjunction with the Clark County Bar Association\, State Bar of Nevada\, Eighth Judicial District Court\, U.S. District Court\, and the Federal Bar Association-Las Vegas Chapter. For more information\, contact Patrick at the Clark County Law Foundation\, (702) 333-8277.
URL:https://network.vegas/calendar/annual-attorney-memorial-service/
CATEGORIES:Networking,Professional Association
END:VEVENT
BEGIN:VEVENT
DTSTART;TZID=America/Los_Angeles:20240905T173000
DTEND;TZID=America/Los_Angeles:20240905T213000
DTSTAMP:20260421T164046
CREATED:20240805T184338Z
LAST-MODIFIED:20240805T184338Z
UID:38946-1725557400-1725571800@network.vegas
SUMMARY:33rd Annual Meet Your Judges Mixer
DESCRIPTION:The CCBA’s Meet Your Judges Mixer is the premier networking event for judges\, attorneys\, legal support staff\, law students\, and candidates in southern Nevada. Members of the Nevada bench and bar are invited to attend this special event. Business casual attire is acceptable. This is a private cocktail reception; no minors are allowed.
URL:https://network.vegas/calendar/33rd-annual-meet-your-judges-mixer/
END:VEVENT
BEGIN:VEVENT
DTSTART;TZID=America/Los_Angeles:20240822T173000
DTEND;TZID=America/Los_Angeles:20240822T173000
DTSTAMP:20260421T164046
CREATED:20240805T184351Z
LAST-MODIFIED:20240821T213853Z
UID:38954-1724347800-1724347800@network.vegas
SUMMARY:CCBA Monthly Mix & Mingle
DESCRIPTION:Members of the Clark County Bar Association and the State Bar of Nevada invited to join us at 5:30 p.m. on their own dime on the fourth Thursday of the month.
URL:https://network.vegas/calendar/ccba-monthly-mix-mingle/
CATEGORIES:Legal, Financial & Government,Networking,Professional Association
END:VEVENT
BEGIN:VEVENT
DTSTART;TZID=America/Los_Angeles:20240822T120000
DTEND;TZID=America/Los_Angeles:20240822T130000
DTSTAMP:20260421T164046
CREATED:20240805T184345Z
LAST-MODIFIED:20240805T184345Z
UID:38953-1724328000-1724331600@network.vegas
SUMMARY:Business Court Bench Bar Meeting
DESCRIPTION:
URL:https://network.vegas/calendar/business-court-bench-bar-meeting/
CATEGORIES:Networking,Professional Association
END:VEVENT
BEGIN:VEVENT
DTSTART;TZID=America/Los_Angeles:20240814T120000
DTEND;TZID=America/Los_Angeles:20240814T131500
DTSTAMP:20260421T164046
CREATED:20240805T184351Z
LAST-MODIFIED:20240805T184351Z
UID:38955-1723636800-1723641300@network.vegas
SUMMARY:Lunchtime Learning CLE
DESCRIPTION:Working at a law firm and operating your own law firm are vastly different roles. A law firm can give you the tools\, knowledge\, and experience to be a successful attorney\, but it does not train you on how to run a successful law firm. This CLE will provide you with guidance in opening\, operating\, and closing your own firm\, including ethical\, administrative\, and management tips and traps.
URL:https://network.vegas/calendar/lunchtime-learning-cle/
END:VEVENT
BEGIN:VEVENT
DTSTART;TZID=America/Los_Angeles:20240808T113000
DTEND;TZID=America/Los_Angeles:20240808T133000
DTSTAMP:20260421T164046
CREATED:20240805T184343Z
LAST-MODIFIED:20240805T184343Z
UID:38951-1723116600-1723123800@network.vegas
SUMMARY:August Bar Luncheon
DESCRIPTION:The Risk Management Playbook” – This presentation will cover a collection of strategies and plays used by businesses to control risks and win the game
URL:https://network.vegas/calendar/august-bar-luncheon/
CATEGORIES:Networking,Professional Association
END:VEVENT
BEGIN:VEVENT
DTSTART;TZID=America/Los_Angeles:20240802T120000
DTEND;TZID=America/Los_Angeles:20240802T131500
DTSTAMP:20260421T164046
CREATED:20240805T184344Z
LAST-MODIFIED:20240805T184344Z
UID:38952-1722600000-1722604500@network.vegas
SUMMARY:Bar Committee Meetings
DESCRIPTION:Coordinates and participates with the William S. Boyd School of Law to produce student competitions. Members volunteer to help with bar events including CCBA pub crawls\, UNLV law student competitions\, and the Meet Your Judges Mixer. The New Lawyers Committee is for attorneys admitted to practice in Nevada within the last seven years\, regardless of age.
URL:https://network.vegas/calendar/bar-committee-meetings/
LOCATION:Virtual\, Las Vegas
CATEGORIES:Networking,Professional Association
END:VEVENT
BEGIN:VEVENT
DTSTART;TZID=America/Los_Angeles:20240711T120000
DTEND;TZID=America/Los_Angeles:20240711T131500
DTSTAMP:20260421T164046
CREATED:20240628T115748Z
LAST-MODIFIED:20240628T115751Z
UID:38397-1720699200-1720703700@network.vegas
SUMMARY:“Guiding Your Client Through the Decision-Making Process for Basic Estate Planning”
DESCRIPTION:Course description: This training is designed to help attorneys anticipate the questions and concerns clients have regarding their estate planning—particularly the Durable Power of Attorney for Health Care Decisions document. The DPOAH involves some very serious decisions for clients to contemplate before they meet with an attorney to discuss and finalize their documents. Also\, the DPOAH has recently undergone some important statutory revisions\, and this training will address those changes as well as concerns regarding guardianship avoidance. Ideally\, attorneys can provide “homework” for their clients following the initial interview\, so the client can be more prepared and confident in selecting options as they finalize their documents.
URL:https://network.vegas/calendar/guiding-your-client-through-the-decision-making-process-for-basic-estate-planning/
LOCATION:Virtual\, Las Vegas
CATEGORIES:Legal, Financial & Government,Professional Association
ATTACH;FMTTYPE=image/jpeg:https://network.vegas/wp-content/uploads/2022/03/Clark-County-Bar-Association-banner.jpg
END:VEVENT
BEGIN:VEVENT
DTSTART;TZID=America/Los_Angeles:20240424T120000
DTEND;TZID=America/Los_Angeles:20240424T131500
DTSTAMP:20260421T164046
CREATED:20240420T104543Z
LAST-MODIFIED:20240420T104546Z
UID:36525-1713960000-1713964500@network.vegas
SUMMARY:“Protecting Your Law Firm Against Cyber Attacks”
DESCRIPTION:About: Technology has changed dramatically over the years\, and the advantages to using it have gone up along with the risks of attack by hackers. This CLE will teach you what is happening in the cyber arena to hack your systems\, how to avoid these nefarious actors\, and what to do in the event of a disaster. Real claims scenarios will be presented with some solutions to tighten your law firms’ systems.
URL:https://network.vegas/calendar/protecting-your-law-firm-against-cyber-attacks/
LOCATION:Virtual\, Las Vegas
CATEGORIES:Government & Education,Professional Association
ATTACH;FMTTYPE=image/jpeg:https://network.vegas/wp-content/uploads/2022/03/Clark-County-Bar-Association-banner.jpg
END:VEVENT
BEGIN:VEVENT
DTSTART;TZID=America/Los_Angeles:20240320T120000
DTEND;TZID=America/Los_Angeles:20240320T131500
DTSTAMP:20260421T164046
CREATED:20240308T120209Z
LAST-MODIFIED:20240308T120212Z
UID:35523-1710936000-1710940500@network.vegas
SUMMARY:“Protecting Your Law Firm Against Financial Crime”
DESCRIPTION:Financial Crimes against law firms are on the rise\, and this CLE will teach you the crimes that insurance companies see most often\, the way they are orchestrated\, and how to avoid being a victim of a financial or property crime in your law firm. Real claims scenarios will be presented\, as well as tips and what could have been done to avoid these crimes.
URL:https://network.vegas/calendar/protecting-your-law-firm-against-financial-crime/
LOCATION:Virtual\, Las Vegas
CATEGORIES:Government & Education,Professional Association
ATTACH;FMTTYPE=image/jpeg:https://network.vegas/wp-content/uploads/2022/03/Clark-County-Bar-Association-banner.jpg
END:VEVENT
END:VCALENDAR