BEGIN:VCALENDAR
VERSION:2.0
PRODID:-//Network.Vegas - ECPv6.15.20//NONSGML v1.0//EN
CALSCALE:GREGORIAN
METHOD:PUBLISH
X-WR-CALNAME:Network.Vegas
X-ORIGINAL-URL:https://network.vegas
X-WR-CALDESC:Events for Network.Vegas
REFRESH-INTERVAL;VALUE=DURATION:PT1H
X-Robots-Tag:noindex
X-PUBLISHED-TTL:PT1H
BEGIN:VTIMEZONE
TZID:America/Los_Angeles
BEGIN:DAYLIGHT
TZOFFSETFROM:-0800
TZOFFSETTO:-0700
TZNAME:PDT
DTSTART:20240310T100000
END:DAYLIGHT
BEGIN:STANDARD
TZOFFSETFROM:-0700
TZOFFSETTO:-0800
TZNAME:PST
DTSTART:20241103T090000
END:STANDARD
BEGIN:DAYLIGHT
TZOFFSETFROM:-0800
TZOFFSETTO:-0700
TZNAME:PDT
DTSTART:20250309T100000
END:DAYLIGHT
BEGIN:STANDARD
TZOFFSETFROM:-0700
TZOFFSETTO:-0800
TZNAME:PST
DTSTART:20251102T090000
END:STANDARD
BEGIN:DAYLIGHT
TZOFFSETFROM:-0800
TZOFFSETTO:-0700
TZNAME:PDT
DTSTART:20260308T100000
END:DAYLIGHT
BEGIN:STANDARD
TZOFFSETFROM:-0700
TZOFFSETTO:-0800
TZNAME:PST
DTSTART:20261101T090000
END:STANDARD
END:VTIMEZONE
BEGIN:VEVENT
DTSTART;TZID=America/Los_Angeles:20250518T130000
DTEND;TZID=America/Los_Angeles:20250518T143000
DTSTAMP:20260421T151446
CREATED:20250513T204122Z
LAST-MODIFIED:20250513T204122Z
UID:46150-1747573200-1747578600@network.vegas
SUMMARY:Let's Get Prepared Come What May!
DESCRIPTION:With so much uncertainty in today’s world\, it’s helpful to have support in figuring out what’s next whether it’s a plan B or new vision!\n\n\nIf you’re feeling out of sorts\, stuck\, or worried about what tomorrow will bring\, take some time out to invest in yourself and join us in a safe space to begin considering what’s next. You don’t have to figure this out alone. I’ve successfully navigated emotionally charged career and life transitions\, and I’m here to help clients do the same.
URL:https://network.vegas/calendar/lets-get-prepared-come-what-may/
ATTACH;FMTTYPE=image/jpeg:https://network.vegas/wp-content/uploads/2025/05/77a054b112a2c2029e0762aaa2dd837e.jpg
END:VEVENT
END:VCALENDAR