BEGIN:VCALENDAR
VERSION:2.0
PRODID:-//Network.Vegas - ECPv6.15.20//NONSGML v1.0//EN
CALSCALE:GREGORIAN
METHOD:PUBLISH
X-ORIGINAL-URL:https://network.vegas
X-WR-CALDESC:Events for Network.Vegas
REFRESH-INTERVAL;VALUE=DURATION:PT1H
X-Robots-Tag:noindex
X-PUBLISHED-TTL:PT1H
BEGIN:VTIMEZONE
TZID:America/Los_Angeles
BEGIN:DAYLIGHT
TZOFFSETFROM:-0800
TZOFFSETTO:-0700
TZNAME:PDT
DTSTART:20250309T100000
END:DAYLIGHT
BEGIN:STANDARD
TZOFFSETFROM:-0700
TZOFFSETTO:-0800
TZNAME:PST
DTSTART:20251102T090000
END:STANDARD
BEGIN:DAYLIGHT
TZOFFSETFROM:-0800
TZOFFSETTO:-0700
TZNAME:PDT
DTSTART:20260308T100000
END:DAYLIGHT
BEGIN:STANDARD
TZOFFSETFROM:-0700
TZOFFSETTO:-0800
TZNAME:PST
DTSTART:20261101T090000
END:STANDARD
BEGIN:DAYLIGHT
TZOFFSETFROM:-0800
TZOFFSETTO:-0700
TZNAME:PDT
DTSTART:20270314T100000
END:DAYLIGHT
BEGIN:STANDARD
TZOFFSETFROM:-0700
TZOFFSETTO:-0800
TZNAME:PST
DTSTART:20271107T090000
END:STANDARD
END:VTIMEZONE
BEGIN:VEVENT
DTSTART;TZID=America/Los_Angeles:20260110T180000
DTEND;TZID=America/Los_Angeles:20260110T220000
DTSTAMP:20260420T133759
CREATED:20251228T182108Z
LAST-MODIFIED:20251228T182108Z
UID:51034-1768068000-1768082400@network.vegas
SUMMARY:Arts After Dark : Art Exhibition + Networking Night | Las Vegas
DESCRIPTION:Where artists and art enthusiasts come together to network\, share their work\, and connect with like-minded individuals.\n\n\n       Join us for an evening where luxury meets intention — a celebration of sophistication\, artistry\, and elevated energy. Step into a carefully curated atmosphere designed to awaken your senses and inspire your spirit. From the moment you arrive\, every element — the music\, lighting\, scent\, and visual design — will invite you to slow down\, connect deeply\, and experience presence in its most refined form. \n       Dress in alignment with your personal essence — refined\, expressive\, and radiant. This isn’t just an event; it’s a convergence of minds and energies\, a sanctuary for those who believe that beauty\, intention\, and artistry are the true markers of luxury.
URL:https://network.vegas/calendar/arts-after-dark-art-exhibition-networking-night-las-vegas/
LOCATION:1551 S Commerce St\, 1551 South Commerce Street\, Las Vegas\, NV\, 89102\, United States
CATEGORIES:Networking
ATTACH;FMTTYPE=image/jpeg:https://network.vegas/wp-content/uploads/2025/12/76453b7aac27618194af3730cd48c5fb.jpg
END:VEVENT
END:VCALENDAR