BEGIN:VCALENDAR
VERSION:2.0
PRODID:-//Network.Vegas - ECPv6.15.20//NONSGML v1.0//EN
CALSCALE:GREGORIAN
METHOD:PUBLISH
X-WR-CALNAME:Network.Vegas
X-ORIGINAL-URL:https://network.vegas
X-WR-CALDESC:Events for Network.Vegas
REFRESH-INTERVAL;VALUE=DURATION:PT1H
X-Robots-Tag:noindex
X-PUBLISHED-TTL:PT1H
BEGIN:VTIMEZONE
TZID:America/Los_Angeles
BEGIN:DAYLIGHT
TZOFFSETFROM:-0800
TZOFFSETTO:-0700
TZNAME:PDT
DTSTART:20250309T100000
END:DAYLIGHT
BEGIN:STANDARD
TZOFFSETFROM:-0700
TZOFFSETTO:-0800
TZNAME:PST
DTSTART:20251102T090000
END:STANDARD
BEGIN:DAYLIGHT
TZOFFSETFROM:-0800
TZOFFSETTO:-0700
TZNAME:PDT
DTSTART:20260308T100000
END:DAYLIGHT
BEGIN:STANDARD
TZOFFSETFROM:-0700
TZOFFSETTO:-0800
TZNAME:PST
DTSTART:20261101T090000
END:STANDARD
BEGIN:DAYLIGHT
TZOFFSETFROM:-0800
TZOFFSETTO:-0700
TZNAME:PDT
DTSTART:20270314T100000
END:DAYLIGHT
BEGIN:STANDARD
TZOFFSETFROM:-0700
TZOFFSETTO:-0800
TZNAME:PST
DTSTART:20271107T090000
END:STANDARD
END:VTIMEZONE
BEGIN:VEVENT
DTSTART;TZID=America/Los_Angeles:20260411T090000
DTEND;TZID=America/Los_Angeles:20260823T160000
DTSTAMP:20260425T133350
CREATED:20260411T185311Z
LAST-MODIFIED:20260411T185314Z
UID:53214-1775898000-1787500800@network.vegas
SUMMARY:Art & Science of Arachnids Traveling Exhibit
DESCRIPTION:America’s largest touring arachnid exhibit has arrived at the Las Vegas Science & Natural History Museum – only for the summer! Produced by Little Ray’s Exhibitions\, the Englestad Foundation Traveling Exhibition Series: The Art & Science of Arachnids is a limited time\, interactive exhibit that celebrates the fascinating world of spiders\, scorpions\, and their relatives. From hands-activities learning web-weaving and silk science\, to learning the Tarantella Dance and enjoying macro photography\, museum visitors will get a chance to dispel myths about arachnids and learn about conservation and the important role they play in our ecosystem. \n\nExhibit Highlights: \n\n 	Live Arachnids – Observe fascinating species up close in safe\, educational displays \n\n\n 	Giant Sculptures – Marvel at larger-than-life arachnid art installations \n\n\n 	Stunning Artwork – Explore beautiful pieces celebrating these misunderstood creatures \n\n\n 	Hands-On Activities:  \n\n\n 	Web-weaving demonstrations and interactive stations \n\n\n 	Silk science experiments \n\n\n 	Macro photography opportunities \n\n\n 	Learn and perform the Tarantella Dance! \n\n\n 	Cultural Connections – Discover arachnids’ roles in medicine\, music\, and folklore \n\nWhen: March 21 – August 23\, 2026\nWhere: Las Vegas Science & Natural History Museum\, 900 Las Vegas Blvd N\, Las Vegas\, NV 89101\nHours: Daily 9 a.m. – 4 p.m. \n\nAdmission: \n\n 	Children 2 & under: FREE \n\n\n 	Children ages 3-11: $7 \n\n\n 	Students\, Seniors & Military: $12 \n\n\n 	Adults 18+: $14 \n\n\n 	Nevada Resident Discounts Available (with valid ID) \n\nWebsite: https://www.lvnhm.org/ 
URL:https://network.vegas/calendar/art-science-of-arachnids-traveling-exhibit/2026-04-11/
LOCATION:Las Vegas Science & Natural History Museum\, l
CATEGORIES:Educational
ATTACH;FMTTYPE=image/png:https://network.vegas/wp-content/uploads/2026/04/The-Art-Science-of-Arachnids-Ad-Facebook-Video.png
END:VEVENT
BEGIN:VEVENT
DTSTART;TZID=America/Los_Angeles:20260822T140000
DTEND;TZID=America/Los_Angeles:20260822T170000
DTSTAMP:20260425T133350
CREATED:20260423T171429Z
LAST-MODIFIED:20260423T171433Z
UID:53653-1787407200-1787418000@network.vegas
SUMMARY:2026 Nevada Nonprofit Awareness Day Community Event
DESCRIPTION:On August 22nd our organization is hosting our annual Nevada Nonprofit Awareness Day Community Event. This is a free community event to raise awareness for the many local nonprofit organizations in Southern Nevada. This event will give nonprofits an opportunity to come together in one place\, at the same time\, and connect with the public.\n\nThis event is designed to give nonprofits an opportunity to come together in one place\, at the same time\, and connect with the public while at the same time celebrating their contributions to the community. This is a FREE EVENT FOR EVERYONE but we ask that nonprofits who want to exhibit and attendees pre-register. \n\nFREE entertainment for the entire family. FREE giveaways and surprises throughout the event donated by our sponsors and vendors. Fun games & activities for the kids. We are inviting the community to come on out for a fun time and meet the local nonprofit organizations in our great community and learn more about what they do and the services they provide.
URL:https://network.vegas/calendar/2026-nevada-nonprofit-awareness-day-community-event/
LOCATION:Desert Breeze Community Center
CATEGORIES:Community
ATTACH;FMTTYPE=image/png:https://network.vegas/wp-content/uploads/2026/04/2026-Nonprofit-Awareness-Day-FB-and-IG-Post-Final.png
ORGANIZER;CN="Winning 4a Cause":MAILTO:winning4acause@gmail.com
END:VEVENT
END:VCALENDAR