BEGIN:VCALENDAR
VERSION:2.0
PRODID:-//Network.Vegas - ECPv6.15.20//NONSGML v1.0//EN
CALSCALE:GREGORIAN
METHOD:PUBLISH
X-WR-CALNAME:Network.Vegas
X-ORIGINAL-URL:https://network.vegas
X-WR-CALDESC:Events for Network.Vegas
REFRESH-INTERVAL;VALUE=DURATION:PT1H
X-Robots-Tag:noindex
X-PUBLISHED-TTL:PT1H
BEGIN:VTIMEZONE
TZID:America/Los_Angeles
BEGIN:DAYLIGHT
TZOFFSETFROM:-0800
TZOFFSETTO:-0700
TZNAME:PDT
DTSTART:20250309T100000
END:DAYLIGHT
BEGIN:STANDARD
TZOFFSETFROM:-0700
TZOFFSETTO:-0800
TZNAME:PST
DTSTART:20251102T090000
END:STANDARD
BEGIN:DAYLIGHT
TZOFFSETFROM:-0800
TZOFFSETTO:-0700
TZNAME:PDT
DTSTART:20260308T100000
END:DAYLIGHT
BEGIN:STANDARD
TZOFFSETFROM:-0700
TZOFFSETTO:-0800
TZNAME:PST
DTSTART:20261101T090000
END:STANDARD
BEGIN:DAYLIGHT
TZOFFSETFROM:-0800
TZOFFSETTO:-0700
TZNAME:PDT
DTSTART:20270314T100000
END:DAYLIGHT
BEGIN:STANDARD
TZOFFSETFROM:-0700
TZOFFSETTO:-0800
TZNAME:PST
DTSTART:20271107T090000
END:STANDARD
END:VTIMEZONE
BEGIN:VEVENT
DTSTART;TZID=America/Los_Angeles:20260411T090000
DTEND;TZID=America/Los_Angeles:20260823T160000
DTSTAMP:20260425T065133
CREATED:20260411T185311Z
LAST-MODIFIED:20260411T185314Z
UID:53214-1775898000-1787500800@network.vegas
SUMMARY:Art & Science of Arachnids Traveling Exhibit
DESCRIPTION:America’s largest touring arachnid exhibit has arrived at the Las Vegas Science & Natural History Museum – only for the summer! Produced by Little Ray’s Exhibitions\, the Englestad Foundation Traveling Exhibition Series: The Art & Science of Arachnids is a limited time\, interactive exhibit that celebrates the fascinating world of spiders\, scorpions\, and their relatives. From hands-activities learning web-weaving and silk science\, to learning the Tarantella Dance and enjoying macro photography\, museum visitors will get a chance to dispel myths about arachnids and learn about conservation and the important role they play in our ecosystem. \n\nExhibit Highlights: \n\n 	Live Arachnids – Observe fascinating species up close in safe\, educational displays \n\n\n 	Giant Sculptures – Marvel at larger-than-life arachnid art installations \n\n\n 	Stunning Artwork – Explore beautiful pieces celebrating these misunderstood creatures \n\n\n 	Hands-On Activities:  \n\n\n 	Web-weaving demonstrations and interactive stations \n\n\n 	Silk science experiments \n\n\n 	Macro photography opportunities \n\n\n 	Learn and perform the Tarantella Dance! \n\n\n 	Cultural Connections – Discover arachnids’ roles in medicine\, music\, and folklore \n\nWhen: March 21 – August 23\, 2026\nWhere: Las Vegas Science & Natural History Museum\, 900 Las Vegas Blvd N\, Las Vegas\, NV 89101\nHours: Daily 9 a.m. – 4 p.m. \n\nAdmission: \n\n 	Children 2 & under: FREE \n\n\n 	Children ages 3-11: $7 \n\n\n 	Students\, Seniors & Military: $12 \n\n\n 	Adults 18+: $14 \n\n\n 	Nevada Resident Discounts Available (with valid ID) \n\nWebsite: https://www.lvnhm.org/ 
URL:https://network.vegas/calendar/art-science-of-arachnids-traveling-exhibit/2026-04-11/
LOCATION:Las Vegas Science & Natural History Museum\, l
CATEGORIES:Educational
ATTACH;FMTTYPE=image/png:https://network.vegas/wp-content/uploads/2026/04/The-Art-Science-of-Arachnids-Ad-Facebook-Video.png
END:VEVENT
BEGIN:VEVENT
DTSTART;TZID=America/Los_Angeles:20260527T000000
DTEND;TZID=America/Los_Angeles:20260606T235959
DTSTAMP:20260425T065133
CREATED:20240812T174707Z
LAST-MODIFIED:20240812T174707Z
UID:39259-1779840000-1780790399@network.vegas
SUMMARY:Gartner\, Inc-Application & Solutions Summit 2026
DESCRIPTION:Introduction\nJoin us for the Gartner\, Inc-Application & Solutions Summit 2026\, scheduled to take place in the vibrant city of Las Vegas. This premier event gathers technology and business leaders to explore the latest advancements in application strategies and solutions. Attendees can expect insightful discussions and networking opportunities that are pivotal for both local residents and visitors looking to stay ahead in the rapidly evolving technology landscape. \nEvent Overview\nOrganized by Gartner\, Inc.\, a leading research and advisory company\, the summit attracts a diverse array of professionals\, including CIOs\, IT leaders\, business executives\, and solution providers. This gathering is a must for anyone invested in application development and digital transformation. Local Las Vegas residents and visitors alike should seize this opportunity to engage with industry experts\, gain invaluable insights\, and explore practical strategies to enhance their organizations’ technology initiatives. \nUnique Features/Events\nThe summit will feature keynote speeches from renowned leaders in technology and business\, providing attendees with fresh perspectives on emerging trends and innovations. Participants can look forward to interactive sessions\, panel discussions\, and hands-on workshops that delve into critical topics such as cloud computing\, application security\, and digital marketing strategies. Networking events will also be plentiful\, offering attendees the chance to connect with peers and establish valuable relationships that can drive success in their respective fields. \nCall-to-Action\nDon’t miss out on this transformative experience! Secure your tickets now for the Gartner\, Inc-Application & Solutions Summit 2026 and take the first step towards empowering your organization with cutting-edge solutions and insights. Join us in Las Vegas to be part of the future of technology.
URL:https://network.vegas/calendar/gartner-inc-application-solutions-summit-2026/
ATTACH;FMTTYPE=image/jpeg:https://network.vegas/wp-content/uploads/2024/08/Convention-Banner.jpg
END:VEVENT
BEGIN:VEVENT
DTSTART;TZID=America/Los_Angeles:20260601T173000
DTEND;TZID=America/Los_Angeles:20260601T190000
DTSTAMP:20260425T065133
CREATED:20260210T174907Z
LAST-MODIFIED:20260313T101852Z
UID:51956-1780335000-1780340400@network.vegas
SUMMARY:SPARC Referral Community Weekly Meeting
DESCRIPTION:Every week\, our SPARC members gather. Be our guest and learn how the power of the network can work for your business.
URL:https://network.vegas/calendar/sparc-referral-community-weekly-meeting-172/
LOCATION:Kiln\, 8488 Rozita Lee Avenue\, #bldg 3 suite 100\, Las Vegas\, NV\, 89113\, United States
CATEGORIES:Networking
ATTACH;FMTTYPE=image/jpeg:https://network.vegas/wp-content/uploads/2026/03/33f5d8944fe2a830c69a2a5012b91077.jpg
END:VEVENT
BEGIN:VEVENT
DTSTART;TZID=America/Los_Angeles:20260602T173000
DTEND;TZID=America/Los_Angeles:20260602T190000
DTSTAMP:20260425T065133
CREATED:20260423T171402Z
LAST-MODIFIED:20260423T171406Z
UID:53645-1780421400-1780426800@network.vegas
SUMMARY:Nonprofits Supporting Nonprofits – Southern Nevada Networking Mixer
DESCRIPTION:The Nonprofits Supporting Nonprofits – Southern Nevada Networking Mixer is a monthly networking event designed to bring together nonprofit leaders\, volunteers\, community partners\, and businesses that support charitable causes across Southern Nevada.\n\nHosted by Winning 4a Cause\, this event provides a welcoming environment where nonprofit professionals can build relationships\, explore collaboration opportunities\, and connect with individuals and organizations that care about making a positive impact in the community.\n\nWhether you’re part of a nonprofit organization\, thinking about starting a nonprofit\, volunteering with a cause\, or looking for ways your business can support local charities\, this mixer offers an opportunity to meet like-minded people who share a passion for strengthening the nonprofit community.\n\nJoin us on the first Tuesday of each month for meaningful connections and conversations that help nonprofits grow and thrive.
URL:https://network.vegas/calendar/nonprofits-supporting-nonprofits-southern-nevada-networking-mixer/
LOCATION:Lazy Dog Restaurant & Bar\, 594 North Stephanie Street\, Henderson\, NV\, 89014\, United States
CATEGORIES:Community,Networking
ATTACH;FMTTYPE=image/png:https://network.vegas/wp-content/uploads/2026/04/resized_1200x628.png
ORGANIZER;CN="Winning 4a Cause":MAILTO:winning4acause@gmail.com
END:VEVENT
BEGIN:VEVENT
DTSTART;TZID=America/Los_Angeles:20260602T173000
DTEND;TZID=America/Los_Angeles:20260602T190000
DTSTAMP:20260425T065133
CREATED:20260210T174908Z
LAST-MODIFIED:20260313T101856Z
UID:51957-1780421400-1780426800@network.vegas
SUMMARY:SPARC Referral Community Weekly Meeting
DESCRIPTION:Every week\, our SPARC members gather. Be our guest and learn how the power of the network can work for your business.
URL:https://network.vegas/calendar/sparc-referral-community-weekly-meeting-173/
LOCATION:Kiln\, 8488 Rozita Lee Avenue\, #bldg 3 suite 100\, Las Vegas\, NV\, 89113\, United States
CATEGORIES:Networking
ATTACH;FMTTYPE=image/jpeg:https://network.vegas/wp-content/uploads/2026/03/33f5d8944fe2a830c69a2a5012b91077.jpg
END:VEVENT
BEGIN:VEVENT
DTSTART;TZID=America/Los_Angeles:20260603T110000
DTEND;TZID=America/Los_Angeles:20260603T130000
DTSTAMP:20260425T065133
CREATED:20260210T174931Z
LAST-MODIFIED:20260210T174931Z
UID:51974-1780484400-1780491600@network.vegas
SUMMARY:Be You Brand Coffee Club ( Las Vegas Women Entrepreneurs  Networking )
DESCRIPTION:Be You Brand Coffee Club is a monthly Las Vegas meetup for women entrepreneurs focused on intentional connection\, visibility\, and community.
URL:https://network.vegas/calendar/be-you-brand-coffee-club-las-vegas-women-entrepreneurs-networking-4/
LOCATION:Velvet Vine Wine\, 511 South Las Vegas Boulevard\, Las Vegas\, NV\, 89101\, United States
CATEGORIES:Las Vegas Business
END:VEVENT
BEGIN:VEVENT
DTSTART;TZID=America/Los_Angeles:20260603T120000
DTEND;TZID=America/Los_Angeles:20260603T133000
DTSTAMP:20260425T065133
CREATED:20260227T223842Z
LAST-MODIFIED:20260313T101900Z
UID:52250-1780488000-1780493400@network.vegas
SUMMARY:SPARC Referral Community Weekly Meeting
DESCRIPTION:Every week\, our SPARC members gather. Be our guest and learn how the power of the network can work for your business.
URL:https://network.vegas/calendar/sparc-referral-community-weekly-meeting-174/
LOCATION:Kiln\, 8488 Rozita Lee Avenue\, #bldg 3 suite 100\, Las Vegas\, NV\, 89113\, United States
CATEGORIES:Networking
ATTACH;FMTTYPE=image/jpeg:https://network.vegas/wp-content/uploads/2026/03/33f5d8944fe2a830c69a2a5012b91077.jpg
END:VEVENT
END:VCALENDAR