BEGIN:VCALENDAR
VERSION:2.0
PRODID:-//Network.Vegas - ECPv6.15.20//NONSGML v1.0//EN
CALSCALE:GREGORIAN
METHOD:PUBLISH
X-WR-CALNAME:Network.Vegas
X-ORIGINAL-URL:https://network.vegas
X-WR-CALDESC:Events for Network.Vegas
REFRESH-INTERVAL;VALUE=DURATION:PT1H
X-Robots-Tag:noindex
X-PUBLISHED-TTL:PT1H
BEGIN:VTIMEZONE
TZID:America/Los_Angeles
BEGIN:DAYLIGHT
TZOFFSETFROM:-0800
TZOFFSETTO:-0700
TZNAME:PDT
DTSTART:20250309T100000
END:DAYLIGHT
BEGIN:STANDARD
TZOFFSETFROM:-0700
TZOFFSETTO:-0800
TZNAME:PST
DTSTART:20251102T090000
END:STANDARD
BEGIN:DAYLIGHT
TZOFFSETFROM:-0800
TZOFFSETTO:-0700
TZNAME:PDT
DTSTART:20260308T100000
END:DAYLIGHT
BEGIN:STANDARD
TZOFFSETFROM:-0700
TZOFFSETTO:-0800
TZNAME:PST
DTSTART:20261101T090000
END:STANDARD
BEGIN:DAYLIGHT
TZOFFSETFROM:-0800
TZOFFSETTO:-0700
TZNAME:PDT
DTSTART:20270314T100000
END:DAYLIGHT
BEGIN:STANDARD
TZOFFSETFROM:-0700
TZOFFSETTO:-0800
TZNAME:PST
DTSTART:20271107T090000
END:STANDARD
END:VTIMEZONE
BEGIN:VEVENT
DTSTART;TZID=America/Los_Angeles:20260411T090000
DTEND;TZID=America/Los_Angeles:20260823T160000
DTSTAMP:20260425T094928
CREATED:20260411T185311Z
LAST-MODIFIED:20260411T185314Z
UID:53214-1775898000-1787500800@network.vegas
SUMMARY:Art & Science of Arachnids Traveling Exhibit
DESCRIPTION:America’s largest touring arachnid exhibit has arrived at the Las Vegas Science & Natural History Museum – only for the summer! Produced by Little Ray’s Exhibitions\, the Englestad Foundation Traveling Exhibition Series: The Art & Science of Arachnids is a limited time\, interactive exhibit that celebrates the fascinating world of spiders\, scorpions\, and their relatives. From hands-activities learning web-weaving and silk science\, to learning the Tarantella Dance and enjoying macro photography\, museum visitors will get a chance to dispel myths about arachnids and learn about conservation and the important role they play in our ecosystem. \n\nExhibit Highlights: \n\n 	Live Arachnids – Observe fascinating species up close in safe\, educational displays \n\n\n 	Giant Sculptures – Marvel at larger-than-life arachnid art installations \n\n\n 	Stunning Artwork – Explore beautiful pieces celebrating these misunderstood creatures \n\n\n 	Hands-On Activities:  \n\n\n 	Web-weaving demonstrations and interactive stations \n\n\n 	Silk science experiments \n\n\n 	Macro photography opportunities \n\n\n 	Learn and perform the Tarantella Dance! \n\n\n 	Cultural Connections – Discover arachnids’ roles in medicine\, music\, and folklore \n\nWhen: March 21 – August 23\, 2026\nWhere: Las Vegas Science & Natural History Museum\, 900 Las Vegas Blvd N\, Las Vegas\, NV 89101\nHours: Daily 9 a.m. – 4 p.m. \n\nAdmission: \n\n 	Children 2 & under: FREE \n\n\n 	Children ages 3-11: $7 \n\n\n 	Students\, Seniors & Military: $12 \n\n\n 	Adults 18+: $14 \n\n\n 	Nevada Resident Discounts Available (with valid ID) \n\nWebsite: https://www.lvnhm.org/ 
URL:https://network.vegas/calendar/art-science-of-arachnids-traveling-exhibit/2026-04-11/
LOCATION:Las Vegas Science & Natural History Museum\, l
CATEGORIES:Educational
ATTACH;FMTTYPE=image/png:https://network.vegas/wp-content/uploads/2026/04/The-Art-Science-of-Arachnids-Ad-Facebook-Video.png
END:VEVENT
BEGIN:VEVENT
DTSTART;TZID=America/Los_Angeles:20260513T000000
DTEND;TZID=America/Los_Angeles:20260521T235959
DTSTAMP:20260425T094928
CREATED:20240812T175342Z
LAST-MODIFIED:20240812T175342Z
UID:39389-1778630400-1779407999@network.vegas
SUMMARY:CSO & Sales Leaders Conference 2026
DESCRIPTION:The CSO & Sales Leaders Conference 2026 is set to take place in the vibrant city of Las Vegas\, a premier destination for business events and networking opportunities. This essential gathering for sales executives and chief sales officers will focus on the latest strategies and technologies driving sales success in today’s competitive landscape. Local residents and visitors in Las Vegas would not want to miss this opportunity to connect with industry leaders and gain valuable insights to enhance their sales approaches.\nOrganized by Gartner\, a globally recognized leader in research and advisory services\, this conference attracts a diverse audience of senior sales executives\, strategists\, and thought leaders from various industries. Attendees will engage in dynamic discussions\, innovative workshops\, and networking sessions that foster collaboration and idea-sharing. For Las Vegas locals and visitors\, attending this conference provides a unique chance to gain cutting-edge knowledge\, discover emerging trends\, and create professional connections that could lead to new partnerships or career advancements. \nOne of the standout features of the CSO & Sales Leaders Conference 2026 is its lineup of esteemed keynote speakers who are influential voices in the sales industry. Participants can expect to hear from top experts who will share their experiences\, best practices\, and forecasts for the future of sales. Additionally\, the conference will include interactive breakout sessions tailored to address specific challenges and opportunities faced by sales leaders today. This hands-on approach ensures that attendees will leave with practical tools and strategies they can implement immediately in their organizations. \nWith Las Vegas being a hub for innovation and commerce\, the CSO & Sales Leaders Conference 2026 not only offers a chance to learn from the best but also provides an experience in a city known for its entertainment and culture. Attending this conference can be both an enlightening and enjoyable experience\, allowing participants to balance professional development with the exciting attractions of Las Vegas. \nDon’t miss out on this pivotal event that can transform your sales strategies and expand your professional network. Secure your tickets now to ensure you are part of the conversation shaping the future of sales leadership!
URL:https://network.vegas/calendar/cso-sales-leaders-conference-2026/
CATEGORIES:Convention
ATTACH;FMTTYPE=image/jpeg:https://network.vegas/wp-content/uploads/2024/08/Convention-Banner.jpg
END:VEVENT
BEGIN:VEVENT
DTSTART;TZID=America/Los_Angeles:20260518T173000
DTEND;TZID=America/Los_Angeles:20260518T190000
DTSTAMP:20260425T094928
CREATED:20260210T174901Z
LAST-MODIFIED:20260313T101848Z
UID:51950-1779125400-1779130800@network.vegas
SUMMARY:SPARC Referral Community Weekly Meeting
DESCRIPTION:Every week\, our SPARC members gather. Be our guest and learn how the power of the network can work for your business.
URL:https://network.vegas/calendar/sparc-referral-community-weekly-meeting-166/
LOCATION:Kiln\, 8488 Rozita Lee Avenue\, #bldg 3 suite 100\, Las Vegas\, NV\, 89113\, United States
CATEGORIES:Networking
ATTACH;FMTTYPE=image/jpeg:https://network.vegas/wp-content/uploads/2026/03/33f5d8944fe2a830c69a2a5012b91077.jpg
END:VEVENT
BEGIN:VEVENT
DTSTART;TZID=America/Los_Angeles:20260519T173000
DTEND;TZID=America/Los_Angeles:20260519T190000
DTSTAMP:20260425T094928
CREATED:20260210T174902Z
LAST-MODIFIED:20260313T101848Z
UID:51951-1779211800-1779217200@network.vegas
SUMMARY:SPARC Referral Community Weekly Meeting
DESCRIPTION:Every week\, our SPARC members gather. Be our guest and learn how the power of the network can work for your business.
URL:https://network.vegas/calendar/sparc-referral-community-weekly-meeting-167/
LOCATION:Kiln\, 8488 Rozita Lee Avenue\, #bldg 3 suite 100\, Las Vegas\, NV\, 89113\, United States
CATEGORIES:Networking
ATTACH;FMTTYPE=image/jpeg:https://network.vegas/wp-content/uploads/2026/03/33f5d8944fe2a830c69a2a5012b91077.jpg
END:VEVENT
BEGIN:VEVENT
DTSTART;TZID=America/Los_Angeles:20260520T120000
DTEND;TZID=America/Los_Angeles:20260520T133000
DTSTAMP:20260425T094928
CREATED:20260210T174903Z
LAST-MODIFIED:20260313T101849Z
UID:51952-1779278400-1779283800@network.vegas
SUMMARY:SPARC Referral Community Weekly Meeting
DESCRIPTION:Every week\, our SPARC members gather. Be our guest and learn how the power of the network can work for your business.
URL:https://network.vegas/calendar/sparc-referral-community-weekly-meeting-168/
LOCATION:Kiln\, 8488 Rozita Lee Avenue\, #bldg 3 suite 100\, Las Vegas\, NV\, 89113\, United States
CATEGORIES:Networking
ATTACH;FMTTYPE=image/jpeg:https://network.vegas/wp-content/uploads/2026/03/33f5d8944fe2a830c69a2a5012b91077.jpg
END:VEVENT
BEGIN:VEVENT
DTSTART;TZID=America/Los_Angeles:20260520T170000
DTEND;TZID=America/Los_Angeles:20260520T190000
DTSTAMP:20260425T094928
CREATED:20251228T182312Z
LAST-MODIFIED:20251228T182312Z
UID:51045-1779296400-1779303600@network.vegas
SUMMARY:Babes & Bottles NETWORKING @ WSKY Stadium
DESCRIPTION:Monthly  event! Every 3rd Wednesday of the month for Networking\, Drinks\, & more!
URL:https://network.vegas/calendar/babes-bottles-networking-wsky-stadium-5/
LOCATION:WSKY Stadium\, 5625 Polaris Avenue\, #Suite 100\, Las Vegas\, NV\, 89118\, United States
CATEGORIES:Networking
ATTACH;FMTTYPE=image/jpeg:https://network.vegas/wp-content/uploads/2025/12/f65c9a076bd87cdfc3b01525b009b9ea.jpg
END:VEVENT
BEGIN:VEVENT
DTSTART;TZID=America/Los_Angeles:20260521T163000
DTEND;TZID=America/Los_Angeles:20260521T210000
DTSTAMP:20260425T094928
CREATED:20260404T215226Z
LAST-MODIFIED:20260404T215720Z
UID:53013-1779381000-1779397200@network.vegas
SUMMARY:8th Annual Andy Hantges Memorial CCIM Poker Tournament
DESCRIPTION:Join the Southern Nevada CCIM Chapter in the Poker Room at The Orleans for an evening of fun and competition at the 8th Annual Andy Hantges Memorial CCIM Poker Tournament. \nWill you be at the Final Table? \n\nFree drinks while you’re playing\n2 drink tickets when not at the table\nDinner buffet during the 1st break\nUnlimited rebuys through the dinner break ($40 each)\n\nPricing: $75 pre-registration (deadline: May 18) | $100 at the doorBring cash for rebuys! Sponsorship opportunities available ” contact snccim@amnevada.com.
URL:https://network.vegas/calendar/8th-annual-andy-hantges-memorial-ccim-poker-tournament/
CATEGORIES:Real Estate & Construction
ATTACH;FMTTYPE=image/jpeg:https://network.vegas/wp-content/uploads/2024/10/CCIM-SOUTHERN-NEVADA-HORIZONTAL-FULL-COLOR-RGB-1000PX-W-144PPI.jpg
END:VEVENT
BEGIN:VEVENT
DTSTART;TZID=America/Los_Angeles:20260522T210000
DTEND;TZID=America/Los_Angeles:20260522T230000
DTSTAMP:20260425T094928
CREATED:20260405T144937Z
LAST-MODIFIED:20260419T151927Z
UID:53110-1779483600-1779490800@network.vegas
SUMMARY:40 Under Forty: National Icons Of 2026 Presented By Deluxe Version Magazine
DESCRIPTION:Celebrate elite professionals at 40 Under Forty: National Icons Of 2026\, brought to you by Deluxe Version Magazine\, Komodo\, & LIV Nightclub!\n\n\nDeluxe Version Magzineinvites you to the 40 Under Forty: National Icons of 2026 celebration. This event honors the next generation of leaders making a significant impact across the country\, and it promises to be an unforgettable evening of networking and recognition. \nThe event will take place in person at Komodo & LIV Nightclub in Las Vegas. It will be a fantastic opportunity to mingle with industry peers and enjoy the vibrant atmosphere as we celebrate this year’s honorees. \nPlaceholder Date: Official Date TBD
URL:https://network.vegas/calendar/40-under-forty-national-icons-of-2026-presented-by-deluxe-version-magazine/
LOCATION:LIV Nightclub Las Vegas\, 2777 South Las Vegas Boulevard\, Las Vegas\, NV\, 89109\, United States
ATTACH;FMTTYPE=image/jpeg:https://network.vegas/wp-content/uploads/2026/04/ea72c82cf10961c2f57e6dcad501163f.jpg
END:VEVENT
END:VCALENDAR