BEGIN:VCALENDAR
VERSION:2.0
PRODID:-//Network.Vegas - ECPv6.15.20//NONSGML v1.0//EN
CALSCALE:GREGORIAN
METHOD:PUBLISH
X-ORIGINAL-URL:https://network.vegas
X-WR-CALDESC:Events for Network.Vegas
REFRESH-INTERVAL;VALUE=DURATION:PT1H
X-Robots-Tag:noindex
X-PUBLISHED-TTL:PT1H
BEGIN:VTIMEZONE
TZID:America/Los_Angeles
BEGIN:DAYLIGHT
TZOFFSETFROM:-0800
TZOFFSETTO:-0700
TZNAME:PDT
DTSTART:20250309T100000
END:DAYLIGHT
BEGIN:STANDARD
TZOFFSETFROM:-0700
TZOFFSETTO:-0800
TZNAME:PST
DTSTART:20251102T090000
END:STANDARD
BEGIN:DAYLIGHT
TZOFFSETFROM:-0800
TZOFFSETTO:-0700
TZNAME:PDT
DTSTART:20260308T100000
END:DAYLIGHT
BEGIN:STANDARD
TZOFFSETFROM:-0700
TZOFFSETTO:-0800
TZNAME:PST
DTSTART:20261101T090000
END:STANDARD
BEGIN:DAYLIGHT
TZOFFSETFROM:-0800
TZOFFSETTO:-0700
TZNAME:PDT
DTSTART:20270314T100000
END:DAYLIGHT
BEGIN:STANDARD
TZOFFSETFROM:-0700
TZOFFSETTO:-0800
TZNAME:PST
DTSTART:20271107T090000
END:STANDARD
END:VTIMEZONE
BEGIN:VEVENT
DTSTART;TZID=America/Los_Angeles:20260411T090000
DTEND;TZID=America/Los_Angeles:20260823T160000
DTSTAMP:20260425T083808
CREATED:20260411T185311Z
LAST-MODIFIED:20260411T185314Z
UID:53214-1775898000-1787500800@network.vegas
SUMMARY:Art & Science of Arachnids Traveling Exhibit
DESCRIPTION:America’s largest touring arachnid exhibit has arrived at the Las Vegas Science & Natural History Museum – only for the summer! Produced by Little Ray’s Exhibitions\, the Englestad Foundation Traveling Exhibition Series: The Art & Science of Arachnids is a limited time\, interactive exhibit that celebrates the fascinating world of spiders\, scorpions\, and their relatives. From hands-activities learning web-weaving and silk science\, to learning the Tarantella Dance and enjoying macro photography\, museum visitors will get a chance to dispel myths about arachnids and learn about conservation and the important role they play in our ecosystem. \n\nExhibit Highlights: \n\n 	Live Arachnids – Observe fascinating species up close in safe\, educational displays \n\n\n 	Giant Sculptures – Marvel at larger-than-life arachnid art installations \n\n\n 	Stunning Artwork – Explore beautiful pieces celebrating these misunderstood creatures \n\n\n 	Hands-On Activities:  \n\n\n 	Web-weaving demonstrations and interactive stations \n\n\n 	Silk science experiments \n\n\n 	Macro photography opportunities \n\n\n 	Learn and perform the Tarantella Dance! \n\n\n 	Cultural Connections – Discover arachnids’ roles in medicine\, music\, and folklore \n\nWhen: March 21 – August 23\, 2026\nWhere: Las Vegas Science & Natural History Museum\, 900 Las Vegas Blvd N\, Las Vegas\, NV 89101\nHours: Daily 9 a.m. – 4 p.m. \n\nAdmission: \n\n 	Children 2 & under: FREE \n\n\n 	Children ages 3-11: $7 \n\n\n 	Students\, Seniors & Military: $12 \n\n\n 	Adults 18+: $14 \n\n\n 	Nevada Resident Discounts Available (with valid ID) \n\nWebsite: https://www.lvnhm.org/ 
URL:https://network.vegas/calendar/art-science-of-arachnids-traveling-exhibit/2026-04-11/
LOCATION:Las Vegas Science & Natural History Museum\, l
CATEGORIES:Educational
ATTACH;FMTTYPE=image/png:https://network.vegas/wp-content/uploads/2026/04/The-Art-Science-of-Arachnids-Ad-Facebook-Video.png
END:VEVENT
BEGIN:VEVENT
DTSTART;TZID=America/Los_Angeles:20260511T173000
DTEND;TZID=America/Los_Angeles:20260511T190000
DTSTAMP:20260425T083808
CREATED:20260210T174859Z
LAST-MODIFIED:20260313T101836Z
UID:51947-1778520600-1778526000@network.vegas
SUMMARY:SPARC Referral Community Weekly Meeting
DESCRIPTION:Every week\, our SPARC members gather. Be our guest and learn how the power of the network can work for your business.
URL:https://network.vegas/calendar/sparc-referral-community-weekly-meeting-163/
LOCATION:Kiln\, 8488 Rozita Lee Avenue\, #bldg 3 suite 100\, Las Vegas\, NV\, 89113\, United States
CATEGORIES:Networking
ATTACH;FMTTYPE=image/jpeg:https://network.vegas/wp-content/uploads/2026/03/33f5d8944fe2a830c69a2a5012b91077.jpg
END:VEVENT
BEGIN:VEVENT
DTSTART;TZID=America/Los_Angeles:20260512T113000
DTEND;TZID=America/Los_Angeles:20260512T113000
DTSTAMP:20260425T083808
CREATED:20260406T171801Z
LAST-MODIFIED:20260406T171806Z
UID:53118-1778585400-1778585400@network.vegas
SUMMARY:May Luncheon Meeting
DESCRIPTION:
URL:https://network.vegas/calendar/may-luncheon-meeting/
CATEGORIES:Networking
ATTACH;FMTTYPE=image/png:https://network.vegas/wp-content/uploads/2026/04/image-6.png
END:VEVENT
BEGIN:VEVENT
DTSTART;TZID=America/Los_Angeles:20260512T170000
DTEND;TZID=America/Los_Angeles:20260512T190000
DTSTAMP:20260425T083808
CREATED:20260412T103423Z
LAST-MODIFIED:20260412T103423Z
UID:53455-1778605200-1778612400@network.vegas
SUMMARY:Round Table Discussion on Student Readiness
DESCRIPTION:Join AIA Las Vegas for an insightful round table discussion as we examine and analyze the UNLV Student Readiness Survey results. This collaborative session will provide a unique opportunity to understand how emerging architecture professionals are preparing for today’s evolving practice landscape. \nThis interactive discussion will focus on data-driven insights from the survey\, exploring key themes around student preparedness\, skill gaps\, and alignment with current industry demands. This round table is designed to foster meaningful dialogue between experienced practitioners and emerging professionals and academics. \nThis round table is particularly valuable for: \n\nAIA\, IIDA and ASLA Members seeking to understand the next generation of architects\nFirm principals and hiring managers\nEducators and mentors\nMembers involved in student outreach and professional development initiatives\n\nAligned with our mission to inspire and empower members to elevate our communities\, this discussion will explore how we can collectively bridge the gap between academic preparation and professional practice. The insights gained will help inform our ongoing efforts to transform the built environment through the power of design\, advocacy and education. \nIf you are a firm principal or have direct reports and you did not receive the survey\, please contact shunt@aianevada.org to receive the link.
URL:https://network.vegas/calendar/round-table-discussion-on-student-readiness/
CATEGORIES:Membership Meetings,Professional Association
ATTACH;FMTTYPE=image/png:https://network.vegas/wp-content/uploads/2026/04/Round-Table-Discussion-2-scaled-O1dv7G.png
END:VEVENT
BEGIN:VEVENT
DTSTART;TZID=America/Los_Angeles:20260512T173000
DTEND;TZID=America/Los_Angeles:20260512T190000
DTSTAMP:20260425T083808
CREATED:20260210T174859Z
LAST-MODIFIED:20260313T101842Z
UID:51948-1778607000-1778612400@network.vegas
SUMMARY:SPARC Referral Community Weekly Meeting
DESCRIPTION:Every week\, our SPARC members gather. Be our guest and learn how the power of the network can work for your business.
URL:https://network.vegas/calendar/sparc-referral-community-weekly-meeting-164/
LOCATION:Kiln\, 8488 Rozita Lee Avenue\, #bldg 3 suite 100\, Las Vegas\, NV\, 89113\, United States
CATEGORIES:Networking
ATTACH;FMTTYPE=image/jpeg:https://network.vegas/wp-content/uploads/2026/03/33f5d8944fe2a830c69a2a5012b91077.jpg
END:VEVENT
BEGIN:VEVENT
DTSTART;TZID=America/Los_Angeles:20260513T000000
DTEND;TZID=America/Los_Angeles:20260521T235959
DTSTAMP:20260425T083808
CREATED:20240812T175342Z
LAST-MODIFIED:20240812T175342Z
UID:39389-1778630400-1779407999@network.vegas
SUMMARY:CSO & Sales Leaders Conference 2026
DESCRIPTION:The CSO & Sales Leaders Conference 2026 is set to take place in the vibrant city of Las Vegas\, a premier destination for business events and networking opportunities. This essential gathering for sales executives and chief sales officers will focus on the latest strategies and technologies driving sales success in today’s competitive landscape. Local residents and visitors in Las Vegas would not want to miss this opportunity to connect with industry leaders and gain valuable insights to enhance their sales approaches.\nOrganized by Gartner\, a globally recognized leader in research and advisory services\, this conference attracts a diverse audience of senior sales executives\, strategists\, and thought leaders from various industries. Attendees will engage in dynamic discussions\, innovative workshops\, and networking sessions that foster collaboration and idea-sharing. For Las Vegas locals and visitors\, attending this conference provides a unique chance to gain cutting-edge knowledge\, discover emerging trends\, and create professional connections that could lead to new partnerships or career advancements. \nOne of the standout features of the CSO & Sales Leaders Conference 2026 is its lineup of esteemed keynote speakers who are influential voices in the sales industry. Participants can expect to hear from top experts who will share their experiences\, best practices\, and forecasts for the future of sales. Additionally\, the conference will include interactive breakout sessions tailored to address specific challenges and opportunities faced by sales leaders today. This hands-on approach ensures that attendees will leave with practical tools and strategies they can implement immediately in their organizations. \nWith Las Vegas being a hub for innovation and commerce\, the CSO & Sales Leaders Conference 2026 not only offers a chance to learn from the best but also provides an experience in a city known for its entertainment and culture. Attending this conference can be both an enlightening and enjoyable experience\, allowing participants to balance professional development with the exciting attractions of Las Vegas. \nDon’t miss out on this pivotal event that can transform your sales strategies and expand your professional network. Secure your tickets now to ensure you are part of the conversation shaping the future of sales leadership!
URL:https://network.vegas/calendar/cso-sales-leaders-conference-2026/
CATEGORIES:Convention
ATTACH;FMTTYPE=image/jpeg:https://network.vegas/wp-content/uploads/2024/08/Convention-Banner.jpg
END:VEVENT
BEGIN:VEVENT
DTSTART;TZID=America/Los_Angeles:20260513T120000
DTEND;TZID=America/Los_Angeles:20260513T133000
DTSTAMP:20260425T083808
CREATED:20260210T174900Z
LAST-MODIFIED:20260313T101843Z
UID:51949-1778673600-1778679000@network.vegas
SUMMARY:SPARC Referral Community Weekly Meeting
DESCRIPTION:Every week\, our SPARC members gather. Be our guest and learn how the power of the network can work for your business.
URL:https://network.vegas/calendar/sparc-referral-community-weekly-meeting-165/
LOCATION:Kiln\, 8488 Rozita Lee Avenue\, #bldg 3 suite 100\, Las Vegas\, NV\, 89113\, United States
CATEGORIES:Networking
ATTACH;FMTTYPE=image/jpeg:https://network.vegas/wp-content/uploads/2026/03/33f5d8944fe2a830c69a2a5012b91077.jpg
END:VEVENT
BEGIN:VEVENT
DTSTART;TZID=America/Los_Angeles:20260514T080000
DTEND;TZID=America/Los_Angeles:20260514T093000
DTSTAMP:20260425T083808
CREATED:20260420T155102Z
LAST-MODIFIED:20260420T155105Z
UID:53585-1778745600-1778751000@network.vegas
SUMMARY:MY LAS VEGAS CONNECTIONS NETWORKING BREAKFAST
DESCRIPTION:Want to network\, but don’t have time for weekly meetings. Consider My Las Vegas Connections networking group. We meet once a month with some evening events throughout the year as well. \nConnect with top Las Vegas professionals over coffee\, conversation\, and valuable referrals. This casual\, high-energy event is your opportunity to build relationships\, promote your business\, and connect with new contacts. \nOur group is primarily made up of home services professionals\, but all industries are welcome. \nWe meet at SG Bar VIP Room\, 9580 W. Flamingo Rd\, at the 215 \nPrior to paying contact Mike West to see if your category is available 702-419-5575 Mike@mylasvegasconnections.com \nTo purchase an event ticket and RSVP\, use this URL \nhttps://www.mylasvegasconnections.com/store/my-las-vegas-connections-networking-breakfast
URL:https://network.vegas/calendar/my-las-vegas-connections-networking-breakfast-15/
LOCATION:SG Bar\, 9580 W Flamingo Rd\, Las Vegas\, NV\, 89147\, United States
CATEGORIES:Las Vegas Business,Networking
ATTACH;FMTTYPE=image/jpeg:https://network.vegas/wp-content/uploads/2026/04/MLVC_Flyer_9.23.25-scaled.jpeg
ORGANIZER;CN="Mike West":MAILTO:mike@mylasvegasconnections.com
GEO:36.11559;-115.30122
X-APPLE-STRUCTURED-LOCATION;VALUE=URI;X-ADDRESS=SG Bar 9580 W Flamingo Rd Las Vegas NV 89147 United States;X-APPLE-RADIUS=500;X-TITLE=9580 W Flamingo Rd:geo:-115.30122,36.11559
END:VEVENT
BEGIN:VEVENT
DTSTART;TZID=America/Los_Angeles:20260514T180000
DTEND;TZID=America/Los_Angeles:20260514T210000
DTSTAMP:20260425T083808
CREATED:20260412T103431Z
LAST-MODIFIED:20260412T103431Z
UID:53465-1778781600-1778792400@network.vegas
SUMMARY:✨ The Women’s Executive Circle ✨ Invites You to a Private Members-Only Dinn
DESCRIPTION:✨ Join The Women’s Executive Circle for an exclusive\, cozy dinner just for our amazing members! ✨\n\n\n✨ The Women’s Executive Circle ✨Invites You to a Private Members-Only DinnerALSO ENJOY: *\nStep into an evening of elegance\, connection\, and intention at Tanager Echo on May 7\, 2026 at 6:00 PM (Pacific Time). This exclusive\, members-only experience has been thoughtfully curated for women who value meaningful relationships\, elevated conversations\, and a supportive\, like-minded community. \nJoin us for a refined and intimate dinner where you’ll have the opportunity to connect deeply\, share your journey\, and be surrounded by inspiring women who are building\, growing\, and leading. From the ambiance to the conversations\, every detail is designed to create a warm yet luxurious space where authentic connections can flourish. \nWith limited seating to preserve the intimacy of the evening\, this is more than just a dinner—it’s a moment to pour into yourself and others in a powerful\, aligned circle. We can’t wait to share this unforgettable experience with you. ✨ \n\nGift bags with exclusive goodies\nInteractive photo booth\nThree speakers sharing strategies. to scale your business to new heights:
URL:https://network.vegas/calendar/%e2%9c%a8-the-womens-executive-circle-%e2%9c%a8-invites-you-to-a-private-members-only-dinn/
LOCATION:Tanager Echo\, 2255 South Spruce Goose Street\, Las Vegas\, NV\, 89135\, United States
CATEGORIES:Networking
ATTACH;FMTTYPE=image/jpeg:https://network.vegas/wp-content/uploads/2026/04/3894eebf123a0fd65cb7d1af830725c5.jpg
END:VEVENT
BEGIN:VEVENT
DTSTART;TZID=America/Los_Angeles:20260515T073000
DTEND;TZID=America/Los_Angeles:20260515T150000
DTSTAMP:20260425T083808
CREATED:20260404T215222Z
LAST-MODIFIED:20260404T222249Z
UID:53012-1778830200-1778857200@network.vegas
SUMMARY:NAIOP Southern Nevada 34th Annual Golf Tournament
DESCRIPTION:Join NAIOP Southern Nevada for its 34th Annual Golf Tournament at the world-renowned Las Vegas Paiute Golf Resort\, located 25 minutes northwest of the Las Vegas Strip. \n\n\n\nOne of Southern Nevada’s premier commercial real estate networking events\, the tournament features championship-caliber courses set against stunning desert scenery. Teams must include at least one NAIOP member. Sponsorship opportunities and player gift sponsorships are available. \n\n\n\nThe Las Vegas Paiute Golf Resort features three top championship courses\, a 50\,000 sq ft award-winning clubhouse\, full restaurant and bar\, and Nevada’s largest golf shop.
URL:https://network.vegas/calendar/naiop-southern-nevada-34th-annual-golf-tournament/
LOCATION:Las Vegas Paiute Golf Resort (Sun Mountain Course)\, 10325 Nu-Wav Kaiv Blvd\, Las Vegas\, NV\, 89124\, United States
CATEGORIES:Professional Association,Real Estate & Construction
ATTACH;FMTTYPE=image/png:https://network.vegas/wp-content/uploads/2026/04/image-3.png
GEO:36.35766;-115.3214946
X-APPLE-STRUCTURED-LOCATION;VALUE=URI;X-ADDRESS=Las Vegas Paiute Golf Resort (Sun Mountain Course) 10325 Nu-Wav Kaiv Blvd Las Vegas NV 89124 United States;X-APPLE-RADIUS=500;X-TITLE=10325 Nu-Wav Kaiv Blvd:geo:-115.3214946,36.35766
END:VEVENT
END:VCALENDAR