BEGIN:VCALENDAR
VERSION:2.0
PRODID:-//Network.Vegas - ECPv6.15.20//NONSGML v1.0//EN
CALSCALE:GREGORIAN
METHOD:PUBLISH
X-ORIGINAL-URL:https://network.vegas
X-WR-CALDESC:Events for Network.Vegas
REFRESH-INTERVAL;VALUE=DURATION:PT1H
X-Robots-Tag:noindex
X-PUBLISHED-TTL:PT1H
BEGIN:VTIMEZONE
TZID:America/Los_Angeles
BEGIN:DAYLIGHT
TZOFFSETFROM:-0800
TZOFFSETTO:-0700
TZNAME:PDT
DTSTART:20250309T100000
END:DAYLIGHT
BEGIN:STANDARD
TZOFFSETFROM:-0700
TZOFFSETTO:-0800
TZNAME:PST
DTSTART:20251102T090000
END:STANDARD
BEGIN:DAYLIGHT
TZOFFSETFROM:-0800
TZOFFSETTO:-0700
TZNAME:PDT
DTSTART:20260308T100000
END:DAYLIGHT
BEGIN:STANDARD
TZOFFSETFROM:-0700
TZOFFSETTO:-0800
TZNAME:PST
DTSTART:20261101T090000
END:STANDARD
BEGIN:DAYLIGHT
TZOFFSETFROM:-0800
TZOFFSETTO:-0700
TZNAME:PDT
DTSTART:20270314T100000
END:DAYLIGHT
BEGIN:STANDARD
TZOFFSETFROM:-0700
TZOFFSETTO:-0800
TZNAME:PST
DTSTART:20271107T090000
END:STANDARD
END:VTIMEZONE
BEGIN:VEVENT
DTSTART;TZID=America/Los_Angeles:20260411T090000
DTEND;TZID=America/Los_Angeles:20260823T160000
DTSTAMP:20260425T071208
CREATED:20260411T185311Z
LAST-MODIFIED:20260411T185314Z
UID:53214-1775898000-1787500800@network.vegas
SUMMARY:Art & Science of Arachnids Traveling Exhibit
DESCRIPTION:America’s largest touring arachnid exhibit has arrived at the Las Vegas Science & Natural History Museum – only for the summer! Produced by Little Ray’s Exhibitions\, the Englestad Foundation Traveling Exhibition Series: The Art & Science of Arachnids is a limited time\, interactive exhibit that celebrates the fascinating world of spiders\, scorpions\, and their relatives. From hands-activities learning web-weaving and silk science\, to learning the Tarantella Dance and enjoying macro photography\, museum visitors will get a chance to dispel myths about arachnids and learn about conservation and the important role they play in our ecosystem. \n\nExhibit Highlights: \n\n 	Live Arachnids – Observe fascinating species up close in safe\, educational displays \n\n\n 	Giant Sculptures – Marvel at larger-than-life arachnid art installations \n\n\n 	Stunning Artwork – Explore beautiful pieces celebrating these misunderstood creatures \n\n\n 	Hands-On Activities:  \n\n\n 	Web-weaving demonstrations and interactive stations \n\n\n 	Silk science experiments \n\n\n 	Macro photography opportunities \n\n\n 	Learn and perform the Tarantella Dance! \n\n\n 	Cultural Connections – Discover arachnids’ roles in medicine\, music\, and folklore \n\nWhen: March 21 – August 23\, 2026\nWhere: Las Vegas Science & Natural History Museum\, 900 Las Vegas Blvd N\, Las Vegas\, NV 89101\nHours: Daily 9 a.m. – 4 p.m. \n\nAdmission: \n\n 	Children 2 & under: FREE \n\n\n 	Children ages 3-11: $7 \n\n\n 	Students\, Seniors & Military: $12 \n\n\n 	Adults 18+: $14 \n\n\n 	Nevada Resident Discounts Available (with valid ID) \n\nWebsite: https://www.lvnhm.org/ 
URL:https://network.vegas/calendar/art-science-of-arachnids-traveling-exhibit/2026-04-11/
LOCATION:Las Vegas Science & Natural History Museum\, l
CATEGORIES:Educational
ATTACH;FMTTYPE=image/png:https://network.vegas/wp-content/uploads/2026/04/The-Art-Science-of-Arachnids-Ad-Facebook-Video.png
END:VEVENT
BEGIN:VEVENT
DTSTART;TZID=America/Los_Angeles:20260504T000000
DTEND;TZID=America/Los_Angeles:20260507T000000
DTSTAMP:20260425T071208
CREATED:20260116T182127Z
LAST-MODIFIED:20260116T182127Z
UID:51518-1777852800-1778112000@network.vegas
SUMMARY:Advanced Clean Transportation Expo - ACT Expo
DESCRIPTION:
URL:https://network.vegas/calendar/advanced-clean-transportation-expo-act-expo/
LOCATION:Las Vegas Convention Center\, 3150 Paradise Rd\, Las Vegas\, NV 89109\, United States
ATTACH;FMTTYPE=image/png:https://network.vegas/wp-content/uploads/2026/01/12678-U9GsSk.png
END:VEVENT
BEGIN:VEVENT
DTSTART;TZID=America/Los_Angeles:20260504T173000
DTEND;TZID=America/Los_Angeles:20260504T190000
DTSTAMP:20260425T071208
CREATED:20260111T170320Z
LAST-MODIFIED:20260313T101824Z
UID:51301-1777915800-1777921200@network.vegas
SUMMARY:SPARC Referral Community Weekly Meeting
DESCRIPTION:Every week\, our SPARC members gather. Be our guest and learn how the power of the network can work for your business.
URL:https://network.vegas/calendar/sparc-referral-community-weekly-meeting-160/
LOCATION:Kiln\, 8488 Rozita Lee Avenue\, #bldg 3 suite 100\, Las Vegas\, NV\, 89113\, United States
CATEGORIES:Networking
ATTACH;FMTTYPE=image/jpeg:https://network.vegas/wp-content/uploads/2026/03/33f5d8944fe2a830c69a2a5012b91077.jpg
END:VEVENT
BEGIN:VEVENT
DTSTART;TZID=America/Los_Angeles:20260505T000000
DTEND;TZID=America/Los_Angeles:20260507T000000
DTSTAMP:20260425T071208
CREATED:20260116T182107Z
LAST-MODIFIED:20260116T182115Z
UID:51506-1777939200-1778112000@network.vegas
SUMMARY:Hospitality Design - HD Expo
DESCRIPTION:
URL:https://network.vegas/calendar/hospitality-design-hd-expo/
LOCATION:Mandalay Bay\, 3950 Las Vegas Boulevard South\, Las Vegas\, NV\, 89119\, United States
CATEGORIES:Convention
ATTACH;FMTTYPE=image/png:https://network.vegas/wp-content/uploads/2026/01/11135-Uq4nk7.png
END:VEVENT
BEGIN:VEVENT
DTSTART;TZID=America/Los_Angeles:20260505T170000
DTEND;TZID=America/Los_Angeles:20260505T170000
DTSTAMP:20260425T071208
CREATED:20260411T161609Z
LAST-MODIFIED:20260411T161612Z
UID:53233-1778000400-1778000400@network.vegas
SUMMARY:The Insider's View on Las Vegas and Gaming in 2026 - Economic Club of Las Vegas
DESCRIPTION:The Insider’s View on Las Vegas and Gaming in 2026 is a specialized reception and program hosted by the Economic Club of Las Vegas to examine the evolving landscape of the gaming capital. Taking place at Park MGM\, the event features high-level dialogue between key industry figures\, including the President and CEO of the American Gaming Association and the Chairman of the Nevada Gaming Control Board. Discussion topics typically center on current economic trends\, the impact of emerging technologies like artificial intelligence on casino operations\, and the shifting regulatory environment. The forum provides an independent platform for members and professionals to gain firsthand insights into the stability and future growth of the Southern Nevada economy within the global hospitality sector. \n\n\n\nThis news report offers a broader look at how major events and conventions serve as a catalyst for the Las Vegas economy and the hospitality industry.
URL:https://network.vegas/calendar/the-insiders-view-on-las-vegas-and-gaming-in-2026-economic-club-of-las-vegas/
LOCATION:Park MGM Las Vegas\, 3770 South Las Vegas Boulevard Las Vegas\, NV 89109 United States
CATEGORIES:Featured,Networking
ATTACH;FMTTYPE=image/png:https://network.vegas/wp-content/uploads/2026/04/image-14-scaled.png
END:VEVENT
BEGIN:VEVENT
DTSTART;TZID=America/Los_Angeles:20260505T173000
DTEND;TZID=America/Los_Angeles:20260505T193000
DTSTAMP:20260425T071208
CREATED:20260404T215230Z
LAST-MODIFIED:20260404T220600Z
UID:53015-1778002200-1778009400@network.vegas
SUMMARY:Nevada Business Awards
DESCRIPTION:Event RegistrationLast Day to RSVP – April 24\, 2026.Honoree Award CeremonyIn addition to recognizing this year’s honorees\, Nevada Business Magazine\, in partnership with Nevada State Bank\, will present one company with the Spirit of Nevada Business of the Year award for their efforts on behalf of the Silver State. \n\n\n\nJoin us as we recognize these incredible businesses and the people behind them! \n\n\n\nSouthern NevadaMay 5\, 2026\, 5:30p to 7:30p at The Space LV \n\n\n\nNorthern NevadaMay 6\, 2025\, 4p to 6p at the Club at ArrowCreek \n\n\n\nTickets are $25 each for the event.Priority Seating Packages are available. \n\n\n\nPlease fill in the information on the following pages to register.Only registered guests will be admitted\, space is limited.
URL:https://network.vegas/calendar/nevada-business-awards-2/
LOCATION:The Space\, 3460 Cavaretta Court\, Las Vegas\, Nevada\, 89103
CATEGORIES:Featured,Las Vegas Business
ATTACH;FMTTYPE=image/png:https://network.vegas/wp-content/uploads/2026/04/image.png
END:VEVENT
BEGIN:VEVENT
DTSTART;TZID=America/Los_Angeles:20260505T173000
DTEND;TZID=America/Los_Angeles:20260505T190000
DTSTAMP:20260425T071208
CREATED:20260111T170320Z
LAST-MODIFIED:20260313T101828Z
UID:51302-1778002200-1778007600@network.vegas
SUMMARY:SPARC Referral Community Weekly Meeting
DESCRIPTION:Every week\, our SPARC members gather. Be our guest and learn how the power of the network can work for your business.
URL:https://network.vegas/calendar/sparc-referral-community-weekly-meeting-161/
LOCATION:Kiln\, 8488 Rozita Lee Avenue\, #bldg 3 suite 100\, Las Vegas\, NV\, 89113\, United States
CATEGORIES:Networking
ATTACH;FMTTYPE=image/jpeg:https://network.vegas/wp-content/uploads/2026/03/33f5d8944fe2a830c69a2a5012b91077.jpg
END:VEVENT
BEGIN:VEVENT
DTSTART;TZID=America/Los_Angeles:20260506T100000
DTEND;TZID=America/Los_Angeles:20260506T140000
DTSTAMP:20260425T071208
CREATED:20260414T194156Z
LAST-MODIFIED:20260420T172751Z
UID:53523-1778061600-1778076000@network.vegas
SUMMARY:2026 Nevada Small Business Resource Fair
DESCRIPTION:Don’t miss this exciting opportunity for small business owners!\n\n\nSmall business owners and entrepreneurs are invited to attend the Department of Business & Industry’s free Nevada Small Business Resource Fair on Wednesday\, May 6\, 2026 from 10:00 a.m. to 2:00 p.m. at the Sahara West Library.\n\n\nWhether you’re thinking of launching a new venture or currently operating a business\, please join us to make new connections and access FREE resources. \n\nNetworking Zone\n\n\nLearning Sessions\n\n\nGovernment & Nonprofit Exhibitors\n\n\nOn-Site Food Trucks\n\n\nSpecial Guest Welcome Remarks\n\nWalk-ins are welcome\, but pre-registration is encouraged. \n \nParking may be limited. Street parking is available on S. Grand Canyon Dr. and Preakness Pass.
URL:https://network.vegas/calendar/2026-nevada-small-business-resource-fair/
LOCATION:Sahara West Library\, 9600 W Sahara Ave\, Las Vegas\, NV\, 89117\, United States
CATEGORIES:Las Vegas Business
ATTACH;FMTTYPE=image/jpeg:https://network.vegas/wp-content/uploads/2026/04/3e39e474d0ad9b7ababd68d2085e5e86.jpg
END:VEVENT
BEGIN:VEVENT
DTSTART;TZID=America/Los_Angeles:20260506T103000
DTEND;TZID=America/Los_Angeles:20260506T133000
DTSTAMP:20260425T071208
CREATED:20260405T011916Z
LAST-MODIFIED:20260419T011910Z
UID:53094-1778063400-1778074200@network.vegas
SUMMARY:Be You Brand Coffee Club ( Las Vegas Women Entrepreneurs  Networking )
DESCRIPTION:Be You Brand Coffee Club is a monthly Las Vegas meetup for women entrepreneurs focused on intentional connection\, visibility\, and community.\n\n\nBe You Brand Coffee Club is a monthly\, in-person coffee meetup in Las Vegas for women entrepreneurs who want more than surface-level networking. \nThis isn’t traditional networking — it’s intentional connection with structure. \nEach month\, we gather on the first Wednesday to create real conversations\, build meaningful relationships\, and practice showing up as ourselves in business — without pressure\, performance\, or pretending. \nInside the Coffee Club\, you’ll experience: \n\nGuided conversations that make connections feel natural\nIntentional introductions so you’re remembered\, not overlooked\nSpace to practice talking about your work with clarity and confidence\nA room of women entrepreneurs building brands and businesses aligned with who they are\n\nThere’s no forced selling and no awkward elevator pitches.Just enough structure to help real relationships form — and room to be human. \nCreated by the founders of Be You Brand Live\, this monthly gathering is designed to support real connection\, confidence\, and visibility in between larger moments and events. \nThis meetup is ideal for: \n\nWomen entrepreneurs\, founders\, coaches\, creatives\, and service providers\nBusiness owners building visibility and community in Las Vegas\nWomen who want a connection that feels grounded\, aligned\, and supportive\n\nCome as you are.Leave more connected\, clearer in your message\, and supported in your journey.
URL:https://network.vegas/calendar/be-you-brand-coffee-club-las-vegas-women-entrepreneurs-networking-12/
LOCATION:Loaded Empanadas\, 750 South Rampart Boulevard\, Las Vegas\, NV\, 89145\, United States
ATTACH;FMTTYPE=image/jpeg:https://network.vegas/wp-content/uploads/2026/04/7ad84f0e4d73a557d7f7027889bcf360.jpg
END:VEVENT
BEGIN:VEVENT
DTSTART;TZID=America/Los_Angeles:20260506T110000
DTEND;TZID=America/Los_Angeles:20260506T130000
DTSTAMP:20260425T071208
CREATED:20260210T174930Z
LAST-MODIFIED:20260210T174930Z
UID:51973-1778065200-1778072400@network.vegas
SUMMARY:Be You Brand Coffee Club ( Las Vegas Women Entrepreneurs  Networking )
DESCRIPTION:Be You Brand Coffee Club is a monthly Las Vegas meetup for women entrepreneurs focused on intentional connection\, visibility\, and community.
URL:https://network.vegas/calendar/be-you-brand-coffee-club-las-vegas-women-entrepreneurs-networking-3/
LOCATION:Velvet Vine Wine\, 511 South Las Vegas Boulevard\, Las Vegas\, NV\, 89101\, United States
CATEGORIES:Las Vegas Business
END:VEVENT
BEGIN:VEVENT
DTSTART;TZID=America/Los_Angeles:20260506T120000
DTEND;TZID=America/Los_Angeles:20260506T133000
DTSTAMP:20260425T071208
CREATED:20260210T174854Z
LAST-MODIFIED:20260313T101832Z
UID:51946-1778068800-1778074200@network.vegas
SUMMARY:SPARC Referral Community Weekly Meeting
DESCRIPTION:Every week\, our SPARC members gather. Be our guest and learn how the power of the network can work for your business.
URL:https://network.vegas/calendar/sparc-referral-community-weekly-meeting-162/
LOCATION:Kiln\, 8488 Rozita Lee Avenue\, #bldg 3 suite 100\, Las Vegas\, NV\, 89113\, United States
CATEGORIES:Networking
ATTACH;FMTTYPE=image/jpeg:https://network.vegas/wp-content/uploads/2026/03/33f5d8944fe2a830c69a2a5012b91077.jpg
END:VEVENT
BEGIN:VEVENT
DTSTART;TZID=America/Los_Angeles:20260507T113000
DTEND;TZID=America/Los_Angeles:20260507T130000
DTSTAMP:20260425T071208
CREATED:20260416T172053Z
LAST-MODIFIED:20260416T172053Z
UID:53536-1778153400-1778158800@network.vegas
SUMMARY:Gen Z and Millennials: Understanding the Next Generation of Consumers
DESCRIPTION:The “Next Generation” is no longer just a future projection—they are the primary spenders\, tastemakers\, and trendsetters in the Las Vegas market. Join AMA Las Vegas for an interactive mixer and high-stakes panel discussion as we dive into the psychology\, digital habits\, and values-based decision-making of Gen Z and Millennials. \nWhether you’re marketing a global resort\, a local sports franchise\, or a boutique consultancy\, understanding these “experiential-first” generations is the key to winning in 2026. \nMeet Our Moderator\n\nEspen Hild is the current Co-President of UNLV American Marketing Association (AMA)\, an award-winning and top-ranking AMA chapter internationally\, and is a senior at UNLV majoring in Real Estate and minoring in Finance\, graduating in Spring 2026. Espen currently works in commercial real estate brokerage at MDL Group\, combining marketing\, business\, and finance skills learned during his time at UNLV. \nWorking with business owners and retail property owners has given Espen a unique perspective on consumer behavior\, specifically through the effect it has on demand for commercial real estate and the built environment. Changing consumer behaviors\, especially with younger generations\, are forcing retailers to adapt quickly\, and as someone who is in Gen-Z himself\, Espen has seen firsthand what the next generation of consumers demands in the current marketing and overall business landscape. \nA native Nevadan\, being born in Reno\, Espen moved to Mesquite in 2018 and has been in Clark County ever since. Espen has been involved with both UNR & UNLV AMA\, transferring to UNLV for Fall 2023 and immediately joining UNLV AMA’s board as Vice President of Professional Development\, and is the Founder & Managing Director of UNLV AMA’s Mentorship Program\, which provides students the opportunity to be mentored by the top business professionals in Las Vegas. \nOutside of work\, Espen is an avid and competitive tennis player and enjoys staying active through sports\, reflecting the discipline\, focus\, and competitiveness he brings to his professional career. Espen also enjoys reading about Las Vegas history and gives tours of the Las Vegas Strip and Downtown Las Vegas\, taking pride in being a resident of the greatest city in the world – Las Vegas! \nMeet Our Panelists\n\nRamhae Andrea Awit is a marketing student at the University of Nevada\, Las Vegas and the current Co-President of UNLV American Marketing Association. Originally from Saipan in the Northern Mariana Islands\, Ramhae moved to Las Vegas to pursue higher education and expand her opportunities. \nShe works in professional sports marketing\, helping drive brand expansion and support market integration during a defining chapter for Las Vegas athletics. Through internship experiences at Allegiant Stadium\, the Las Vegas Aces\, and the Las Vegas Convention and Visitors Authority\, Ramhae has developed a strong foundation in live event marketing and destination branding. Recently\, she joined the Athletics and assists with marketing project coordination\, contributing to strategic initiatives as the franchise builds its presence in Southern Nevada. \nBeyond her professional work\, Ramhae is passionate about mentorship\, representation\, and creating spaces where women and students of color feel empowered in business. Grounded in creativity and discipline\, Ramhae finds joy in fitness\, dance\, floral art\, and community-building\, bringing both heart and strategy into every room she enters. \n\n\n \nDanielle Perea is the founder and CEO of Golden Hour Co. Digital Agency\, an integrated marketing agency based in Las Vegas with clients coast to coast. With a background in corporate casino and hospitality marketing\, Danielle brings an operator’s perspective to modern marketing strategy. Through Golden Hour Co.\, she helps businesses align positioning\, digital marketing\, content\, paid media\, and public relations into integrated systems designed to drive real business growth. \n\n\n \nLauralie Levy is a marketing executive\, entrepreneur\, and founder of Crowd Siren\, a Las Vegas-based marketing consultancy known for helping brands grow through strategic storytelling and digital innovation. With more than 15 years of experience across startups\, corporate teams\, and high-growth companies\, she has led award-winning marketing initiatives and managed multimillion-dollar marketing budgets. \nLauralie is a frequent speaker on marketing\, entrepreneurship\, and brand strategy\, and has been featured at conferences\, including speaking for PRSA\, at UNLV\, Digital Marketing World Forum\, Digital Summit\, and LeadsCon. Known for her energetic stage presence and practical insights\, she helps marketers rethink how brands connect with audiences in an increasingly noisy digital world.
URL:https://network.vegas/calendar/gen-z-and-millennials-understanding-the-next-generation-of-consumers/
LOCATION:Fogo de Chao\, 360 E Flamingo Rd\, Las Vegas\, Las Vegas\, Nevada\, 89121\, United States
CATEGORIES:Las Vegas Business
ATTACH;FMTTYPE=image/jpeg:https://network.vegas/wp-content/uploads/2026/04/AMA-Event-Website-1800x800-1-2-QhUum1.jpg
END:VEVENT
BEGIN:VEVENT
DTSTART;TZID=America/Los_Angeles:20260507T170000
DTEND;TZID=America/Los_Angeles:20260507T190000
DTSTAMP:20260425T071208
CREATED:20260412T103422Z
LAST-MODIFIED:20260412T103422Z
UID:53453-1778173200-1778180400@network.vegas
SUMMARY:Affordable Housing Innovation: Health Partnerships\, Cooperative Homeownership\, and Modular Construction
DESCRIPTION:Housing stability plays a critical role in public health\, economic resilience\, and community wellbeing. This program explores innovative development strategies that connect housing\, healthcare partnerships\, cooperative ownership models\, and modular construction to expand access to safe and affordable housing. Jeremy Liu\, CEO of Creative Development Partners\, will share how mission-based real estate development can improve health outcomes\, strengthen communities\, and create sustainable pathways to prosperity in under-resourced neighborhoods. \nJeremy Liu\, CEO of Creative Development Partners (CDP)\, will present recent initiatives that leverage real estate development\, complex financing\, creative placemaking\, and small business support to build community prosperity while maintaining multiple bottom-line outcomes: financial viability\, environmental sustainability\, and measurable community benefit. The presentation will examine emerging approaches such as health-prescribed housing\, partnerships with healthcare providers to improve health outcomes through stable housing; cooperative homeownership models that expand access to long-term financial stability; and modular off-site construction strategies that can accelerate housing production while improving quality\, safety\, and cost control. \nParticipants will gain insight into how architects\, planners\, and development professionals can contribute to housing solutions that improve public health\, expand equitable homeownership opportunities\, and deliver resilient\, sustainable communities. The session highlights the role of design and development strategies in addressing housing shortages\, improving occupant health and safety\, and strengthening the social and economic vitality of underserved neighborhoods. \nLearning Objectives \n1. Explain the relationship between housing stability and public health outcomes\, and how housing interventions can improve wellness for under-resourced populations. \n2. Identify health risks associated with unstable or inadequate housing\, including the impacts on vulnerable and tenuously housed populations. \n3. Evaluate holistic development strategies that integrate housing\, healthcare partnerships\, and community investment to improve health\, safety\, and welfare outcomes. \n4. Describe cooperative homeownership models and their role in expanding equitable access to housing\, long-term financial stability\, and community resilience. \n5. Recognize the opportunities and challenges of modular off-site construction\, including its potential to improve construction safety\, quality control\, speed of delivery\, and affordability in housing development. \nCredits: 1 LU|HSW Pending
URL:https://network.vegas/calendar/affordable-housing-innovation-health-partnerships-cooperative-homeownership-and-modular-construction/
CATEGORIES:Continuing Education Classes,Membership Meetings,Professional Association
ATTACH;FMTTYPE=image/png:https://network.vegas/wp-content/uploads/2026/04/Affordable-Housing-Inn-Axi6t1.png
END:VEVENT
BEGIN:VEVENT
DTSTART;TZID=America/Los_Angeles:20260508T113000
DTEND;TZID=America/Los_Angeles:20260508T143000
DTSTAMP:20260425T071208
CREATED:20260314T130321Z
LAST-MODIFIED:20260314T130324Z
UID:52626-1778239800-1778250600@network.vegas
SUMMARY:SBA Awards Luncheon
DESCRIPTION:The annual U.S. Small Business Administration (SBA) Awards Luncheon honors small businesses and lenders in Nevada. Small businesses are vital to our communities; they create new jobs\, help drive the economy\, and demonstrate dynamic leadership. The SBA is proud to recognize these outstanding organizations\, and the list of winners is impressive year over year. The awards luncheon is an opportunity to honor these individuals and companies\, while networking with some of the most influential professionals in Nevada.
URL:https://network.vegas/calendar/sba-awards-luncheon/
LOCATION:IPEC Las Vegas\, 6590 Bermuda Road Las Vegas\, NV 89119\, Las Vegas
CATEGORIES:Featured,Networking
ATTACH;FMTTYPE=image/png:https://network.vegas/wp-content/uploads/2026/03/image-17.png
END:VEVENT
BEGIN:VEVENT
DTSTART;TZID=America/Los_Angeles:20260508T190000
DTEND;TZID=America/Los_Angeles:20260508T210000
DTSTAMP:20260425T071208
CREATED:20260405T144934Z
LAST-MODIFIED:20260419T151926Z
UID:53107-1778266800-1778274000@network.vegas
SUMMARY:Special Cover Celebration Featuring Dr. Teddy Sim!
DESCRIPTION:Come celebrate with us as we honor ChiropracTED founder\, Dr. Teddy Sim\, for an unforgettable night!\n\n\nYou’re invited to the special celebration featuring powerhouse chiropractor and honorary cover star\, Dr. Teddy Sim. We are thrilled to highlight the exceptional platform he has built with his team and the launch of their brand new location in Las Vegas! Get ready for a night filled with music\, wine\, and elevated energy on May 8th\, 2026\, at 7:00 PM at Rouge Room!
URL:https://network.vegas/calendar/special-cover-celebration-featuring-dr-teddy-sim/
LOCATION:Rouge Room\, 11011 West Charleston Boulevard\, Las Vegas\, NV\, 89135\, United States
ATTACH;FMTTYPE=image/jpeg:https://network.vegas/wp-content/uploads/2026/04/c9abb8b6e843c5e5c5ed9ab2b5a87cad.jpg
END:VEVENT
END:VCALENDAR