BEGIN:VCALENDAR
VERSION:2.0
PRODID:-//Network.Vegas - ECPv6.15.20//NONSGML v1.0//EN
CALSCALE:GREGORIAN
METHOD:PUBLISH
X-ORIGINAL-URL:https://network.vegas
X-WR-CALDESC:Events for Network.Vegas
REFRESH-INTERVAL;VALUE=DURATION:PT1H
X-Robots-Tag:noindex
X-PUBLISHED-TTL:PT1H
BEGIN:VTIMEZONE
TZID:America/Los_Angeles
BEGIN:DAYLIGHT
TZOFFSETFROM:-0800
TZOFFSETTO:-0700
TZNAME:PDT
DTSTART:20230312T100000
END:DAYLIGHT
BEGIN:STANDARD
TZOFFSETFROM:-0700
TZOFFSETTO:-0800
TZNAME:PST
DTSTART:20231105T090000
END:STANDARD
BEGIN:DAYLIGHT
TZOFFSETFROM:-0800
TZOFFSETTO:-0700
TZNAME:PDT
DTSTART:20240310T100000
END:DAYLIGHT
BEGIN:STANDARD
TZOFFSETFROM:-0700
TZOFFSETTO:-0800
TZNAME:PST
DTSTART:20241103T090000
END:STANDARD
BEGIN:DAYLIGHT
TZOFFSETFROM:-0800
TZOFFSETTO:-0700
TZNAME:PDT
DTSTART:20250309T100000
END:DAYLIGHT
BEGIN:STANDARD
TZOFFSETFROM:-0700
TZOFFSETTO:-0800
TZNAME:PST
DTSTART:20251102T090000
END:STANDARD
END:VTIMEZONE
BEGIN:VEVENT
DTSTART;TZID=America/Los_Angeles:20240828T123000
DTEND;TZID=America/Los_Angeles:20240828T123000
DTSTAMP:20260424T135500
CREATED:20240517T160854Z
LAST-MODIFIED:20240517T160854Z
UID:37822-1724848200-1724848200@network.vegas
SUMMARY:Nevada Business Champions Summer Webinar Series
DESCRIPTION:
URL:https://network.vegas/calendar/nevada-business-champions-summer-webinar-series/2024-08-28/
LOCATION:Virtual\, Las Vegas
CATEGORIES:Chamber
ATTACH;FMTTYPE=image/png:https://network.vegas/wp-content/uploads/2021/07/Henderson-Chamber_Banner.png
END:VEVENT
BEGIN:VEVENT
DTSTART;TZID=America/Los_Angeles:20240724T123000
DTEND;TZID=America/Los_Angeles:20240724T123000
DTSTAMP:20260424T135500
CREATED:20240517T160854Z
LAST-MODIFIED:20240517T160854Z
UID:37821-1721824200-1721824200@network.vegas
SUMMARY:Nevada Business Champions Summer Webinar Series
DESCRIPTION:
URL:https://network.vegas/calendar/nevada-business-champions-summer-webinar-series/2024-07-24/
LOCATION:Virtual\, Las Vegas
CATEGORIES:Chamber
ATTACH;FMTTYPE=image/png:https://network.vegas/wp-content/uploads/2021/07/Henderson-Chamber_Banner.png
END:VEVENT
BEGIN:VEVENT
DTSTART;TZID=America/Los_Angeles:20240625T123000
DTEND;TZID=America/Los_Angeles:20240625T123000
DTSTAMP:20260424T135500
CREATED:20240517T160854Z
LAST-MODIFIED:20240517T160854Z
UID:37820-1719318600-1719318600@network.vegas
SUMMARY:Nevada Business Champions Summer Webinar Series
DESCRIPTION:
URL:https://network.vegas/calendar/nevada-business-champions-summer-webinar-series/2024-06-25/
LOCATION:Virtual\, Las Vegas
CATEGORIES:Chamber
ATTACH;FMTTYPE=image/png:https://network.vegas/wp-content/uploads/2021/07/Henderson-Chamber_Banner.png
END:VEVENT
BEGIN:VEVENT
DTSTART;TZID=America/Los_Angeles:20240528T123000
DTEND;TZID=America/Los_Angeles:20240528T123000
DTSTAMP:20260424T135500
CREATED:20240517T160854Z
LAST-MODIFIED:20240517T160859Z
UID:37814-1716899400-1716899400@network.vegas
SUMMARY:Nevada Business Champions Summer Webinar Series
DESCRIPTION:
URL:https://network.vegas/calendar/nevada-business-champions-summer-webinar-series/2024-05-28/
LOCATION:Virtual\, Las Vegas
CATEGORIES:Chamber
ATTACH;FMTTYPE=image/png:https://network.vegas/wp-content/uploads/2021/07/Henderson-Chamber_Banner.png
END:VEVENT
END:VCALENDAR