BEGIN:VCALENDAR
VERSION:2.0
PRODID:-//Network.Vegas - ECPv6.15.20//NONSGML v1.0//EN
CALSCALE:GREGORIAN
METHOD:PUBLISH
X-WR-CALNAME:Network.Vegas
X-ORIGINAL-URL:https://network.vegas
X-WR-CALDESC:Events for Network.Vegas
REFRESH-INTERVAL;VALUE=DURATION:PT1H
X-Robots-Tag:noindex
X-PUBLISHED-TTL:PT1H
BEGIN:VTIMEZONE
TZID:America/Los_Angeles
BEGIN:DAYLIGHT
TZOFFSETFROM:-0800
TZOFFSETTO:-0700
TZNAME:PDT
DTSTART:20260308T100000
END:DAYLIGHT
BEGIN:STANDARD
TZOFFSETFROM:-0700
TZOFFSETTO:-0800
TZNAME:PST
DTSTART:20261101T090000
END:STANDARD
BEGIN:DAYLIGHT
TZOFFSETFROM:-0800
TZOFFSETTO:-0700
TZNAME:PDT
DTSTART:20270314T100000
END:DAYLIGHT
BEGIN:STANDARD
TZOFFSETFROM:-0700
TZOFFSETTO:-0800
TZNAME:PST
DTSTART:20271107T090000
END:STANDARD
BEGIN:DAYLIGHT
TZOFFSETFROM:-0800
TZOFFSETTO:-0700
TZNAME:PDT
DTSTART:20280312T100000
END:DAYLIGHT
BEGIN:STANDARD
TZOFFSETFROM:-0700
TZOFFSETTO:-0800
TZNAME:PST
DTSTART:20281105T090000
END:STANDARD
END:VTIMEZONE
BEGIN:VEVENT
DTSTART;TZID=America/Los_Angeles:20270221T000000
DTEND;TZID=America/Los_Angeles:20270224T235959
DTSTAMP:20260425T164315
CREATED:20240812T175429Z
LAST-MODIFIED:20240812T185439Z
UID:39414-1803168000-1803513599@network.vegas
SUMMARY:Structured Finance Association - SFVegas Conference 2027
DESCRIPTION:The Structured Finance Association – SFVegas Conference 2027 is set to take place in the vibrant city of Las Vegas\, a hub for business networking and innovation. This major event will gather industry leaders and professionals to discuss the current trends and opportunities in structured finance. The conference promises to be an invaluable experience for anyone involved in this dynamic sector.\nOrganized by the Structured Finance Association\, the SFVegas Conference attracts a diverse group of attendees\, including investors\, issuers\, and service providers from around the world. Local Las Vegas residents and visitors alike will find the conference to be an excellent opportunity to gain insights into the evolving structured finance landscape. Networking opportunities abound\, making it a perfect venue to forge new connections and strengthen existing ones. For those looking to advance their careers or expand their knowledge base\, attending this conference is a must. \nThe SFVegas Conference will feature a lineup of distinguished speakers and thoughtful panel discussions covering a range of topics crucial to the structured finance industry. Attendees can look forward to keynote addresses from renowned industry figures who will share their expertise and forecasts for the future. Additionally\, various interactive sessions will allow for engaging discussions and the exchange of innovative ideas. The conference also emphasizes collaboration and knowledge sharing\, enhancing the experience for all participants. \nWith its unique combination of valuable content\, exceptional networking opportunities\, and the exciting atmosphere of Las Vegas\, the SFVegas Conference 2027 is an event you cannot miss. Whether you are a finance professional\, a student\, or someone simply curious about structured finance\, this conference will provide a wealth of knowledge and inspiration. \nSecure your place at the Structured Finance Association – SFVegas Conference 2027 now and be part of the discussions shaping the future of structured finance. Visit http://www.structuredfinance.org/ for more information and to purchase your tickets today!
URL:https://network.vegas/calendar/structured-finance-association-sfvegas-conference-2027/
CATEGORIES:Convention
ATTACH;FMTTYPE=image/jpeg:https://network.vegas/wp-content/uploads/2024/08/Convention-Banner.jpg
END:VEVENT
END:VCALENDAR