BEGIN:VCALENDAR
VERSION:2.0
PRODID:-//Network.Vegas - ECPv6.15.20//NONSGML v1.0//EN
CALSCALE:GREGORIAN
METHOD:PUBLISH
X-ORIGINAL-URL:https://network.vegas
X-WR-CALDESC:Events for Network.Vegas
REFRESH-INTERVAL;VALUE=DURATION:PT1H
X-Robots-Tag:noindex
X-PUBLISHED-TTL:PT1H
BEGIN:VTIMEZONE
TZID:America/Los_Angeles
BEGIN:DAYLIGHT
TZOFFSETFROM:-0800
TZOFFSETTO:-0700
TZNAME:PDT
DTSTART:20250309T100000
END:DAYLIGHT
BEGIN:STANDARD
TZOFFSETFROM:-0700
TZOFFSETTO:-0800
TZNAME:PST
DTSTART:20251102T090000
END:STANDARD
BEGIN:DAYLIGHT
TZOFFSETFROM:-0800
TZOFFSETTO:-0700
TZNAME:PDT
DTSTART:20260308T100000
END:DAYLIGHT
BEGIN:STANDARD
TZOFFSETFROM:-0700
TZOFFSETTO:-0800
TZNAME:PST
DTSTART:20261101T090000
END:STANDARD
BEGIN:DAYLIGHT
TZOFFSETFROM:-0800
TZOFFSETTO:-0700
TZNAME:PDT
DTSTART:20270314T100000
END:DAYLIGHT
BEGIN:STANDARD
TZOFFSETFROM:-0700
TZOFFSETTO:-0800
TZNAME:PST
DTSTART:20271107T090000
END:STANDARD
END:VTIMEZONE
BEGIN:VEVENT
DTSTART;TZID=America/Los_Angeles:20261103T000000
DTEND;TZID=America/Los_Angeles:20261106T235959
DTSTAMP:20260425T124100
CREATED:20240812T175417Z
LAST-MODIFIED:20240812T175417Z
UID:39407-1793664000-1794009599@network.vegas
SUMMARY:SEMA Show 2026
DESCRIPTION:The SEMA Show 2026 is set to take place in Las Vegas\, a city renowned for its vibrant events and displays. This premier automotive specialty products trade event will showcase the latest trends\, innovations\, and technologies from industries involved in automotive design\, performance\, and accessories. Held at the Las Vegas Convention Center\, the SEMA Show attracts automotive enthusiasts\, industry professionals\, and businesses from around the globe\, making it a must-attend event for anyone passionate about the automotive world.\nOrganized by the Specialty Equipment Market Association (SEMA)\, the show boasts a diverse audience that includes vehicle manufacturers\, aftermarket suppliers\, online retailers\, and car enthusiasts. With thousands of exhibitors showcasing an extensive range of products—from custom wheels and high-performance parts to innovative technology and vehicle modifications—there is something for everyone. For locals and visitors alike\, the SEMA Show serves as an unparalleled opportunity to explore the cutting-edge advancements shaping the automotive landscape\, create connections within the industry\, and gain insight into the trends that are driving the market. \nOne of the highlights of the SEMA Show is the opportunity to hear from influential speakers and industry leaders during keynotes and educational sessions. Attendees can participate in workshops\, panel discussions\, and networking events that foster collaboration and knowledge-sharing. Additionally\, the event features impressive vehicle displays\, including custom builds\, concept cars\, and vehicles that showcase the latest innovations in design and performance. The vibrant atmosphere and engaging exhibitions promise an unforgettable experience for all who attend. \nAs the excitement builds for SEMA Show 2026\, there’s no better time to secure your attendance. Whether you are a resident of Las Vegas or visiting from out of town\, this event offers countless opportunities to immerse yourself in the automotive community\, discover new products\, and connect with like-minded individuals. Don’t miss out on this chance to be part of the automotive industry’s largest gathering. Get your tickets now and get ready to fuel your passion for automotive innovation!
URL:https://network.vegas/calendar/sema-show-2026/
LOCATION:Las Vegas Convention Center\, 3150 Paradise Rd\, Las Vegas\, NV 89109\, United States
CATEGORIES:Convention
ATTACH;FMTTYPE=image/jpeg:https://network.vegas/wp-content/uploads/2024/08/Convention-Banner.jpg
END:VEVENT
BEGIN:VEVENT
DTSTART;TZID=America/Los_Angeles:20261104T000000
DTEND;TZID=America/Los_Angeles:20261104T235959
DTSTAMP:20260425T124100
CREATED:20240812T174725Z
LAST-MODIFIED:20240812T180942Z
UID:39268-1793750400-1793836799@network.vegas
SUMMARY:Association for Financial Professionals (AFP) Annual Conference
DESCRIPTION:Join us for the Association for Financial Professionals (AFP) Annual Conference\, taking place in Las Vegas. This premier event in the finance industry will bring together professionals from across the globe to connect\, learn\, and share ideas. The conference highlights the latest trends and innovations in finance and treasury management\, making it a must-attend event for finance professionals.\nThe AFP Annual Conference is organized by the Association for Financial Professionals\, a leading organization dedicated to the advancement of finance and treasury professionals. Typically\, attendees include finance executives\, treasury managers\, CFOs\, and other financial decision-makers. Whether you are a local Las Vegas resident or a visitor to the city\, attending this conference presents a valuable opportunity to gain insights from industry leaders and experts. You will have the chance to network with peers\, discover new strategies\, and explore innovative tools that can enhance your organization’s financial performance. \nThis year’s conference features an impressive lineup of keynote speakers and experts who will share their knowledge on key financial topics. Attendees can participate in a diverse range of sessions\, workshops\, and panel discussions designed to provide actionable insights. The event will also showcase the latest solutions and technologies in finance\, providing attendees with a front-row seat to the industry’s future.  \nIn addition to the focused educational opportunities\, the lively environment of Las Vegas enhances the overall experience. With its vibrant culture\, world-class entertainment\, and exceptional dining options\, attendees can enjoy the city while also participating in significant professional development. \nDon’t miss your chance to be part of the AFP Annual Conference. Secure your tickets now and get ready to elevate your financial expertise and network with fellow professionals in an engaging and dynamic setting. Visit the official event website at http://www.afponline.org/ for more information and to register.
URL:https://network.vegas/calendar/association-for-financial-professionals-afp-annual-conference/
LOCATION:Mandalay Bay Convention Center\, Resort and Casino\, 3950 Las Vegas Blvd S\, Las Vegas\, Nevada\, 89119\, United States
CATEGORIES:Convention
ATTACH;FMTTYPE=image/jpeg:https://network.vegas/wp-content/uploads/2024/08/Convention-Banner.jpg
END:VEVENT
BEGIN:VEVENT
DTSTART;TZID=America/Los_Angeles:20261104T110000
DTEND;TZID=America/Los_Angeles:20261104T130000
DTSTAMP:20260425T124100
CREATED:20260210T174936Z
LAST-MODIFIED:20260210T174936Z
UID:51979-1793790000-1793797200@network.vegas
SUMMARY:Be You Brand Coffee Club ( Las Vegas Women Entrepreneurs  Networking )
DESCRIPTION:Be You Brand Coffee Club is a monthly Las Vegas meetup for women entrepreneurs focused on intentional connection\, visibility\, and community.
URL:https://network.vegas/calendar/be-you-brand-coffee-club-las-vegas-women-entrepreneurs-networking-9/
LOCATION:Velvet Vine Wine\, 511 South Las Vegas Boulevard\, Las Vegas\, NV\, 89101\, United States
CATEGORIES:Las Vegas Business
END:VEVENT
BEGIN:VEVENT
DTSTART;TZID=America/Los_Angeles:20261114T000000
DTEND;TZID=America/Los_Angeles:20261118T235959
DTSTAMP:20260425T124100
CREATED:20240812T175403Z
LAST-MODIFIED:20240812T185713Z
UID:39401-1794614400-1795046399@network.vegas
SUMMARY:National Multifamily Housing Council - OPTECH Conference & Exposition - 2026
DESCRIPTION:The National Multifamily Housing Council (NMHC) OPTECH Conference & Exposition is set to take place in 2026 in the vibrant city of Las Vegas\, an ideal backdrop for this crucial event in the multifamily housing industry. This conference is not just a gathering; it’s an essential opportunity for professionals to connect\, learn\, and explore innovative solutions for the challenges facing the industry today. With its lively atmosphere and world-class hospitality\, Las Vegas is the perfect location for an event of this magnitude\, making it an attractive destination for both local residents and visitors alike.\nOrganized by the National Multifamily Housing Council\, the OPTECH Conference & Exposition draws a diverse crowd ranging from property owners and managers to industry suppliers and thought leaders. This event is an essential forum for anyone involved in the multifamily housing sector\, offering invaluable insights into the latest technological advancements\, best practices\, and market trends. Local Las Vegas residents and visitors will find significant value in attending\, as the conference not only facilitates networking opportunities but also serves as a platform for discussing key industry issues that impact the local economy and community. \nOne of the standout features of the NMHC OPTECH event is its lineup of keynote speakers\, who are among the foremost authorities in the multifamily housing arena. Expect engaging sessions focused on technological innovation\, sustainability practices\, and strategies for enhancing operational efficiency. Additionally\, attendees will have the opportunity to explore the expansive expo floor\, where leading suppliers will showcase cutting-edge products and services designed to elevate residential communities. This combination of learning and networking creates a rich environment for collaboration and inspiration. \nDon’t miss out on this premier event that promises to shape the future of the multifamily housing industry. Whether you are a Las Vegas local or visiting from afar\, the NMHC OPTECH Conference & Exposition is an opportunity to gain insights\, make connections\, and drive your business forward. Get your tickets now and be part of this transformative experience! Visit http://www.nmhc.org/ for more information and to secure your spot at this must-attend conference.
URL:https://network.vegas/calendar/national-multifamily-housing-council-optech-conference-exposition-2026/
CATEGORIES:Convention
ATTACH;FMTTYPE=image/jpeg:https://network.vegas/wp-content/uploads/2024/08/Convention-Banner.jpg
END:VEVENT
END:VCALENDAR