BEGIN:VCALENDAR
VERSION:2.0
PRODID:-//Network.Vegas - ECPv6.15.20//NONSGML v1.0//EN
CALSCALE:GREGORIAN
METHOD:PUBLISH
X-ORIGINAL-URL:https://network.vegas
X-WR-CALDESC:Events for Network.Vegas
REFRESH-INTERVAL;VALUE=DURATION:PT1H
X-Robots-Tag:noindex
X-PUBLISHED-TTL:PT1H
BEGIN:VTIMEZONE
TZID:America/Los_Angeles
BEGIN:DAYLIGHT
TZOFFSETFROM:-0800
TZOFFSETTO:-0700
TZNAME:PDT
DTSTART:20250309T100000
END:DAYLIGHT
BEGIN:STANDARD
TZOFFSETFROM:-0700
TZOFFSETTO:-0800
TZNAME:PST
DTSTART:20251102T090000
END:STANDARD
BEGIN:DAYLIGHT
TZOFFSETFROM:-0800
TZOFFSETTO:-0700
TZNAME:PDT
DTSTART:20260308T100000
END:DAYLIGHT
BEGIN:STANDARD
TZOFFSETFROM:-0700
TZOFFSETTO:-0800
TZNAME:PST
DTSTART:20261101T090000
END:STANDARD
BEGIN:DAYLIGHT
TZOFFSETFROM:-0800
TZOFFSETTO:-0700
TZNAME:PDT
DTSTART:20270314T100000
END:DAYLIGHT
BEGIN:STANDARD
TZOFFSETFROM:-0700
TZOFFSETTO:-0800
TZNAME:PST
DTSTART:20271107T090000
END:STANDARD
END:VTIMEZONE
BEGIN:VEVENT
DTSTART;TZID=America/Los_Angeles:20260902T110000
DTEND;TZID=America/Los_Angeles:20260902T130000
DTSTAMP:20260425T095046
CREATED:20260210T174934Z
LAST-MODIFIED:20260210T174934Z
UID:51977-1788346800-1788354000@network.vegas
SUMMARY:Be You Brand Coffee Club ( Las Vegas Women Entrepreneurs  Networking )
DESCRIPTION:Be You Brand Coffee Club is a monthly Las Vegas meetup for women entrepreneurs focused on intentional connection\, visibility\, and community.
URL:https://network.vegas/calendar/be-you-brand-coffee-club-las-vegas-women-entrepreneurs-networking-7/
LOCATION:Velvet Vine Wine\, 511 South Las Vegas Boulevard\, Las Vegas\, NV\, 89101\, United States
CATEGORIES:Las Vegas Business
END:VEVENT
BEGIN:VEVENT
DTSTART;TZID=America/Los_Angeles:20260914T120000
DTEND;TZID=America/Los_Angeles:20260916T120000
DTSTAMP:20260425T095046
CREATED:20260411T161234Z
LAST-MODIFIED:20260411T161237Z
UID:53230-1789387200-1789560000@network.vegas
SUMMARY:AVANCE Global Proximo
DESCRIPTION:AVANCE Global Proximo is a premier business and cultural convention focused on accelerating the economic and professional mobility of the Hispanic community in the United States. The flagship event brings together thousands of corporate executives\, entrepreneurs\, investors\, and cultural leaders to discuss wealth-building\, access to capital\, and leadership. The program features mainstage conversations with influential figures\, industry-specific sessions in sectors like real estate and sports\, and specialized tracks designed to foster multigenerational wealth. Attendees participate in curated networking and deal-making opportunities aimed at driving innovation and strengthening the influence of Latino professionals across the American economy.
URL:https://network.vegas/calendar/avance-global-proximo/
LOCATION:Bellagio\, 3600 Las Vegas Blvd. S. Las Vegas\, NV 89109
CATEGORIES:Convention,Networking
ATTACH;FMTTYPE=image/png:https://network.vegas/wp-content/uploads/2026/04/image-13-scaled.png
END:VEVENT
BEGIN:VEVENT
DTSTART;TZID=America/Los_Angeles:20260916T150000
DTEND;TZID=America/Los_Angeles:20260916T193000
DTSTAMP:20260425T095046
CREATED:20251015T060307Z
LAST-MODIFIED:20260424T163412Z
UID:49639-1789570800-1789587000@network.vegas
SUMMARY:#SUPPORTLOCAL 2026
DESCRIPTION:We would love to introduce you to local business owners\, non-profits\, and kid-preneurs who are providing value to our Las Vegas community!\n\n\nNow\, more than ever\, our community should be locking arms and supporting one another. The #SUPPORTLOCAL initiative was designed to facilitate just that. \n#SUPPORTLOCAL is the ultimate space to foster strong connections within our community. \nDedicated to showcasing local businesses and organizations that contribute significantly to our city\, we are here to forge positive and supportive relationships with our neighbors. Discover the diverse array of offerings from these remarkable ventures as we bring them into the spotlight. \nJoin us on this exciting journey that is strengthening our local economy and promoting a vibrant community spirit! \nThere will also be a live DJ \, local talent\, and raffle prizes from local businesses and your FAVORITE local sports teams like the Raiders\, the Golden Knights\, the Silver Knights\, the Aviators\, the Aces\, the Desert Dogs\, the NVaders\, and the Lights! \nThe proceeds will benefit a very powerful initiative: \nSupport Local Foundation – which supports local businesses\, mentors young entrepreneurs\, and coordinates community service projects that bring together the small business community to take care of our city. \nThe Ahern Convention Center also has an incredible Happy Hour Food and Drink offer at their central bar\, a delicious pizza shop\, a delightful coffee shop\, and a gourmet restaurants for you to enjoy. \nBecause we are encouraging all Las Vegas Valley residents to come and bring friends\, General Admission is FREE to the public. All we ask is that you register online so we can anticipate how many attendees we will have. \nGeneral Admission \nFREE Pre-Register Online \n\n1 Free Raffle Ticket\n\nVIP Admission \n$20 Pre-Register Online | $25 At The Door \n\nVIP Gift Bag\n2 Free Raffle Tickets\n\nPlatinum Admission \n$40 Pre-Register Online | $45 At The Door \n\nPlatinum Gift Bag\nPlatinum Lounge Access\n2 Complimentary Drinks From The Bar\nComplimentary Light Bites & Beverages from 4pm-6pm\n4 Free Raffle Tickets\n\nShare this with your friends and we look forward to seeing you there! \nStay connected! Follow us: \nhttps://www.facebook.com/supportlocalevent \nhttps://www.instagram.com/support_local_event/ \nhttps://www.linkedin.com/company/supportlocalevent \nFor sponsorship or vendor opportunities\, please contact us at support@supportlocalevent.com
URL:https://network.vegas/calendar/supportlocal-2026/
LOCATION:Ahern Hotel\, 300 West Sahara Avenue\, Las Vegas\, NV\, 89102\, United States
CATEGORIES:Las Vegas Business,Networking
ATTACH;FMTTYPE=image/jpeg:https://network.vegas/wp-content/uploads/2025/07/61e5f08e94292a657877f8f07e12efe8.jpg
END:VEVENT
BEGIN:VEVENT
DTSTART;TZID=America/Los_Angeles:20260925T180000
DTEND;TZID=America/Los_Angeles:20260925T210000
DTSTAMP:20260425T095046
CREATED:20260208T004926Z
LAST-MODIFIED:20260313T101150Z
UID:51892-1790359200-1790370000@network.vegas
SUMMARY:Monthly Game Night!
DESCRIPTION:Join us for a fun night of games\, drinks\, snacks\, and good company!
URL:https://network.vegas/calendar/monthly-game-night-8/
LOCATION:Meepleville Board Game Cafe\, 4704 West Sahara Avenue\, Las Vegas\, NV\, 89102\, United States
CATEGORIES:Networking
ATTACH;FMTTYPE=image/jpeg:https://network.vegas/wp-content/uploads/2026/02/544bc68d7c729cbbd54cb505f1619dd6.jpg
END:VEVENT
BEGIN:VEVENT
DTSTART;TZID=America/Los_Angeles:20260929T000000
DTEND;TZID=America/Los_Angeles:20261001T235959
DTSTAMP:20260425T095046
CREATED:20240812T175154Z
LAST-MODIFIED:20260106T161214Z
UID:39337-1790640000-1790899199@network.vegas
SUMMARY:25th Annual Anti-Money Laundering & Financial Crime Conference 2026
DESCRIPTION:Join us for the 25th Annual Anti-Money Laundering & Financial Crime Conference 2026\, taking place in the vibrant city of Las Vegas. This renowned event will gather industry experts\, regulators\, and financial professionals to discuss the latest trends\, challenges\, and solutions in the fight against financial crime. With its dynamic atmosphere and rich networking opportunities\, Las Vegas provides the perfect backdrop for this landmark conference.\nThe event is organized by the Association of Certified Anti-Money Laundering Specialists (ACAMS)\, a leading organization dedicated to enhancing the knowledge and skills of professionals in the financial crime prevention sector. Attendees typically include compliance officers\, legal experts\, law enforcement representatives\, and financial services providers. Both local residents and visitors to Las Vegas will find tremendous value in attending this conference\, as it offers critical insights into anti-money laundering practices and financial crime prevention strategies. \nOne of the highlights of the conference includes keynote speeches from influential figures in the field\, who will share their expertise and perspectives on emerging regulatory challenges and effective mitigation strategies. Workshops and panel discussions will provide attendees with practical tools and techniques that can be applied directly in their organizations. Additionally\, the event will feature breakout sessions focusing on specific topics\, allowing participants to tailor their experience according to their interests and professional needs. \nNetworking is a significant component of the conference\, providing attendees with the opportunity to connect with industry peers\, share best practices\, and build valuable relationships that can advance their careers. The bustling setting of Las Vegas offers a unique chance for participants to engage in discussions and collaborations that can have a lasting impact on their professional development. \nDon’t miss out on this opportunity to enhance your knowledge and skills in the ever-evolving field of anti-money laundering and financial crime prevention. Get your tickets now to secure your place at the 25th Annual Anti-Money Laundering & Financial Crime Conference 2026! Visit http://www.acams.org/ for more details.
URL:https://network.vegas/calendar/25th-annual-anti-money-laundering-financial-crime-conference-2026/
CATEGORIES:Convention
ATTACH;FMTTYPE=image/jpeg:https://network.vegas/wp-content/uploads/2024/08/Convention-Banner.jpg
END:VEVENT
BEGIN:VEVENT
DTSTART;TZID=America/Los_Angeles:20260930T000000
DTEND;TZID=America/Los_Angeles:20261007T235959
DTSTAMP:20260425T095046
CREATED:20240812T174708Z
LAST-MODIFIED:20240812T174708Z
UID:39260-1790726400-1791417599@network.vegas
SUMMARY:National Electrical Contractors Association (NECA) - 2026 Convention
DESCRIPTION:The National Electrical Contractors Association (NECA) is proud to present its 2026 Convention\, scheduled to take place in the vibrant city of Las Vegas. This highly anticipated event promises to bring together industry leaders\, professionals\, and innovators to discuss the future of electrical contracting and showcase the latest advancements in the field. For both locals and visitors\, this convention offers a unique opportunity to engage with top-tier experts\, explore cutting-edge technologies\, and network with peers from around the country.\nOrganized by the National Electrical Contractors Association\, this event typically attracts a diverse audience that includes electrical contractors\, suppliers\, manufacturers\, and industry advocates. It serves as a vital hub for professionals seeking to enhance their knowledge and grow their businesses in an ever-evolving market. Local residents will find tremendous value in attending\, as the convention covers essential topics relevant to the electrical contracting industry\, promoting best practices\, and fostering connections that can lead to collaboration and innovation. \nA standout feature of the NECA 2026 Convention will be its lineup of keynote speakers and panel discussions\, featuring influential leaders and trailblazers in the electrical contracting industry. Attendees can expect to gain insights into emerging technologies\, business strategies\, and regulatory changes that will impact the industry in the years to come. The event will also include a comprehensive exhibit hall showcasing the latest products and services from leading companies\, ensuring participants stay informed about cutting-edge tools and resources available to them. \nBeyond the educational aspect\, the NECA 2026 Convention provides ample networking opportunities\, allowing attendees to form valuable relationships that can strengthen their businesses and enhance collaboration. With Las Vegas as the backdrop—known for its entertainment\, dining\, and vibrant atmosphere—attendees will also have the chance to enjoy the city’s unique offerings. \nDon’t miss the chance to be part of this significant industry event. Get your tickets now and secure your spot at the National Electrical Contractors Association 2026 Convention to connect\, learn\, and grow in the electrifying world of electrical contracting.
URL:https://network.vegas/calendar/national-electrical-contractors-association-neca-2026-convention/
LOCATION:Mandalay Bay Convention Center\, Resort and Casino\, 3950 Las Vegas Blvd S\, Las Vegas\, Nevada\, 89119\, United States
ATTACH;FMTTYPE=image/jpeg:https://network.vegas/wp-content/uploads/2024/08/Convention-Banner.jpg
END:VEVENT
END:VCALENDAR