BEGIN:VCALENDAR
VERSION:2.0
PRODID:-//Network.Vegas - ECPv6.15.20//NONSGML v1.0//EN
CALSCALE:GREGORIAN
METHOD:PUBLISH
X-WR-CALNAME:Network.Vegas
X-ORIGINAL-URL:https://network.vegas
X-WR-CALDESC:Events for Network.Vegas
REFRESH-INTERVAL;VALUE=DURATION:PT1H
X-Robots-Tag:noindex
X-PUBLISHED-TTL:PT1H
BEGIN:VTIMEZONE
TZID:America/Los_Angeles
BEGIN:DAYLIGHT
TZOFFSETFROM:-0800
TZOFFSETTO:-0700
TZNAME:PDT
DTSTART:20260308T100000
END:DAYLIGHT
BEGIN:STANDARD
TZOFFSETFROM:-0700
TZOFFSETTO:-0800
TZNAME:PST
DTSTART:20261101T090000
END:STANDARD
BEGIN:DAYLIGHT
TZOFFSETFROM:-0800
TZOFFSETTO:-0700
TZNAME:PDT
DTSTART:20270314T100000
END:DAYLIGHT
BEGIN:STANDARD
TZOFFSETFROM:-0700
TZOFFSETTO:-0800
TZNAME:PST
DTSTART:20271107T090000
END:STANDARD
BEGIN:DAYLIGHT
TZOFFSETFROM:-0800
TZOFFSETTO:-0700
TZNAME:PDT
DTSTART:20280312T100000
END:DAYLIGHT
BEGIN:STANDARD
TZOFFSETFROM:-0700
TZOFFSETTO:-0800
TZNAME:PST
DTSTART:20281105T090000
END:STANDARD
END:VTIMEZONE
BEGIN:VEVENT
DTSTART;TZID=America/Los_Angeles:20270724T000000
DTEND;TZID=America/Los_Angeles:20270731T235959
DTSTAMP:20260425T114406
CREATED:20240812T175005Z
LAST-MODIFIED:20250507T172925Z
UID:39284-1816387200-1817078399@network.vegas
SUMMARY:Central Showcase 2027
DESCRIPTION:Central Showcase 2027 is set to bring together industry leaders\, innovators\, and key players from the natural and organic product sectors. Taking place in the vibrant city of Las Vegas\, this event promises to be an essential gathering for anyone interested in the future of food distribution and retail. With its engaging atmosphere and focus on sustainability and health\, the Central Showcase offers a unique platform for networking\, education\, and inspiration.\nOrganized by UNFI\, a leading wholesale distributor of natural and organic foods\, the Central Showcase typically attracts retailers\, suppliers\, and industry professionals from across the nation. Whether you’re a local business owner seeking new partnerships or a visitor eager to learn about the latest trends in the natural products industry\, this event presents a valuable opportunity for both personal and professional growth. Las Vegas residents and tourists alike will find that the Central Showcase is not just an event but an experience that allows them to connect with like-minded individuals and broaden their horizons.\n\nOne of the standout features of the Central Showcase is its impressive lineup of keynote speakers and panel discussions\, featuring experts who are shaping the future of the industry. Attendees can look forward to insights into market trends\, consumer preferences\, and innovative strategies that are driving change. Additionally\, the event often includes interactive workshops and product showcases\, where participants can sample new products and discover cutting-edge solutions that enhance their business practices.\n\nWhether you are a local Las Vegas resident or a visitor exploring the city\, attending the Central Showcase 2027 is an opportunity you won’t want to miss. Engaging with industry leaders and fellow enthusiasts will provide you with invaluable knowledge and connections that can benefit your career or business. Don’t wait any longer; visit the event website and secure your tickets now to ensure you are part of this exciting event that is set to shape the future of natural and organic products.
URL:https://network.vegas/calendar/central-showcase-2027/
LOCATION:Harrah’s Las Vegas\, 3475 South Las Vegas Boulevard Las Vegas\, NV 89109 United States\, Las Vegas
CATEGORIES:Convention
ATTACH;FMTTYPE=image/jpeg:https://network.vegas/wp-content/uploads/2024/08/Convention-Banner.jpg
END:VEVENT
BEGIN:VEVENT
DTSTART;TZID=America/Los_Angeles:20270910T000000
DTEND;TZID=America/Los_Angeles:20270916T235959
DTSTAMP:20260425T114406
CREATED:20240812T175046Z
LAST-MODIFIED:20240821T021904Z
UID:39306-1820534400-1821139199@network.vegas
SUMMARY:Applied Net Client Network Conference 2027
DESCRIPTION:Introduction  The Applied Net Client Network Conference 2027 is set to take place in the vibrant city of Las Vegas. This premier conference\, known for bringing together practitioners from the insurance industry\, will provide invaluable insights and networking opportunities. Whether you’re a local resident or visiting Las Vegas\, this event is a must-attend for anyone involved in applying technology solutions in insurance management. \nEvent Overview\nOrganized by Applied Systems\, the leader in insurance software\, the Applied Net Conference gathers thousands of agents\, brokers\, and industry experts. Attendees typically span across various levels of experience\, offering perspectives that enrich the entire community. With a focus on technology and innovation in insurance\, local Las Vegas attendees\, as well as visitors\, will benefit from the knowledge shared\, experiencing firsthand the future of the industry. \nUnique Features/Events\nThe conference will feature a diverse lineup of keynote speakers and breakout sessions aimed at enhancing industry knowledge. With presentations from thought leaders in technology and insurance\, attendees will gain practical skills and insights. Networking events will allow for meaningful connections that could lead to potential partnerships and collaborations. Additionally\, interactive workshops will provide hands-on experiences\, ensuring participants leave with actionable takeaways. \nCall-to-Action\nDon’t miss out on this opportunity to elevate your expertise and connect with industry leaders. Secure your tickets now for the Applied Net Client Network Conference 2027 and join the conversation that will shape the future of insurance technology. Visit http://www.appliedsystems.com/ to register and get ready for an unforgettable experience in Las Vegas!
URL:https://network.vegas/calendar/applied-net-client-network-conference-2027/
CATEGORIES:Convention,Technology
ATTACH;FMTTYPE=image/jpeg:https://network.vegas/wp-content/uploads/2024/08/Convention-Banner.jpg
END:VEVENT
BEGIN:VEVENT
DTSTART;TZID=America/Los_Angeles:20271202T180000
DTEND;TZID=America/Los_Angeles:20271202T210000
DTSTAMP:20260425T114406
CREATED:20260124T211740Z
LAST-MODIFIED:20260124T211740Z
UID:51743-1827770400-1827781200@network.vegas
SUMMARY:Film Industry & Social Influencers Night  - Every First Thursday
DESCRIPTION:We’ve found our new home: Jackpot Bar and Grill—where the Las Vegas film and entertainment community gathers every first Thursday. \nWe’ve partnered with Goldman Penn Entertainment\, the most serious acting school in Vegas\, to bring the industry together in one powerful space. \nEvery month\, we’re hosting a live podcast at the event. This March\, we’re featuring a special host from to lead the night. Looking to host a future month? Inquire within—we want YOUR podcast to be part of the lineup. \nWhether you’re a filmmaker\, actor\, writer\, influencer\, content creator\, or crew—this is your chance to connect\, collaborate\, and be part of the conversation shaping Vegas entertainment. \nBring your passion. Share your vision. Let’s build together.
URL:https://network.vegas/calendar/film-industry-social-influencers-night-every-first-thursday/2027-12-02/
LOCATION:Jackpot Bar & Grill 4485 S. Jones Las Vegas NV. 89103
CATEGORIES:Community,Las Vegas Business,Networking
ATTACH;FMTTYPE=image/jpeg:https://network.vegas/wp-content/uploads/2026/01/IMG_9012.jpeg
END:VEVENT
END:VCALENDAR