BEGIN:VCALENDAR
VERSION:2.0
PRODID:-//Network.Vegas - ECPv6.15.20//NONSGML v1.0//EN
CALSCALE:GREGORIAN
METHOD:PUBLISH
X-ORIGINAL-URL:https://network.vegas
X-WR-CALDESC:Events for Network.Vegas
REFRESH-INTERVAL;VALUE=DURATION:PT1H
X-Robots-Tag:noindex
X-PUBLISHED-TTL:PT1H
BEGIN:VTIMEZONE
TZID:America/Los_Angeles
BEGIN:DAYLIGHT
TZOFFSETFROM:-0800
TZOFFSETTO:-0700
TZNAME:PDT
DTSTART:20260308T100000
END:DAYLIGHT
BEGIN:STANDARD
TZOFFSETFROM:-0700
TZOFFSETTO:-0800
TZNAME:PST
DTSTART:20261101T090000
END:STANDARD
BEGIN:DAYLIGHT
TZOFFSETFROM:-0800
TZOFFSETTO:-0700
TZNAME:PDT
DTSTART:20270314T100000
END:DAYLIGHT
BEGIN:STANDARD
TZOFFSETFROM:-0700
TZOFFSETTO:-0800
TZNAME:PST
DTSTART:20271107T090000
END:STANDARD
BEGIN:DAYLIGHT
TZOFFSETFROM:-0800
TZOFFSETTO:-0700
TZNAME:PDT
DTSTART:20280312T100000
END:DAYLIGHT
BEGIN:STANDARD
TZOFFSETFROM:-0700
TZOFFSETTO:-0800
TZNAME:PST
DTSTART:20281105T090000
END:STANDARD
END:VTIMEZONE
BEGIN:VEVENT
DTSTART;TZID=America/Los_Angeles:20270409T000000
DTEND;TZID=America/Los_Angeles:20270415T235959
DTSTAMP:20260421T083446
CREATED:20240812T174730Z
LAST-MODIFIED:20250307T131525Z
UID:39271-1807228800-1807833599@network.vegas
SUMMARY:Medicarians 2027
DESCRIPTION:Join us for Medicarians 2027\, a premier event dedicated to the intersection of medicine and technology. Set against the vibrant backdrop of Las Vegas\, this year’s event promises to bring together healthcare professionals\, innovators\, and thought leaders from across the globe. While the specific date is yet to be announced\, the excitement surrounding this event is palpable. The Medicarians 2027 website\, found at https://connectiv.com/\, serves as an essential resource for updates and information.\nMedicarians 2027 is organized by a team of dedicated professionals passionate about advancing healthcare through technology and innovation. The event typically attracts a diverse audience\, including healthcare providers\, tech entrepreneurs\, researchers\, and policymakers. Las Vegas locals and visitors alike will appreciate the opportunity to connect with industry leaders\, gain insights into the future of medicine\, and explore new advancements that could impact their practices and communities.\n\nWhat sets Medicarians 2027 apart are its unique features designed to foster engagement and knowledge sharing. Attendees can look forward to keynote speeches from influential figures in the medical and technological fields\, panel discussions tackling pressing issues in healthcare\, and workshops that offer hands-on experiences with the latest innovations. Networking opportunities abound\, allowing participants to form valuable connections that could lead to collaborations and idea exchanges.\n\nMedicarians 2027 is more than just a medical conference; it is a community gathering focused on the future of healthcare. With its vibrant atmosphere\, this event will provide valuable insights and inspirational discussions that could shape the future of medicine. For anyone in the healthcare sector or with an interest in the intersection of medicine and technology\, this event is a must-attend.\n\nDon’t miss your chance to be part of this transformative experience. Tickets are available now\, so secure your spot at Medicarians 2027 today! Visit https://connectiv.com/ for more information and to get your tickets before they sell out.
URL:https://network.vegas/calendar/medicarians-2027/
LOCATION:CAESARS FORUM Conference Center\, 3911 S Koval Ln\, Las Vegas\, NV 89109\, United States\, Las Vegas
CATEGORIES:Convention,Health & Wellness
ATTACH;FMTTYPE=image/jpeg:https://network.vegas/wp-content/uploads/2024/08/Convention-Banner.jpg
END:VEVENT
END:VCALENDAR