BEGIN:VCALENDAR
VERSION:2.0
PRODID:-//Network.Vegas - ECPv6.15.20//NONSGML v1.0//EN
CALSCALE:GREGORIAN
METHOD:PUBLISH
X-WR-CALNAME:Network.Vegas
X-ORIGINAL-URL:https://network.vegas
X-WR-CALDESC:Events for Network.Vegas
REFRESH-INTERVAL;VALUE=DURATION:PT1H
X-Robots-Tag:noindex
X-PUBLISHED-TTL:PT1H
BEGIN:VTIMEZONE
TZID:America/Los_Angeles
BEGIN:DAYLIGHT
TZOFFSETFROM:-0800
TZOFFSETTO:-0700
TZNAME:PDT
DTSTART:20240310T100000
END:DAYLIGHT
BEGIN:STANDARD
TZOFFSETFROM:-0700
TZOFFSETTO:-0800
TZNAME:PST
DTSTART:20241103T090000
END:STANDARD
BEGIN:DAYLIGHT
TZOFFSETFROM:-0800
TZOFFSETTO:-0700
TZNAME:PDT
DTSTART:20250309T100000
END:DAYLIGHT
BEGIN:STANDARD
TZOFFSETFROM:-0700
TZOFFSETTO:-0800
TZNAME:PST
DTSTART:20251102T090000
END:STANDARD
BEGIN:DAYLIGHT
TZOFFSETFROM:-0800
TZOFFSETTO:-0700
TZNAME:PDT
DTSTART:20260308T100000
END:DAYLIGHT
BEGIN:STANDARD
TZOFFSETFROM:-0700
TZOFFSETTO:-0800
TZNAME:PST
DTSTART:20261101T090000
END:STANDARD
END:VTIMEZONE
BEGIN:VEVENT
DTSTART;TZID=America/Los_Angeles:20250111T013000
DTEND;TZID=America/Los_Angeles:20250111T023000
DTSTAMP:20260422T100904
CREATED:20250111T204100Z
LAST-MODIFIED:20250111T204100Z
UID:43332-1736559000-1736562600@network.vegas
SUMMARY:Workforce Task Force Meeting
DESCRIPTION:This is an exciting time for Heals as we are experiencing an unprecedented initiative/s in re-engineering how we do workforce development/training in our region. We collaborate with multiple stakeholders in the workforce\, economic\, and educational/training ecosystems. Our goal is to fill the skill gaps better and provide the trained workers you need. Finding and securing staff is paramount\, especially since healthcare is on the front line fighting our nation’s challenges. Our Workforce Development Committee/Heals are “critical” stakeholders in our region’s efforts to re-engineer how we provide workforce development.
URL:https://network.vegas/calendar/workforce-task-force-meeting-2/
LOCATION:NV
CATEGORIES:Education,Health & Wellness,Networking
END:VEVENT
BEGIN:VEVENT
DTSTART;TZID=America/Los_Angeles:20250111T024500
DTEND;TZID=America/Los_Angeles:20250111T034500
DTSTAMP:20260422T100904
CREATED:20250111T204100Z
LAST-MODIFIED:20250111T204100Z
UID:43333-1736563500-1736567100@network.vegas
SUMMARY:Physician Engagement Task Force Meeting
DESCRIPTION:The Physicians Engagement Task Force is a coalition designed to understand physicians’ unique challenges in practicing medicine in Las Vegas. Many external forces apply pressure to attract and retain top talent to the Las Vegas Healthcare System. Our charter is to engage physicians in all practices and specialties to ensure their concerns are heard and adequate resources are brought. Individual physicians are the heart and soul of Las Vegas Healthcare\, and without them\, Las Vegas is no longer the city that we know and love.
URL:https://network.vegas/calendar/physician-engagement-task-force-meeting-2/
LOCATION:NV
CATEGORIES:Education,Health & Wellness,Networking
END:VEVENT
END:VCALENDAR