BEGIN:VCALENDAR
VERSION:2.0
PRODID:-//Network.Vegas - ECPv6.15.20//NONSGML v1.0//EN
CALSCALE:GREGORIAN
METHOD:PUBLISH
X-WR-CALNAME:Network.Vegas
X-ORIGINAL-URL:https://network.vegas
X-WR-CALDESC:Events for Network.Vegas
REFRESH-INTERVAL;VALUE=DURATION:PT1H
X-Robots-Tag:noindex
X-PUBLISHED-TTL:PT1H
BEGIN:VTIMEZONE
TZID:America/Los_Angeles
BEGIN:DAYLIGHT
TZOFFSETFROM:-0800
TZOFFSETTO:-0700
TZNAME:PDT
DTSTART:20230312T100000
END:DAYLIGHT
BEGIN:STANDARD
TZOFFSETFROM:-0700
TZOFFSETTO:-0800
TZNAME:PST
DTSTART:20231105T090000
END:STANDARD
BEGIN:DAYLIGHT
TZOFFSETFROM:-0800
TZOFFSETTO:-0700
TZNAME:PDT
DTSTART:20240310T100000
END:DAYLIGHT
BEGIN:STANDARD
TZOFFSETFROM:-0700
TZOFFSETTO:-0800
TZNAME:PST
DTSTART:20241103T090000
END:STANDARD
BEGIN:DAYLIGHT
TZOFFSETFROM:-0800
TZOFFSETTO:-0700
TZNAME:PDT
DTSTART:20250309T100000
END:DAYLIGHT
BEGIN:STANDARD
TZOFFSETFROM:-0700
TZOFFSETTO:-0800
TZNAME:PST
DTSTART:20251102T090000
END:STANDARD
END:VTIMEZONE
BEGIN:VEVENT
DTSTART;TZID=America/Los_Angeles:20241016T100000
DTEND;TZID=America/Los_Angeles:20241016T100000
DTSTAMP:20260422T142128
CREATED:20241018T192941Z
LAST-MODIFIED:20241018T203745Z
UID:41918-1729072800-1729072800@network.vegas
SUMMARY:Online Reputation Management for Healthcare
DESCRIPTION:
URL:https://network.vegas/calendar/online-reputation-management-for-healthcare-2/
LOCATION:NV
CATEGORIES:Education,Health & Wellness,Networking
ATTACH;FMTTYPE=image/png:https://network.vegas/wp-content/uploads/2024/10/tmp_7941_9-26-2024_125657_.png
END:VEVENT
BEGIN:VEVENT
DTSTART;TZID=America/Los_Angeles:20241017T000000
DTEND;TZID=America/Los_Angeles:20241020T235959
DTSTAMP:20260422T142128
CREATED:20240812T175600Z
LAST-MODIFIED:20241010T162123Z
UID:39461-1729123200-1729468799@network.vegas
SUMMARY:BIOMED Expo 2024
DESCRIPTION:BIOMED Expo 2024 is set to be a premier destination for innovation in the biomedical field\, taking place at the Las Vegas Convention Center from March 10-12\, 2024. This event showcases the latest advancements in biomedical technology\, providing an unparalleled opportunity for professionals\, researchers\, and enthusiasts to network\, learn\, and explore cutting-edge developments in healthcare science. Whether you are a Las Vegas local or a visitor\, attending BIOMED Expo 2024 is an exciting chance to engage with the future of medicine and biometrics.Organized by 5D Events\, BIOMED Expo 2024 attracts a diverse array of attendees\, including medical professionals\, industry leaders\, researchers\, and students from various sectors of the biomedical field. This event serves as an invaluable platform for locals and tourists alike to connect with experts and peers\, gain insights into emerging trends\, and foster partnerships that can advance their careers. For those in Las Vegas\, it’s an opportunity to witness firsthand the innovations shaping the healthcare landscape right in their backyard. \nThe BIOMED Expo is distinguished by its lineup of keynote speakers and panel discussions featuring industry visionaries and prominent researchers. Attendees will have access to workshops and technical sessions designed to provide deep dives into a variety of topics\, from regenerative medicine to medical robotics. Additionally\, exclusive networking events allow participants to exchange ideas and form collaborations that can lead to breakthrough innovations. \nDon’t miss out on the chance to be part of this groundbreaking event. Whether you are seeking the latest in biomedical technology\, wanting to expand your professional network\, or looking to discover new career opportunities\, BIOMED Expo 2024 has something for everyone. Visit http://www.5devents.com/ to secure your tickets today and be a part of the future of biomedical innovation.
URL:https://network.vegas/calendar/biomed-expo-2024-2/
LOCATION:Alexis Park All Suite Resort\, 375 East Harmon Avenue Las Vegas\, NV 89169 United States\, Las Vegas
CATEGORIES:Convention,Education,Health & Wellness
ATTACH;FMTTYPE=image/jpeg:https://network.vegas/wp-content/uploads/2024/08/Convention-Banner.jpg
END:VEVENT
BEGIN:VEVENT
DTSTART;TZID=America/Los_Angeles:20241017T070000
DTEND;TZID=America/Los_Angeles:20241017T190000
DTSTAMP:20260422T142128
CREATED:20241001T163749Z
LAST-MODIFIED:20241002T000722Z
UID:41383-1729148400-1729191600@network.vegas
SUMMARY:Nevada Healthcare Forum
DESCRIPTION:This year’s symposium will focus on a broad range of healthcare topics including the national impact of healthcare reform and evolution on the industry and Nevadans\, consumer engagement\, startups in healthcare\, nursing issues and practice in Nevada\, changes in Medicare\, Medicaid\, employer trends in healthcare\, quality and innovation in healthcare\, the move towards value-based reimbursement\, and more in a live and in-person format. The program will once again feature national and state leaders in the healthcare industry and be an outstanding resource for you or members of your staff. \n\n\n\nThis event brings together most of Nevada’s healthcare leaders covering a broad section of the industry\, including providers and provider executives (physicians\, nurses\, allied health providers); hospital\, post-acute care facility and ancillary care provider executives\, academia\, employer group and health plan/insurance executives\, government officials\, students\, media and consumers of healthcare. \n\n\n\nBuilding off of a successful 16 years\, the 2024 Nevada Health Care Forum will continue the overwhelming success of last year’s Forum event attended by more than 300 healthcare industry executives and government leaders along with more than 30 nationally recognized dynamic presenters including national and local CEOs\, legislators and industry experts addressing sweeping changes impacting our healthcare industry\, opportunities for improving our national and local healthcare delivery systems\, and much more. \n\n\n\nThe Nevada Chapters of the American College of Healthcare Executives (ACHE)\, Healthcare Financial Management Association (HFMA)\, and Healthcare Information and Management Systems Society (HIMSS)\, and the Healthcare Leaders Association of Nevada (HLA Nevada)\, in conjunction with the Clark County Medical Society\, Case Management Association of Las Vegas\, Nevada Advanced Practice Nurse Association\, Nevada Executive Women in Healthcare\, Nevada Health Information Management Association\, Nevada Nurses Association\, Nevada State Board of Nursing\, Nevada Organization of Nurse Leaders\, and Washoe County Medical Society\, have all come together to organize this Nevada statewide symposium. Please plan on attending and ask your colleagues to attend. \n\n\n\nSee the full schedule here https://www.nevadahealthcareforum.com/schedule
URL:https://network.vegas/calendar/nevada-healthcare-forum/
LOCATION:Westgate Las Vegas Resort & Casino\, 3000 Paradise Rd Las Vegas\, NV 89109 United States\, Las Vegas
CATEGORIES:Featured,Health & Wellness,Professional Association
ATTACH;FMTTYPE=image/png:https://network.vegas/wp-content/uploads/2024/10/image-1.png
END:VEVENT
BEGIN:VEVENT
DTSTART;TZID=America/Los_Angeles:20241020T000000
DTEND;TZID=America/Los_Angeles:20241022T235959
DTSTAMP:20260422T142128
CREATED:20240812T174542Z
LAST-MODIFIED:20241010T164644Z
UID:39211-1729382400-1729641599@network.vegas
SUMMARY:OSMOSISCon
DESCRIPTION:Introduction Welcome to OSMOSISCon\, an exciting event taking place in the vibrant city of Las Vegas. This conference aims to bring together individuals from various fields to explore cutting-edge topics in science\, technology\, and education. The OSMOSISCon will be held at a premier venue\, making it a perfect opportunity for locals and visitors alike to engage with like-minded individuals and expand their knowledge. \nEvent OverviewOSMOSISCon is organized by the Osmosis Institute\, dedicated to promoting educational growth and innovation. This event attracts a diverse audience\, including educators\, researchers\, healthcare professionals\, and students who are eager to learn about the latest developments in their areas of expertise. Las Vegas residents and visitors will find OSMOSISCon to be a valuable experience\, as it offers a platform for networking\, collaboration\, and inspiration. The event serves as a hub for discussion on significant topics affecting various industries\, giving attendees insights that could impact their professional paths. \nUnique Features/EventsAt OSMOSISCon\, attendees can look forward to keynotes from industry leaders and renowned speakers sharing their expertise and visionary ideas. Workshops and panel discussions will delve into current trends\, cutting-edge technologies\, and innovative practices shaping the future. These unique elements of the conference provide opportunities for hands-on learning and interactive discussions\, enhancing the overall experience. Participants will leave with a wealth of knowledge and practical tools to implement in their respective fields. \nCall-to-ActionDon’t miss out on this incredible opportunity to connect with influential figures and gain insight into the latest advancements in various disciplines. Whether you are a local resident or a visitor to Las Vegas\, OSMOSISCon promises to be an enriching experience. Get your tickets now at https://osmosisinstitute.org/conference/ and be part of this transformative event!
URL:https://network.vegas/calendar/osmosiscon/
LOCATION:NV
CATEGORIES:Convention,Health & Wellness,Technology
ATTACH;FMTTYPE=image/jpeg:https://network.vegas/wp-content/uploads/2024/08/Convention-Banner.jpg
END:VEVENT
BEGIN:VEVENT
DTSTART;TZID=America/Los_Angeles:20241020T090000
DTEND;TZID=America/Los_Angeles:20241020T090000
DTSTAMP:20260422T142128
CREATED:20241018T204014Z
LAST-MODIFIED:20241018T204014Z
UID:41996-1729414800-1729414800@network.vegas
SUMMARY:NAMIWalks
DESCRIPTION:NAMIWalks participants like you don’t just walk the walk. You are the walk. NAMIWalks is about people who think nothing of giving everything – their time\, their stories\, their heartfelt dedication to the cause: Mental Health for All. Now it’s your turn to step forward. To join our caring community or to welcome new friends. To accept the challenge and become the change through your commitment\, togetherness and laughter. To fuel mental health awareness\, raise funds for NAMI’s mission and let people know they are not alone.
URL:https://network.vegas/calendar/namiwalks-2/
LOCATION:NV
CATEGORIES:Education,Health & Wellness,Networking
END:VEVENT
END:VCALENDAR