BEGIN:VCALENDAR
VERSION:2.0
PRODID:-//Network.Vegas - ECPv6.15.20//NONSGML v1.0//EN
CALSCALE:GREGORIAN
METHOD:PUBLISH
X-WR-CALNAME:Network.Vegas
X-ORIGINAL-URL:https://network.vegas
X-WR-CALDESC:Events for Network.Vegas
REFRESH-INTERVAL;VALUE=DURATION:PT1H
X-Robots-Tag:noindex
X-PUBLISHED-TTL:PT1H
BEGIN:VTIMEZONE
TZID:America/Los_Angeles
BEGIN:DAYLIGHT
TZOFFSETFROM:-0800
TZOFFSETTO:-0700
TZNAME:PDT
DTSTART:20230312T100000
END:DAYLIGHT
BEGIN:STANDARD
TZOFFSETFROM:-0700
TZOFFSETTO:-0800
TZNAME:PST
DTSTART:20231105T090000
END:STANDARD
BEGIN:DAYLIGHT
TZOFFSETFROM:-0800
TZOFFSETTO:-0700
TZNAME:PDT
DTSTART:20240310T100000
END:DAYLIGHT
BEGIN:STANDARD
TZOFFSETFROM:-0700
TZOFFSETTO:-0800
TZNAME:PST
DTSTART:20241103T090000
END:STANDARD
BEGIN:DAYLIGHT
TZOFFSETFROM:-0800
TZOFFSETTO:-0700
TZNAME:PDT
DTSTART:20250309T100000
END:DAYLIGHT
BEGIN:STANDARD
TZOFFSETFROM:-0700
TZOFFSETTO:-0800
TZNAME:PST
DTSTART:20251102T090000
END:STANDARD
END:VTIMEZONE
BEGIN:VEVENT
DTSTART;TZID=America/Los_Angeles:20240922T000000
DTEND;TZID=America/Los_Angeles:20240926T235959
DTSTAMP:20260422T142555
CREATED:20240812T174508Z
LAST-MODIFIED:20240821T212745Z
UID:39193-1726963200-1727395199@network.vegas
SUMMARY:IAPMO 95th Annual Education and Business Conference
DESCRIPTION:Introduction: The IAPMO 95th Annual Education and Business Conference is set to be a significant gathering for plumbing and mechanical industry professionals\, taking place in Las Vegas. This premier event\, held by the International Association of Plumbing and Mechanical Officials (IAPMO)\, promises to bring together industry leaders\, innovators\, and experts to discuss the latest trends\, technologies\, and best practices within the field. Las Vegas\, a city known for its vibrant atmosphere and extensive amenities\, offers the perfect backdrop for this essential industry event. Residents and visitors will find a unique opportunity to enhance their knowledge\, network with peers\, and explore cutting-edge solutions.\nEvent Overview: The conference is organized by IAPMO\, a respected authority in plumbing and mechanical standards\, known for its commitment to providing education and resources to professionals in the industry. Attendees typically include plumbing and mechanical contractors\, engineers\, inspectors\, educators\, manufacturers\, and other key stakeholders. For local Las Vegas residents and visitors\, this event serves as an excellent platform to connect with industry leaders\, gain insights into new regulations\, and stay up-to-date with current trends and technologies. It’s an invaluable opportunity to expand professional networks and enhance career development. \nUnique Features/Events: The IAPMO 95th Annual Education and Business Conference will feature a variety of keynote speakers who are industry thought leaders\, presenting valuable insights and sharing their expertise. Attendees can look forward to informative sessions\, hands-on workshops\, and panel discussions addressing critical topics in the plumbing and mechanical sectors. Networking events and social gatherings will also allow participants to engage in meaningful conversations\, share experiences\, and foster collaborative relationships that can lead to future opportunities. \nCall-to-Action: Don’t miss out on this chance to elevate your career and knowledge in the plumbing and mechanical industries. Join your peers at the IAPMO 95th Annual Education and Business Conference in Las Vegas. Get your tickets now at https://www.iapmo.org/events and be part of this dynamic event!
URL:https://network.vegas/calendar/iapmo-95th-annual-education-and-business-conference/
LOCATION:NV
CATEGORIES:Convention,Health & Wellness
ATTACH;FMTTYPE=image/jpeg:https://network.vegas/wp-content/uploads/2024/08/Convention-Banner.jpg
END:VEVENT
BEGIN:VEVENT
DTSTART;TZID=America/Los_Angeles:20240925T173000
DTEND;TZID=America/Los_Angeles:20240925T193000
DTSTAMP:20260422T142555
CREATED:20240805T184356Z
LAST-MODIFIED:20240821T195822Z
UID:38960-1727285400-1727292600@network.vegas
SUMMARY:CME: Pain Management The Use & Misuse of Controlled Substances Best Practices
DESCRIPTION:The Clark County Medical Society designates this live activity for a maximum of 2.0 AMA PRA Category 1 CreditsTM. Physicians should claim only the credit commensurate with the extent of their participation in the activity. The Clark County Medical Society is accredited by the Utah Medical Association to provide continuing medical education for physicians.
URL:https://network.vegas/calendar/cme-pain-management-the-use-misuse-of-controlled-substances-best-practices/
LOCATION:NV
CATEGORIES:Health & Wellness,Professional Association
ATTACH;FMTTYPE=image/png:https://network.vegas/wp-content/uploads/2024/08/23-Opioid-09.25.2024-fBHKxX.tmp_.png
END:VEVENT
BEGIN:VEVENT
DTSTART;TZID=America/Los_Angeles:20240926T000000
DTEND;TZID=America/Los_Angeles:20240927T235959
DTSTAMP:20260422T142555
CREATED:20240812T175130Z
LAST-MODIFIED:20240821T191441Z
UID:39326-1727308800-1727481599@network.vegas
SUMMARY:CME Science (CMES) Advanced Breast Imaging: Current Diagnosis and Work Up of Problematic Breast Cases
DESCRIPTION:Introduction: The CME Science (CMES) Advanced Breast Imaging: Current Diagnosis and Work Up of Problematic Breast Cases event is set to take place in the vibrant city of Las Vegas. This specialized event brings together healthcare professionals focused on breast imaging\, offering invaluable insights and developments in diagnosing complex breast cases. As a dynamic hub for education and innovation\, Las Vegas provides the perfect backdrop for attendees to deepen their knowledge while enjoying the city’s many attractions.\nEvent Overview: This event is organized by CME Science\, a respected provider of continuing medical education that specializes in various areas of healthcare. It attracts radiologists\, oncologists\, surgeons\, and other medical professionals dedicated to staying at the forefront of breast imaging technology and practices. Local residents and visitors alike should consider attending this event to enhance their professional skills and engage with peers\, making valuable connections for future collaboration and learning. \nUnique Features/Events: Attendees can expect a range of significant discussions and presentations from industry experts leading the way in breast imaging. Keynote speakers will share their groundbreaking research and practical approaches to diagnosing and managing complex breast conditions. In addition\, interactive sessions will allow participants to discuss challenging cases\, fostering an environment of knowledge exchange and innovation. Workshops focusing on the latest imaging technologies and methodologies will provide practical skills that attendees can immediately apply in their practices. \nCall-to-Action: Don’t miss this opportunity to enhance your expertise in breast imaging while enjoying all that Las Vegas has to offer. Register now to secure your spot at the CME Science Advanced Breast Imaging event and ensure you stay at the cutting edge of your field. Get your tickets today!
URL:https://network.vegas/calendar/cme-science-cmes-advanced-breast-imaging-current-diagnosis-and-work-up-of-problematic-breast-cases/
LOCATION:Wynn Las Vegas\, 3131 Las Vegas Boulevard South\, Las Vegas\, NV\, 89109\, United States
CATEGORIES:Convention,Health & Wellness
ATTACH;FMTTYPE=image/jpeg:https://network.vegas/wp-content/uploads/2024/08/Convention-Banner.jpg
END:VEVENT
BEGIN:VEVENT
DTSTART;TZID=America/Los_Angeles:20240929T000000
DTEND;TZID=America/Los_Angeles:20241002T235959
DTSTAMP:20260422T142555
CREATED:20240812T175227Z
LAST-MODIFIED:20240926T120153Z
UID:39352-1727568000-1727913599@network.vegas
SUMMARY:IHFA Convention & Tradeshow 2024
DESCRIPTION:Join us for the IHFA Convention & Tradeshow 2024\, a premier event dedicated to the incredible world of health and fitness\, taking place in Las Vegas. This dynamic convention is set to showcase the latest innovations\, products\, and insights within the industry\, making it a must-attend for health enthusiasts\, industry professionals\, and anyone interested in leading a healthier lifestyle.The IHFA Convention & Tradeshow is organized by the International Health and Fitness Association\, a respected organization committed to promoting excellence in health and fitness. Attendees typically include fitness trainers\, health coaches\, wellness advocates\, industry experts\, and business professionals\, providing a unique networking opportunity for all participants. For local Las Vegas residents and visitors\, this event is a perfect convergence of knowledge\, inspiration\, and motivation\, offering insights into the latest trends and practices that can enhance their health journeys. \nOne of the standout features of the IHFA Convention is its impressive lineup of keynote speakers and workshops led by industry leaders and pioneers. Attendees will have the chance to learn from renowned figures\, gain hands-on experience through interactive sessions\, and explore innovative products in the tradeshow area. This event not only provides valuable learning experiences but also serves as a platform for sharing ideas\, fostering collaboration\, and igniting enthusiasm for health and wellness. \nAmong the many unique aspects of this year’s convention\, attendees can look forward to engaging discussions on emerging trends in fitness technology\, nutrition\, and holistic health. Workshops and breakout sessions will cater to a diverse range of interests\, ensuring there is something for everyone\, whether you are a fitness veteran or just starting your wellness journey. \nDon’t miss this incredible opportunity to be part of an event that promises to elevate your understanding of health and fitness while connecting you with like-minded individuals. Secure your tickets now and be a part of the IHFA Convention & Tradeshow 2024 – where innovation meets inspiration! Visit http://www.ihfa.com/ for more information and ticket purchases.
URL:https://network.vegas/calendar/ihfa-convention-tradeshow-2024-2/
LOCATION:NV
CATEGORIES:Convention,Health & Wellness
ATTACH;FMTTYPE=image/jpeg:https://network.vegas/wp-content/uploads/2024/08/Convention-Banner.jpg
END:VEVENT
END:VCALENDAR