BEGIN:VCALENDAR
VERSION:2.0
PRODID:-//Network.Vegas - ECPv6.15.20//NONSGML v1.0//EN
CALSCALE:GREGORIAN
METHOD:PUBLISH
X-WR-CALNAME:Network.Vegas
X-ORIGINAL-URL:https://network.vegas
X-WR-CALDESC:Events for Network.Vegas
REFRESH-INTERVAL;VALUE=DURATION:PT1H
X-Robots-Tag:noindex
X-PUBLISHED-TTL:PT1H
BEGIN:VTIMEZONE
TZID:America/Los_Angeles
BEGIN:DAYLIGHT
TZOFFSETFROM:-0800
TZOFFSETTO:-0700
TZNAME:PDT
DTSTART:20230312T100000
END:DAYLIGHT
BEGIN:STANDARD
TZOFFSETFROM:-0700
TZOFFSETTO:-0800
TZNAME:PST
DTSTART:20231105T090000
END:STANDARD
BEGIN:DAYLIGHT
TZOFFSETFROM:-0800
TZOFFSETTO:-0700
TZNAME:PDT
DTSTART:20240310T100000
END:DAYLIGHT
BEGIN:STANDARD
TZOFFSETFROM:-0700
TZOFFSETTO:-0800
TZNAME:PST
DTSTART:20241103T090000
END:STANDARD
BEGIN:DAYLIGHT
TZOFFSETFROM:-0800
TZOFFSETTO:-0700
TZNAME:PDT
DTSTART:20250309T100000
END:DAYLIGHT
BEGIN:STANDARD
TZOFFSETFROM:-0700
TZOFFSETTO:-0800
TZNAME:PST
DTSTART:20251102T090000
END:STANDARD
END:VTIMEZONE
BEGIN:VEVENT
DTSTART;TZID=America/Los_Angeles:20240918T000000
DTEND;TZID=America/Los_Angeles:20240921T235959
DTSTAMP:20260422T152810
CREATED:20240812T174505Z
LAST-MODIFIED:20240909T015123Z
UID:39191-1726617600-1726963199@network.vegas
SUMMARY:International Vision Expo West 2024
DESCRIPTION:Introduction: The International Vision Expo West 2024 is set to take place in the bustling city of Las Vegas. This premier event is designed for the optical and vision care community\, showcasing the latest trends and innovations in the industry. Attendees will have the opportunity to engage with top professionals\, discover new products\, and enhance their knowledge in vision care. For both locals and visitors\, this expo represents a unique chance to experience the cutting-edge developments shaping the future of eye care.\nEvent Overview: Organized by the Vision Council and Informa Markets\, International Vision Expo West attracts a diverse crowd that includes optometrists\, ophthalmologists\, opticians\, industry professionals\, and distributors. The event serves as a hub for networking\, education\, and commerce\, bringing together experts from all corners of the optical field. Local Las Vegas residents and visitors can benefit significantly from attending\, as the expo not only provides valuable insights into the optical industry but also presents an opportunity to connect with like-minded individuals and potential business partners. \nUnique Features/Events: The event will feature a robust lineup of keynotes and speakers\, offering insights into the latest advancements in technology and best practices in eye care. Additionally\, attendees can participate in hands-on workshops and interactive sessions\, allowing them to gain practical experience and learn from industry leaders. The expo will also showcase an extensive exhibit hall\, featuring hundreds of exhibitors showcasing cutting-edge products and technologies\, making it a must-visit for anyone in the vision care field. \nCall-to-Action: Don’t miss out on this extraordinary opportunity to enhance your knowledge and network with industry leaders at the International Vision Expo West 2024. Tickets are available now\, so secure your spot today and be part of this groundbreaking event in Las Vegas! Visit the official website for more details and to purchase your tickets.
URL:https://network.vegas/calendar/international-vision-expo-west-2024/
LOCATION:NV
CATEGORIES:Convention,Health & Wellness
ATTACH;FMTTYPE=image/jpeg:https://network.vegas/wp-content/uploads/2024/08/Convention-Banner.jpg
END:VEVENT
BEGIN:VEVENT
DTSTART;TZID=America/Los_Angeles:20240918T100000
DTEND;TZID=America/Los_Angeles:20240918T100000
DTSTAMP:20260422T152810
CREATED:20240911T045847Z
LAST-MODIFIED:20240911T233839Z
UID:40867-1726653600-1726653600@network.vegas
SUMMARY:Healthcare Technology Task Force Meeting Via Zoom
DESCRIPTION:Technology is now an integral part of Healthcare delivery\, patient communications\, and management. There are significant opportunities that proper use of technology can provide us\, but there are substantial risks for Health Care organizations if not adequately mitigated. Our goal is to look at how the Las Vegas Healthcare Community can maximize the benefits of technology while limiting the risks associated with HIPAA Fines\, Ransomware\, Systems Downtime\, Patient Dissatisfaction\, PHI Loss or theft\, and many more issues.
URL:https://network.vegas/calendar/healthcare-technology-task-force-meeting-via-zoom-2/
LOCATION:NV
CATEGORIES:Education,Health & Wellness,Professional Association
END:VEVENT
BEGIN:VEVENT
DTSTART;TZID=America/Los_Angeles:20240918T134500
DTEND;TZID=America/Los_Angeles:20240918T134500
DTSTAMP:20260422T152810
CREATED:20240911T045847Z
LAST-MODIFIED:20240911T234046Z
UID:40866-1726667100-1726667100@network.vegas
SUMMARY:Physician Engagement Task Force Meeting
DESCRIPTION:The Physicians Engagement Task Force is a coalition designed to understand physicians’ unique challenges in practicing medicine in Las Vegas. Many external forces apply pressure to attract and retain top talent to the Las Vegas Healthcare System. Our charter is to engage physicians in all practices and specialties to ensure their concerns are heard and adequate resources are brought. Individual physicians are the heart and soul of Las Vegas Healthcare\, and without them\, Las Vegas is no longer the city that we know and love.
URL:https://network.vegas/calendar/physician-engagement-task-force-meeting/
LOCATION:NV
CATEGORIES:Education,Health & Wellness,Professional Association
END:VEVENT
BEGIN:VEVENT
DTSTART;TZID=America/Los_Angeles:20240922T000000
DTEND;TZID=America/Los_Angeles:20240926T235959
DTSTAMP:20260422T152810
CREATED:20240812T174508Z
LAST-MODIFIED:20240821T212745Z
UID:39193-1726963200-1727395199@network.vegas
SUMMARY:IAPMO 95th Annual Education and Business Conference
DESCRIPTION:Introduction: The IAPMO 95th Annual Education and Business Conference is set to be a significant gathering for plumbing and mechanical industry professionals\, taking place in Las Vegas. This premier event\, held by the International Association of Plumbing and Mechanical Officials (IAPMO)\, promises to bring together industry leaders\, innovators\, and experts to discuss the latest trends\, technologies\, and best practices within the field. Las Vegas\, a city known for its vibrant atmosphere and extensive amenities\, offers the perfect backdrop for this essential industry event. Residents and visitors will find a unique opportunity to enhance their knowledge\, network with peers\, and explore cutting-edge solutions.\nEvent Overview: The conference is organized by IAPMO\, a respected authority in plumbing and mechanical standards\, known for its commitment to providing education and resources to professionals in the industry. Attendees typically include plumbing and mechanical contractors\, engineers\, inspectors\, educators\, manufacturers\, and other key stakeholders. For local Las Vegas residents and visitors\, this event serves as an excellent platform to connect with industry leaders\, gain insights into new regulations\, and stay up-to-date with current trends and technologies. It’s an invaluable opportunity to expand professional networks and enhance career development. \nUnique Features/Events: The IAPMO 95th Annual Education and Business Conference will feature a variety of keynote speakers who are industry thought leaders\, presenting valuable insights and sharing their expertise. Attendees can look forward to informative sessions\, hands-on workshops\, and panel discussions addressing critical topics in the plumbing and mechanical sectors. Networking events and social gatherings will also allow participants to engage in meaningful conversations\, share experiences\, and foster collaborative relationships that can lead to future opportunities. \nCall-to-Action: Don’t miss out on this chance to elevate your career and knowledge in the plumbing and mechanical industries. Join your peers at the IAPMO 95th Annual Education and Business Conference in Las Vegas. Get your tickets now at https://www.iapmo.org/events and be part of this dynamic event!
URL:https://network.vegas/calendar/iapmo-95th-annual-education-and-business-conference/
LOCATION:NV
CATEGORIES:Convention,Health & Wellness
ATTACH;FMTTYPE=image/jpeg:https://network.vegas/wp-content/uploads/2024/08/Convention-Banner.jpg
END:VEVENT
END:VCALENDAR