BEGIN:VCALENDAR
VERSION:2.0
PRODID:-//Network.Vegas - ECPv6.15.20//NONSGML v1.0//EN
CALSCALE:GREGORIAN
METHOD:PUBLISH
X-WR-CALNAME:Network.Vegas
X-ORIGINAL-URL:https://network.vegas
X-WR-CALDESC:Events for Network.Vegas
REFRESH-INTERVAL;VALUE=DURATION:PT1H
X-Robots-Tag:noindex
X-PUBLISHED-TTL:PT1H
BEGIN:VTIMEZONE
TZID:America/Los_Angeles
BEGIN:DAYLIGHT
TZOFFSETFROM:-0800
TZOFFSETTO:-0700
TZNAME:PDT
DTSTART:20230312T100000
END:DAYLIGHT
BEGIN:STANDARD
TZOFFSETFROM:-0700
TZOFFSETTO:-0800
TZNAME:PST
DTSTART:20231105T090000
END:STANDARD
BEGIN:DAYLIGHT
TZOFFSETFROM:-0800
TZOFFSETTO:-0700
TZNAME:PDT
DTSTART:20240310T100000
END:DAYLIGHT
BEGIN:STANDARD
TZOFFSETFROM:-0700
TZOFFSETTO:-0800
TZNAME:PST
DTSTART:20241103T090000
END:STANDARD
BEGIN:DAYLIGHT
TZOFFSETFROM:-0800
TZOFFSETTO:-0700
TZNAME:PDT
DTSTART:20250309T100000
END:DAYLIGHT
BEGIN:STANDARD
TZOFFSETFROM:-0700
TZOFFSETTO:-0800
TZNAME:PST
DTSTART:20251102T090000
END:STANDARD
END:VTIMEZONE
BEGIN:VEVENT
DTSTART;TZID=America/Los_Angeles:20240907T180000
DTEND;TZID=America/Los_Angeles:20240907T210000
DTSTAMP:20260422T154744
CREATED:20240830T214038Z
LAST-MODIFIED:20240909T014209Z
UID:40163-1725732000-1725742800@network.vegas
SUMMARY:End of Summer Greatest Medical Minds Recognition Soiree
DESCRIPTION:Let’s celebrate the end of summer and kick off fall with a fun recognition party honoring the 2024 Greatest Medical Minds of Las Vegas!\n\n\nEnd of Summer Kickoff Recognition Party \nJoin us for a fun-filled evening at the Bel-Aire Lounge as we celebrate the end of summer and honor the 2024 Greatest Medical Minds in Las Vegas! Get ready for a night of music\, fun\, familiar faces\, and delicious food and drinks. This is the perfect opportunity to unwind and mingle with our Greatest Medical Minds in a high-end venue. Don’t miss out on this chance to kick off the fall season with us and celebrate!  See you there!
URL:https://network.vegas/calendar/end-of-summer-greatest-medical-minds-recognition-soiree/
LOCATION:Bel-Aire Lounge\, 6915 South Durango Drive\, Las Vegas\, NV\, 89148\, United States
CATEGORIES:Health & Wellness
ATTACH;FMTTYPE=image/jpeg:https://network.vegas/wp-content/uploads/2024/08/455f1ee1234a428f43dba6dde7297045.jpg
END:VEVENT
END:VCALENDAR