BEGIN:VCALENDAR
VERSION:2.0
PRODID:-//Network.Vegas - ECPv6.15.20//NONSGML v1.0//EN
CALSCALE:GREGORIAN
METHOD:PUBLISH
X-WR-CALNAME:Network.Vegas
X-ORIGINAL-URL:https://network.vegas
X-WR-CALDESC:Events for Network.Vegas
REFRESH-INTERVAL;VALUE=DURATION:PT1H
X-Robots-Tag:noindex
X-PUBLISHED-TTL:PT1H
BEGIN:VTIMEZONE
TZID:America/Los_Angeles
BEGIN:DAYLIGHT
TZOFFSETFROM:-0800
TZOFFSETTO:-0700
TZNAME:PDT
DTSTART:20230312T100000
END:DAYLIGHT
BEGIN:STANDARD
TZOFFSETFROM:-0700
TZOFFSETTO:-0800
TZNAME:PST
DTSTART:20231105T090000
END:STANDARD
BEGIN:DAYLIGHT
TZOFFSETFROM:-0800
TZOFFSETTO:-0700
TZNAME:PDT
DTSTART:20240310T100000
END:DAYLIGHT
BEGIN:STANDARD
TZOFFSETFROM:-0700
TZOFFSETTO:-0800
TZNAME:PST
DTSTART:20241103T090000
END:STANDARD
BEGIN:DAYLIGHT
TZOFFSETFROM:-0800
TZOFFSETTO:-0700
TZNAME:PDT
DTSTART:20250309T100000
END:DAYLIGHT
BEGIN:STANDARD
TZOFFSETFROM:-0700
TZOFFSETTO:-0800
TZNAME:PST
DTSTART:20251102T090000
END:STANDARD
END:VTIMEZONE
BEGIN:VEVENT
DTSTART;TZID=America/Los_Angeles:20240803T100000
DTEND;TZID=America/Los_Angeles:20240803T150000
DTSTAMP:20260422T152725
CREATED:20240802T175122Z
LAST-MODIFIED:20240802T175122Z
UID:38849-1722679200-1722697200@network.vegas
SUMMARY:East Valley 24th Annual Health And Wellness Expo
DESCRIPTION:Join us at the East Valley 24th Annual Health And Wellness Expo for a day of fun\, learning\, and taking care of your mind\, body\, and soul!\n\n\nEast Valley 24th Annual Health And Wellness Expo \nJoin us for the East Valley’s most anticipated Health And Wellness Expo! This exciting event is back for its 24th year\, bringing together a diverse range of health professionals\, wellness experts\, and enthusiasts under one roof. \nHosted at the Mesa Convention Center Bldg. B\, this in-person gathering promises to be a day filled with informative sessions\, interactive exhibits\, and engaging activities. \nDiscover the latest trends in health and wellness\, explore innovative products and services\, and gain valuable insights from renowned speakers. Whether you’re interested in fitness\, nutrition\, mental health\, or holistic healing\, there’s something for everyone at this expo. \nDon’t miss out on this incredible opportunity to connect with like-minded individuals\, learn from experts in the field\, and take a step towards a healthier and happier lifestyle. Mark your calendars and join us at the East Valley 24th Annual Health And Wellness Expo! \nE﻿xhibitor Line: 602-625-3000  info@HealthAndWellnessExpo.Com
URL:https://network.vegas/calendar/east-valley-24th-annual-health-and-wellness-expo/
LOCATION:Mesa Convention Center Bldg. B.\, 263 North Center Street\, Mesa\, AZ\, 85201\, United States
CATEGORIES:Health & Wellness
ATTACH;FMTTYPE=image/jpeg:https://network.vegas/wp-content/uploads/2024/08/fd5e2a205520852d84cc8c39a125cb59.jpg
END:VEVENT
END:VCALENDAR