BEGIN:VCALENDAR
VERSION:2.0
PRODID:-//Network.Vegas - ECPv6.15.20//NONSGML v1.0//EN
CALSCALE:GREGORIAN
METHOD:PUBLISH
X-WR-CALNAME:Network.Vegas
X-ORIGINAL-URL:https://network.vegas
X-WR-CALDESC:Events for Network.Vegas
REFRESH-INTERVAL;VALUE=DURATION:PT1H
X-Robots-Tag:noindex
X-PUBLISHED-TTL:PT1H
BEGIN:VTIMEZONE
TZID:America/Los_Angeles
BEGIN:DAYLIGHT
TZOFFSETFROM:-0800
TZOFFSETTO:-0700
TZNAME:PDT
DTSTART:20240310T100000
END:DAYLIGHT
BEGIN:STANDARD
TZOFFSETFROM:-0700
TZOFFSETTO:-0800
TZNAME:PST
DTSTART:20241103T090000
END:STANDARD
BEGIN:DAYLIGHT
TZOFFSETFROM:-0800
TZOFFSETTO:-0700
TZNAME:PDT
DTSTART:20250309T100000
END:DAYLIGHT
BEGIN:STANDARD
TZOFFSETFROM:-0700
TZOFFSETTO:-0800
TZNAME:PST
DTSTART:20251102T090000
END:STANDARD
BEGIN:DAYLIGHT
TZOFFSETFROM:-0800
TZOFFSETTO:-0700
TZNAME:PDT
DTSTART:20260308T100000
END:DAYLIGHT
BEGIN:STANDARD
TZOFFSETFROM:-0700
TZOFFSETTO:-0800
TZNAME:PST
DTSTART:20261101T090000
END:STANDARD
END:VTIMEZONE
BEGIN:VEVENT
DTSTART;TZID=America/Los_Angeles:20250417T170000
DTEND;TZID=America/Los_Angeles:20250417T170000
DTSTAMP:20260422T040538
CREATED:20250407T055317Z
LAST-MODIFIED:20250407T055317Z
UID:45246-1744909200-1744909200@network.vegas
SUMMARY:Infusion For Health Grand Opening & Healthcare Happy Hour
DESCRIPTION:
URL:https://network.vegas/calendar/infusion-for-health-grand-opening-healthcare-happy-hour-2/
LOCATION:NV
CATEGORIES:Education,Health & Wellness,Networking
ATTACH;FMTTYPE=image/jpeg:https://network.vegas/wp-content/uploads/2025/04/tmp_7991_3-7-2025_101254_.jpg
END:VEVENT
BEGIN:VEVENT
DTSTART;TZID=America/Los_Angeles:20250418T170000
DTEND;TZID=America/Los_Angeles:20250418T170000
DTSTAMP:20260422T040538
CREATED:20250304T031542Z
LAST-MODIFIED:20250304T031542Z
UID:44670-1744995600-1744995600@network.vegas
SUMMARY:Infusion For Health Grand Opening & Healthcare Happy Hour
DESCRIPTION:
URL:https://network.vegas/calendar/infusion-for-health-grand-opening-healthcare-happy-hour/
LOCATION:NV
CATEGORIES:Education,Health & Wellness,Networking
END:VEVENT
BEGIN:VEVENT
DTSTART;TZID=America/Los_Angeles:20250423T140000
DTEND;TZID=America/Los_Angeles:20250423T140000
DTSTAMP:20260422T040538
CREATED:20250407T054800Z
LAST-MODIFIED:20250407T055044Z
UID:45171-1745416800-1745416800@network.vegas
SUMMARY:How To Get a Grant for Your Business & How to Build your Non-Profit Workshop
DESCRIPTION:
URL:https://network.vegas/calendar/how-to-get-a-grant-for-your-business-how-to-build-your-non-profit-workshop-3/
LOCATION:NV
CATEGORIES:Education,Health & Wellness,Networking
ATTACH;FMTTYPE=image/png:https://network.vegas/wp-content/uploads/2025/03/tmp_7975_1-27-2025_74527_.png
END:VEVENT
END:VCALENDAR