BEGIN:VCALENDAR
VERSION:2.0
PRODID:-//Network.Vegas - ECPv6.15.20//NONSGML v1.0//EN
CALSCALE:GREGORIAN
METHOD:PUBLISH
X-ORIGINAL-URL:https://network.vegas
X-WR-CALDESC:Events for Network.Vegas
REFRESH-INTERVAL;VALUE=DURATION:PT1H
X-Robots-Tag:noindex
X-PUBLISHED-TTL:PT1H
BEGIN:VTIMEZONE
TZID:America/Los_Angeles
BEGIN:DAYLIGHT
TZOFFSETFROM:-0800
TZOFFSETTO:-0700
TZNAME:PDT
DTSTART:20240310T100000
END:DAYLIGHT
BEGIN:STANDARD
TZOFFSETFROM:-0700
TZOFFSETTO:-0800
TZNAME:PST
DTSTART:20241103T090000
END:STANDARD
BEGIN:DAYLIGHT
TZOFFSETFROM:-0800
TZOFFSETTO:-0700
TZNAME:PDT
DTSTART:20250309T100000
END:DAYLIGHT
BEGIN:STANDARD
TZOFFSETFROM:-0700
TZOFFSETTO:-0800
TZNAME:PST
DTSTART:20251102T090000
END:STANDARD
BEGIN:DAYLIGHT
TZOFFSETFROM:-0800
TZOFFSETTO:-0700
TZNAME:PDT
DTSTART:20260308T100000
END:DAYLIGHT
BEGIN:STANDARD
TZOFFSETFROM:-0700
TZOFFSETTO:-0800
TZNAME:PST
DTSTART:20261101T090000
END:STANDARD
END:VTIMEZONE
BEGIN:VEVENT
DTSTART;TZID=America/Los_Angeles:20250304T080000
DTEND;TZID=America/Los_Angeles:20250304T173000
DTSTAMP:20260422T052046
CREATED:20240926T205345Z
LAST-MODIFIED:20240926T205345Z
UID:41306-1741075200-1741109400@network.vegas
SUMMARY:Health 2.0 Conference USA 2025
DESCRIPTION:Want to expand your network and learn more about the latest trends in the healthcare industry?\n\n\nWant to expand your network and learn more about the latest trends in the healthcare industry? Wait no more! Health 2.0 Conference is coming to the USA on March 4-6\, 2025 at the Luxor Hotel & Casino\, Las Vegas\, USA with a multitude of learning\, networking\, and sponsorship opportunities Be a part of insightful discussions and debates highlighting the innovations and disruptions in MedTech\, case reviews\, new approaches to boosting patient outcomes\, developments in pharma\, biotech\, wellness\, prevailing fraud and scam offenses\, along with preventive measures to combat these spammers. You can meet the global thought leaders of the sector while exhibiting your solutions and boosting your brand awareness at this health conference.
URL:https://network.vegas/calendar/health-2-0-conference-usa-2025/
LOCATION:Luxor Hotel & Casino\, 3900 South Las Vegas Boulevard\, Las Vegas\, NV\, 89119\, United States
CATEGORIES:Health & Wellness
ATTACH;FMTTYPE=image/jpeg:https://network.vegas/wp-content/uploads/2024/09/8d77ff116df1dd375d6c71821ae4501a.jpg
END:VEVENT
BEGIN:VEVENT
DTSTART;TZID=America/Los_Angeles:20250305T180000
DTEND;TZID=America/Los_Angeles:20250305T200000
DTSTAMP:20260422T052046
CREATED:20250129T030217Z
LAST-MODIFIED:20250220T033539Z
UID:43635-1741197600-1741204800@network.vegas
SUMMARY:Healthcare and Business Networking | Elevating Your Potential - Vegas
DESCRIPTION:Strive welcomes you to ‘Healthcare and Business Networking’\, an event for tenured and newcomers at Great American Pub! Event is 21+.\n\n\nStrive welcomes you to ‘Healthcare and Business Networking’\, Vegas’s hottest networking event! We are set in the perfect central location for all to join. \n \nAre you interested in healthcare and business? Want to elevate your career? Meet Medical Professionals\, Consultants\, Researchers\, Pioneers in the Field\, and more who are active in the space or are eager to get started. \n \n**This will be a multi-vertical event** \nThere will be professionals with backgrounds in the arts\, finance\, tech\, real estate\, healthcare\, and more. Come with an open mind\, and leave with connections that wouldn’t be possible otherwise! \n \nPack some business cards and come with an open mind! \n \nMeet your future business partners\, employers\, coworkers\, investors\, and friends. You don’t want to miss this opportunity to expand your network and create a brighter future. \n \nWe will have a space for our event to check-in. \n \nThe event will go from 6:00 PM – 8:00 PM(feel free to come at any point in this timeframe). \n \nName tags will be provided. \n \nBusiness casual dress code. Job fair attire. \n \nRemember – it’s not about who you know today\, it’s who you’ll meet tomorrow! \n \nWe look forward to meeting you at the event! \n \nSincerely\, \nStrive Networking Team \n \nRefund requests are permitted up to 24 hours after purchase\, so long as we are not within 48 hours before the event start time. Refunds will be made in full and repaid to your method of payment. Note that we are unable to reimburse for eventbrite fees. \n \nDisclaimer: By attending Strive Networking events you agree to photos/videos taken during the event being used to promote future events.
URL:https://network.vegas/calendar/healthcare-and-business-networking-elevating-your-potential-vegas/
LOCATION:Great American Pub\, 4145 South Grand Canyon Drive\, Las Vegas\, NV\, 89147\, United States
CATEGORIES:Health & Wellness,Networking
ATTACH;FMTTYPE=image/jpeg:https://network.vegas/wp-content/uploads/2025/01/55dc710665fa0259e7dd5144a3e5e939.jpg
END:VEVENT
BEGIN:VEVENT
DTSTART;TZID=America/Los_Angeles:20250306T140000
DTEND;TZID=America/Los_Angeles:20250306T140000
DTSTAMP:20260422T052046
CREATED:20250203T215912Z
LAST-MODIFIED:20250203T215912Z
UID:43850-1741269600-1741269600@network.vegas
SUMMARY:Mental Health Career/Resource Fair/Mixer
DESCRIPTION:
URL:https://network.vegas/calendar/mental-health-career-resource-fair-mixer-2/
LOCATION:NV
CATEGORIES:Education,Health & Wellness,Networking
END:VEVENT
BEGIN:VEVENT
DTSTART;TZID=America/Los_Angeles:20250307T030000
DTEND;TZID=America/Los_Angeles:20250307T030000
DTSTAMP:20260422T052046
CREATED:20250203T215911Z
LAST-MODIFIED:20250203T215911Z
UID:43849-1741316400-1741316400@network.vegas
SUMMARY:Mental Health Career/Resource Fair/Mixer
DESCRIPTION:
URL:https://network.vegas/calendar/mental-health-career-resource-fair-mixer/
LOCATION:NV
CATEGORIES:Education,Health & Wellness,Networking
END:VEVENT
BEGIN:VEVENT
DTSTART;TZID=America/Los_Angeles:20250325T180000
DTEND;TZID=America/Los_Angeles:20250325T210000
DTSTAMP:20260422T052046
CREATED:20250324T194633Z
LAST-MODIFIED:20250324T194636Z
UID:45012-1742925600-1742936400@network.vegas
SUMMARY:Yoga & Wellness Mini-Retreat with Networking
DESCRIPTION:Transform your mind\, body and soul with this immersive wellness and mindset mini-retreat. This unique experience surrounds you with 360º projections\, transporting you to breathtaking natural environments and surreal\, imagined spaces. Reconnect with yourself\, find balance\, and nurture your mindset in a setting designed to inspire peace and transformation.\n\nPlease plan on arriving 15-20 minutes prior to allow ample time for parking and check-in.\n\nWe will begin at 6pm.\n\nThis mini-wellness session includes\n\n 	60 Minutes of Light Yoga Stretches\n 	30 Minutes of a Guided Mindful Meditation\n 	20 Minutes of Sound Healing\n\nAfter the session\, you’re invited to enjoy our vendor partners and networking as well as play our interactive games\, visuals and full service bar menu.\n\nFood and beverage will be available for purchase.\n\nAbout Your Instructors – Las Vegas Healers\nLas Vegas Healers brings transformative wellness experiences to the dynamic and immersive setting of Electric Playhouse. Our events combine empowering meditations\, restorative yoga\, sound healing\, and aromatherapy with the interactive magic of this cutting-edge venue.
URL:https://network.vegas/calendar/yoga-wellness-mini-retreat-with-networking/
LOCATION:Electric Playhouse\, 3500 S Las Vegas Blvd Suite T-01A\, Las Vegas\, NV 89109\, USA\, Las Vegas
CATEGORIES:Health & Wellness
ATTACH;FMTTYPE=image/jpeg:https://network.vegas/wp-content/uploads/2025/03/EP-Yoga-19.jpg
ORGANIZER;CN="Electric Playhouse":MAILTO:VegasEvents@Electricplayhouse.com
END:VEVENT
BEGIN:VEVENT
DTSTART;TZID=America/Los_Angeles:20250325T220000
DTEND;TZID=America/Los_Angeles:20250325T220000
DTSTAMP:20260422T052046
CREATED:20250304T031542Z
LAST-MODIFIED:20250304T031542Z
UID:44668-1742940000-1742940000@network.vegas
SUMMARY:Pediatric Round Table
DESCRIPTION:
URL:https://network.vegas/calendar/pediatric-round-table/
LOCATION:NV
CATEGORIES:Education,Health & Wellness,Networking
END:VEVENT
END:VCALENDAR