BEGIN:VCALENDAR
VERSION:2.0
PRODID:-//Network.Vegas - ECPv6.15.20//NONSGML v1.0//EN
CALSCALE:GREGORIAN
METHOD:PUBLISH
X-WR-CALNAME:Network.Vegas
X-ORIGINAL-URL:https://network.vegas
X-WR-CALDESC:Events for Network.Vegas
REFRESH-INTERVAL;VALUE=DURATION:PT1H
X-Robots-Tag:noindex
X-PUBLISHED-TTL:PT1H
BEGIN:VTIMEZONE
TZID:America/Los_Angeles
BEGIN:DAYLIGHT
TZOFFSETFROM:-0800
TZOFFSETTO:-0700
TZNAME:PDT
DTSTART:20230312T100000
END:DAYLIGHT
BEGIN:STANDARD
TZOFFSETFROM:-0700
TZOFFSETTO:-0800
TZNAME:PST
DTSTART:20231105T090000
END:STANDARD
BEGIN:DAYLIGHT
TZOFFSETFROM:-0800
TZOFFSETTO:-0700
TZNAME:PDT
DTSTART:20240310T100000
END:DAYLIGHT
BEGIN:STANDARD
TZOFFSETFROM:-0700
TZOFFSETTO:-0800
TZNAME:PST
DTSTART:20241103T090000
END:STANDARD
BEGIN:DAYLIGHT
TZOFFSETFROM:-0800
TZOFFSETTO:-0700
TZNAME:PDT
DTSTART:20250309T100000
END:DAYLIGHT
BEGIN:STANDARD
TZOFFSETFROM:-0700
TZOFFSETTO:-0800
TZNAME:PST
DTSTART:20251102T090000
END:STANDARD
END:VTIMEZONE
BEGIN:VEVENT
DTSTART;TZID=America/Los_Angeles:20240803T100000
DTEND;TZID=America/Los_Angeles:20240803T150000
DTSTAMP:20260422T141843
CREATED:20240802T175122Z
LAST-MODIFIED:20240802T175122Z
UID:38849-1722679200-1722697200@network.vegas
SUMMARY:East Valley 24th Annual Health And Wellness Expo
DESCRIPTION:Join us at the East Valley 24th Annual Health And Wellness Expo for a day of fun\, learning\, and taking care of your mind\, body\, and soul!\n\n\nEast Valley 24th Annual Health And Wellness Expo \nJoin us for the East Valley’s most anticipated Health And Wellness Expo! This exciting event is back for its 24th year\, bringing together a diverse range of health professionals\, wellness experts\, and enthusiasts under one roof. \nHosted at the Mesa Convention Center Bldg. B\, this in-person gathering promises to be a day filled with informative sessions\, interactive exhibits\, and engaging activities. \nDiscover the latest trends in health and wellness\, explore innovative products and services\, and gain valuable insights from renowned speakers. Whether you’re interested in fitness\, nutrition\, mental health\, or holistic healing\, there’s something for everyone at this expo. \nDon’t miss out on this incredible opportunity to connect with like-minded individuals\, learn from experts in the field\, and take a step towards a healthier and happier lifestyle. Mark your calendars and join us at the East Valley 24th Annual Health And Wellness Expo! \nE﻿xhibitor Line: 602-625-3000  info@HealthAndWellnessExpo.Com
URL:https://network.vegas/calendar/east-valley-24th-annual-health-and-wellness-expo/
LOCATION:Mesa Convention Center Bldg. B.\, 263 North Center Street\, Mesa\, AZ\, 85201\, United States
CATEGORIES:Health & Wellness
ATTACH;FMTTYPE=image/jpeg:https://network.vegas/wp-content/uploads/2024/08/fd5e2a205520852d84cc8c39a125cb59.jpg
END:VEVENT
BEGIN:VEVENT
DTSTART;TZID=America/Los_Angeles:20240821T180000
DTEND;TZID=America/Los_Angeles:20240821T190000
DTSTAMP:20260422T141843
CREATED:20240805T184352Z
LAST-MODIFIED:20240821T213732Z
UID:38958-1724263200-1724266800@network.vegas
SUMMARY:CME: Obesity Epidemic in Nevada
DESCRIPTION:The Clark County Medical Society designates this live activity for a maximum of 1.0 AMA PRA Category 1 CreditTM. Physicians should claim only the credit commensurate with the extent of their participation in the activity. The Clark County Medical Society is accredited by the Utah Medical Association to provide continuing medical education for physicians.
URL:https://network.vegas/calendar/cme-obesity-epidemic-in-nevada/
LOCATION:NV
CATEGORIES:Health & Wellness,Professional Association
ATTACH;FMTTYPE=image/png:https://network.vegas/wp-content/uploads/2024/08/18-Obesity-08.21.2024-K3hTT3.tmp_.png
END:VEVENT
BEGIN:VEVENT
DTSTART;TZID=America/Los_Angeles:20240823T090000
DTEND;TZID=America/Los_Angeles:20240823T093000
DTSTAMP:20260422T141843
CREATED:20240805T184458Z
LAST-MODIFIED:20240821T213949Z
UID:39009-1724403600-1724405400@network.vegas
SUMMARY:Ribbon Cutting Celebration - 2 Year Anniversary - Coronado Health Direct Primary Care
DESCRIPTION:Please join us to celebrate the 2 Year Anniversary of Coronado Health Direct Primary Care in Henderson! Refreshments will be served. Coronado Health is your friendly\, neighborhood Direct Primary Care facility\, delivering affordable and accessible healthcare to everyone who walks through our doors. Discover a different kind of healthcare with flexible same-day or next-day appointments\, longer\, more comprehensive sessions\, and an amazing doctor-patient relationship to guide and support you in your personal wellness journey.
URL:https://network.vegas/calendar/ribbon-cutting-celebration-2-year-anniversary-coronado-health-direct-primary-care/
LOCATION:NV
CATEGORIES:Health & Wellness,Ribbon Cutting
ATTACH;FMTTYPE=image/jpeg:https://network.vegas/wp-content/uploads/2024/08/CH_06252024145955-7mQn9I.tmp_.jpg
END:VEVENT
BEGIN:VEVENT
DTSTART;TZID=America/Los_Angeles:20240826T080000
DTEND;TZID=America/Los_Angeles:20240826T170000
DTSTAMP:20260422T141843
CREATED:20240827T020016Z
LAST-MODIFIED:20240827T020018Z
UID:39977-1724659200-1724691600@network.vegas
SUMMARY:Healthcare Heroes 2024
DESCRIPTION:recognition\, Nevada’s healthcare workers and contributors. Healthcare Heroes is the first\, and longest running\, program of its kind. As we celebrate nearly two decades of shedding light on remarkable healthcare professionals\, it’s more important than ever to recognize the contributions of Nevada’s Healthcare Heroes. \n\n\n\nWhether it’s the volunteer that brings the paper every morning in the hospital\, the care coordinator that helps connect to necessary services\, the nurse or doctor that selflessly cares for patients or countless others\, Healthcare Heroes are critical to Nevada. \n\n\n\nIt is an honor to recognize these individuals each year. Links to nominate\, attend the event or learn more about the program are above. Please reach out to the team with questions at events@nevadabusiness.com.
URL:https://network.vegas/calendar/healthcare-heroes-2024/
LOCATION:Green Valley Ranch – Grand Ballroom\, 2300 Paseo Verde Pkwy Henderson\, NV 89052\, Las Vegas
CATEGORIES:Awards,Community,Featured,Health & Wellness
END:VEVENT
BEGIN:VEVENT
DTSTART;TZID=America/Los_Angeles:20240831T100000
DTEND;TZID=America/Los_Angeles:20240831T170000
DTSTAMP:20260422T141843
CREATED:20240507T080414Z
LAST-MODIFIED:20240830T233820Z
UID:37671-1725098400-1725123600@network.vegas
SUMMARY:Las Vegas Beauty Expo
DESCRIPTION:MYVEGAS Magazine & Beautiful Magazine proudly present the Las Vegas Beauty Expo!\n\n\n\nDON’T MISS THE WOMEN’S EVENT OF THE YEAR!\n– ON-SITE BEAUTY SERVICES!\n– TONS OF BEAUTY PRIZES & GIVEAWAYS\n– SURPRISES AND SPECIAL GUESTS!!\n \nRegister online for FREE\, or $5 at the door!\n\n \nVENDORS:\nExpo booths are on sale now! Visit lasvegasbeautyexpo.com for more information on securing a booth today!\n\n\nAUGUST 31\, 2024\n10 AM – 5 PM\nORLEANS
URL:https://network.vegas/calendar/las-vegas-beauty-expo-2/
LOCATION:The Orleans Hotel & Casino\, 4500 W Tropicana Ave\, Las Vegas\, NV\, 89103\, United States
CATEGORIES:Convention,Featured,Health & Wellness
ATTACH;FMTTYPE=image/jpeg:https://network.vegas/wp-content/uploads/2024/05/5b5a0d048d67f6a42abc6c38a617a39c.jpg
GEO:36.1027192;-115.201984
X-APPLE-STRUCTURED-LOCATION;VALUE=URI;X-ADDRESS=The Orleans Hotel & Casino 4500 W Tropicana Ave Las Vegas NV 89103 United States;X-APPLE-RADIUS=500;X-TITLE=4500 W Tropicana Ave:geo:-115.201984,36.1027192
END:VEVENT
END:VCALENDAR